BEGIN:VCALENDAR
VERSION:2.0
PRODID:-//kultura.tarnów - ECPv6.4.0.1//NONSGML v1.0//EN
CALSCALE:GREGORIAN
METHOD:PUBLISH
X-WR-CALNAME:kultura.tarnów
X-ORIGINAL-URL:https://kultura.tarnow.pl
X-WR-CALDESC:Wydarzenia dla
REFRESH-INTERVAL;VALUE=DURATION:PT1H
X-Robots-Tag:noindex
X-PUBLISHED-TTL:PT1H
BEGIN:VTIMEZONE
TZID:Europe/Warsaw
BEGIN:DAYLIGHT
TZOFFSETFROM:+0100
TZOFFSETTO:+0200
TZNAME:CEST
DTSTART:20250330T010000
END:DAYLIGHT
BEGIN:STANDARD
TZOFFSETFROM:+0200
TZOFFSETTO:+0100
TZNAME:CET
DTSTART:20251026T010000
END:STANDARD
END:VTIMEZONE
BEGIN:VEVENT
DTSTART;TZID=Europe/Warsaw:20250105T100000
DTEND;TZID=Europe/Warsaw:20250105T170000
DTSTAMP:20260424T152156
CREATED:20241203T113718Z
LAST-MODIFIED:20241203T113718Z
UID:10022576-1736071200-1736096400@kultura.tarnow.pl
SUMMARY:Grzegorz Kumorek "Stodoła\, dom\, las"
DESCRIPTION:W programie wystawy:\n1.12.2024 (niedziela)\ng. 10:00 Wyjazd spod BWA Pałacyku Strzeleckiego (ul. Słowackiego 1) do Olszowej / bezpłatny bus\, ilość miejsc ograniczona\, obowiązują zapisy: 14 688 88 20\ng. 11:00 Start spaceru w Olszowej (Olszowa 7\, 32-840 Olszowa) – spacer po Olszowej (ok. 40 min.) i zwiedzanie pracowni artysty / wstęp wolny\, bez zapisów\ng. 13:30 Po wystawie Grzegorza Kumorka „Stodoła\, dom\, las” oprowadza Katarzyna Roj / BWA\, Pałacyk Strzelecki\, wstęp wolny \nNiedziela 12.01 – Finisaż \nGrand Prix IX Salonu BWA Tarnów \nTytułowe Stodoła\, dom\, las to elementy krajobrazu wsi Olszowa\, gdzie mieszka artysta. Miejsce\, niegdyś zamieszkane przez jego dziadków\, teraz należy do Grzegorza Kumorka. Teren\, położony na wzgórzu\, otacza swobodnie rozrastająca się przyroda\, która stanowi istotną bohaterkę zarówno wystawy\, jak i twórczości artysty. \nGrzegorz wchodzi z tym miejscem w dialogiczny taniec\, konsekwentnie odkrywając\, przesuwając\, łącząc i budując. Jak sam wspomina\, jego pierwsze dziecięce zabawy polegały na budowaniu konstrukcji z patyków znalezionych wokół gospodarstwa. Gałęzie i patyki pozostały jednym z głównych materiałów prac artysty. Ten proces\, głęboko zakorzeniony w przeszłości\, cechuje pokora i szacunek do tworzywa. Grzegorz określa go mianem „wiejskiego” – bo na wsi nic się nie marnuje\, wszystko ma wartość i jest wykorzystywane zgodnie z tym\, co pod ręką. \nPodobnie jak kotłuje się pobliska przyroda\, tak Grzegorz przeczesuje i przekłada kolejne znalezione fragmenty\, aż w końcu stworzą odpowiednią kompozycję. W tym wirze patyk staje się wszystkim – narzędziem\, materiałem\, magiczną różdżką\, kością\, niebem\, granicą.  Tworzenie tych małych światów nie wypływa z potrzeby kontroli\, lecz z fascynacji samym procesem\, oddania się intuicji\, gdyż końcowy efekt zawsze pozostaje niepewny. Grzebanie staje się bramą do jego twórczości. Grzebie w ziemi\, w przedmiotach po babci\, szukając z ciekawością i konsekwencją\, ale też grzebie\, by w rytualny sposób pożegnać przeszłość\, oddać jej szacunek\, domknąć jakiś etap. \nPrzestrzeń wyznaczona przez stodołę\, dom i las jest miejscem spotkania życia i śmierci\, a jego prace afirmują i akceptują procesy\, które się tam dokonują. Dla artysty to podróż osobista – zmaganie się z materią\, wspomnieniami\, oczekiwaniami. Jest to zarówno dosłowne\, jak i symboliczne budowanie własnego miejsca\, wykorzystanie tego\, co zastane;  nadanie mu nowego znaczenia przez formę wizualną. \nEkspozycja odtwarza tytułowy układ krajobrazu gospodarstwa z Olszowej\, przypisując prace do konkretnych jego elementów\, które nierzadko znajdują się na granicy poszczególnych przestrzeni. \nGrzegorz Kumorek (ur. 1990) artysta wizualny\, rzeźbiarz. Absolwent Liceum Sztuk Plastycznych w Tarnowie. Ukończył studia na Wydziale Rzeźby Akademii Sztuk Pięknych w Krakowie\, gdzie od 2020 r. pracuje jako asystent. Brał udział w 17. Przeglądzie Sztuki Survival we Wrocławiu (2019)\, zdobył Grand Prix IX Salonu BWA Tarnów (2023)\, finalista Biennale Rybie Oko 11 (2024). Swoje prace prezentował m. in. w Muzeum Narodowym w Krakowie\, Gdańskiej Galerii Miejskiej\, Muzeum Współczesnym Wrocław. Jego pracownia mieści się w rodzinnej wsi Olszowa (powiat tarnowski). \nGodziny otwarcia ekspozycji: \nwtorek-piątek: 10:00-17:00 – ostatnie wejście na wystawę o g. 16:45\nniedziela: 11:00-18:00 – ostatnie wejście na wystawę o g. 17:45\nwstęp wolny na wystawę i wydarzenia towarzyszące
URL:https://kultura.tarnow.pl/wydarzenie/grzegorz-kumorek-stodola-dom-las/2025-01-05/
LOCATION:Biuro Wystaw Artystycznych\, ul. Słowackiego 1\, Tarnów\, małopolskie\, 33-100\, Polska
CATEGORIES:wystawy
ORGANIZER;CN="Biuro Wystaw Artystycznych":MAILTO:biuro@bwa.tarnow.pl
GEO:50.0178761;20.9827521
X-APPLE-STRUCTURED-LOCATION;VALUE=URI;X-ADDRESS=Biuro Wystaw Artystycznych ul. Słowackiego 1 Tarnów małopolskie 33-100 Polska;X-APPLE-RADIUS=500;X-TITLE=ul. Słowackiego 1:geo:20.9827521,50.0178761
END:VEVENT
BEGIN:VEVENT
DTSTART;TZID=Europe/Warsaw:20250105T180000
DTEND;TZID=Europe/Warsaw:20250105T200000
DTSTAMP:20260424T152156
CREATED:20241126T083506Z
LAST-MODIFIED:20241126T083506Z
UID:10022524-1736100000-1736107200@kultura.tarnow.pl
SUMMARY:Wielka Noworoczna Gala Wiedeńska - Johann Strauss i Przyjaciele
DESCRIPTION:Wielka Noworoczna Gala Wiedeńska – Johann Strauss i Przyjaciele to prawdziwe święto muzyki\, które od lat uchodzi za jedno z najbardziej prestiżowych widowisk w Polsce! Niezrównana elegancja i humor\, piękne kostiumy oraz mistrzowskie wykonania sprawiają\, że każde spotkanie z tym muzycznym widowiskiem jest niezapomnianym przeżyciem. Zarówno dla koneserów muzyki klasycznej\, jak i tych\, którzy chcą po prostu dać się ponieść rytmom wiedeńskich brzmień. \nWydarzenie to zabiera widzów w podróż przez magiczny świat XIX-wiecznego Wiednia\, pełnego przepychu\, wytwornych bali i niekończących się zabaw. \nNa scenie pojawiają się soliści najwyższej klasy\, zarówno z polskich\, jak i zagranicznych teatrów operowych. Gwiazdy Teatru Wielkiego Opery Narodowej w Warszawie\, Opery w Magdeburgu\, Opery Lwowskiej oraz K&K Berliner Philharmoniker. \nIch głosy i charyzma tworzą niezapomniany klimat\, przeplatając dostojność opery z lekkim humorem operetki. Ukoronowaniem widowiska jest udział „Royal Strauss Orchestra” – zespołu\, który niczym orkiestra prosto z wiedeńskich sal balowych\, wybrzmiewa dźwiękami pełnymi emocji\, wyrafinowania i elegancji. \nNa szczególną uwagę zasługują także niezwykle utalentowani soliści Grand Royal Ballet\, którzy przyciągają spojrzenia. Ich choreografie są pełne wdzięku\, a momenty humorystyczne i figlarne akcenty w tańcu sprawiają\, że publiczność nie tylko podziwia kunszt artystów\, ale też może pozwolić sobie na szeroki uśmiech. \nWidowisko łączy muzyczną klasykę z pełnym blasku show. Porywające arie\, żywiołowe polki i roztańczone walce – Wielka Gala Wiedeńska to coś więcej niż koncert. To prawdziwy spektakl pełen humoru\, romantycznych uniesień i wirtuozerii. \nJednym słowem – elegancja\, klasa\, radość i muzyka\, której nigdy dość! Jeśli wciąż nie byliście – przygotujcie się na wieczór pełen braw\, owacji i spontanicznych uśmiechów. \nCzas trwania: 2 godziny (i 15 minut przerwy) \nBilety: 150 zł (normalny)\, 140 zł (ulgowy)\, 120 zł (pufy)\n \n \n 
URL:https://kultura.tarnow.pl/wydarzenie/wielka-noworoczna-gala-wiedenska-johann-strauss-i-przyjaciele/
LOCATION:Centrum Sztuki Mościce\, Traugutta 1\, Tarnów\, małopolskie\, 33-101\, Polska
CATEGORIES:koncerty
ATTACH;FMTTYPE=image/jpeg:https://kultura.tarnow.pl/wp-content/uploads/img_4b2a5cfa7fe1c5582ec50c82e22ccb76.jpeg
GEO:50.009833;20.92706
X-APPLE-STRUCTURED-LOCATION;VALUE=URI;X-ADDRESS=Centrum Sztuki Mościce Traugutta 1 Tarnów małopolskie 33-101 Polska;X-APPLE-RADIUS=500;X-TITLE=Traugutta 1:geo:20.92706,50.009833
END:VEVENT
END:VCALENDAR