BEGIN:VCALENDAR
VERSION:2.0
PRODID:-//kultura.tarnów - ECPv6.4.0.1//NONSGML v1.0//EN
CALSCALE:GREGORIAN
METHOD:PUBLISH
X-WR-CALNAME:kultura.tarnów
X-ORIGINAL-URL:https://kultura.tarnow.pl
X-WR-CALDESC:Wydarzenia dla
REFRESH-INTERVAL;VALUE=DURATION:PT1H
X-Robots-Tag:noindex
X-PUBLISHED-TTL:PT1H
BEGIN:VTIMEZONE
TZID:Europe/Warsaw
BEGIN:DAYLIGHT
TZOFFSETFROM:+0100
TZOFFSETTO:+0200
TZNAME:CEST
DTSTART:20250330T010000
END:DAYLIGHT
BEGIN:STANDARD
TZOFFSETFROM:+0200
TZOFFSETTO:+0100
TZNAME:CET
DTSTART:20251026T010000
END:STANDARD
END:VTIMEZONE
BEGIN:VEVENT
DTSTART;TZID=Europe/Warsaw:20250104T190000
DTEND;TZID=Europe/Warsaw:20250104T210000
DTSTAMP:20260424T120827
CREATED:20241212T130957Z
LAST-MODIFIED:20241212T130957Z
UID:10023372-1736017200-1736024400@kultura.tarnow.pl
SUMMARY:Kolędowanie z Puellae Orantes
DESCRIPTION:Dziewczęcy Chór Katedralny PUELLAE ORANTES serdecznie zaprasza na wspólne kolędowanie 4 stycznia\, o godz. 19.00 w Bazylice Katedralnej w Tarnowie. \nBędzie to pierwszy koncert w jubileuszowym roku 40-lecia działalności chóru. Zostaną zaprezentowane kolędy i pastorałki zaaranżowane na zamówienie PUELLE ORANTES przez polskich kompozytorów. W staropolskiej tradycji śpiew kolęd jednoczył pokolenia Polaków\, dlatego czerpiąc z tego ogromnego skarbca chór pragnie również zaangażować w śpiew publiczność. Aby ułatwić wszystkim czynne włączenie się w koncert teksty kolęd będą widoczne na ekranach\, a Katedra zostanie specjalnie\, klimatycznie oświetlona\, by jeszcze bardziej odczuć atmosferę okresu Świąt Bożego Narodzenia. \nWstęp na koncert wolny.
URL:https://kultura.tarnow.pl/wydarzenie/koledowanie-z-puellae-orantes/
LOCATION:Bazylika Katedralna w Tarnowie\, ul. Kapitulna 2\, Tarnów\, małopolskie\, 33-100\, Polska
CATEGORIES:koncerty
ATTACH;FMTTYPE=image/jpeg:https://kultura.tarnow.pl/wp-content/uploads/puellae-1.jpg
GEO:50.013388;20.987599
X-APPLE-STRUCTURED-LOCATION;VALUE=URI;X-ADDRESS=Bazylika Katedralna w Tarnowie ul. Kapitulna 2 Tarnów małopolskie 33-100 Polska;X-APPLE-RADIUS=500;X-TITLE=ul. Kapitulna 2:geo:20.987599,50.013388
END:VEVENT
BEGIN:VEVENT
DTSTART;TZID=Europe/Warsaw:20250104T193000
DTEND;TZID=Europe/Warsaw:20250104T213000
DTSTAMP:20260424T120827
CREATED:20241206T070236Z
LAST-MODIFIED:20241206T070236Z
UID:10022602-1736019000-1736026200@kultura.tarnow.pl
SUMMARY:Koncert świąteczny: Mika Urbaniak & Victor Davies
DESCRIPTION:Świąteczne klasyki w akustycznych aranżacjach\nTarnowskie Centrum Kultury zaprasza na Koncert świąteczny z udziałem wybitnych artystów – Miki Urbaniak i Victora Daviesa. 4 stycznia 2025 roku w kameralnych wnętrzach Piwnic TCK będzie można usłyszeć najpiękniejsze bożonarodzeniowe utwory w wyjątkowych akustycznych interpretacjach. \nMika Urbaniak i Victor Davies przygotowali specjalny program\, w którym świąteczne melodie zostaną zaprezentowane w nowych aranżacjach opartych na wokalu i gitarze. Dzięki połączeniu niezwykłego głosu Miki i nastrojowej gry Victora na gitarze\, znane utwory nabiorą świeżego\, głębokiego brzmienia. Artyści wprowadzą publiczność w magiczny klimat świąt\, łącząc tradycję z osobistym stylem i emocjonalną ekspresją. \nMika Urbaniak \nPiosenkarka\, autorka tekstów i kompozytorka\, która rozpoczęła profesjonalną karierę muzyczną w wieku 13 lat. Jako córka legend jazzu – Urszuli Dudziak i Michała Urbaniaka – dorastała w otoczeniu muzyki najwyższej próby. Jej twórczość to unikalne połączenie popu\, jazzu\, hip-hopu\, neo-soulu\, R&B i bluesa. Za debiutancki album „Closer” otrzymała nagrodę Fryderyka w 2009 roku. Występowała na scenach całego świata u boku takich artystów jak Lenny White\, Richard Bona czy Quincy Jones. Jej niepowtarzalny głos i pełne emocji interpretacje zachwycają publiczność na wszystkich kontynentach. \nVictor Davies \nMuzyk\, kompozytor\, aranżer i malarz z Londynu o afrykańskich korzeniach. Jego twórczość łączy akustyczne brzmienia z popową estetyką\, tworząc unikatowy styl ceniony na całym świecie. Jego albumy zdobyły uznanie krytyków\, a utwory takie jak „Fire” podbijały listy przebojów. Koncertował w prestiżowych klubach Blue Note w Europie\, USA i Japonii\, dzieląc scenę z legendami muzyki\, w tym z Quincym Jonesem\, Royem Hargrove’em i Urszulą Dudziak. Jako producent współtworzył nagradzane albumy Miki Urbaniak – „Follow You” i „Once in a Lifetime”.„Muzyka to dla mnie pole do eksperymentów bez granic gatunkowych. Dążę do tego\, by każda kompozycja była prawdziwym dziełem sztuki.” – Victor Davies \nData i godzina: 4 stycznia 2025\, godz. 19:30\nMiejsce: Piwnice TCK (Tarnów\, Rynek 5)\nBilety: 50 zł (do nabycia online oraz w Tarnowskim Centrum Kultury)\nOrganizator: Tarnowskie Centrum Kultury – Instytucja Kultury Miasta Tarnowa
URL:https://kultura.tarnow.pl/wydarzenie/koncert-swiateczny-mika-urbaniak-victor-davies/
LOCATION:Tarnowskie Centrum Kultury\, Rynek 5\, Tarnów\, małopolskie\, 33-100\, Polska
CATEGORIES:koncerty
GEO:50.012155;20.9878542
X-APPLE-STRUCTURED-LOCATION;VALUE=URI;X-ADDRESS=Tarnowskie Centrum Kultury Rynek 5 Tarnów małopolskie 33-100 Polska;X-APPLE-RADIUS=500;X-TITLE=Rynek 5:geo:20.9878542,50.012155
END:VEVENT
END:VCALENDAR