BEGIN:VCALENDAR
VERSION:2.0
PRODID:-//kultura.tarnów - ECPv6.4.0.1//NONSGML v1.0//EN
CALSCALE:GREGORIAN
METHOD:PUBLISH
X-WR-CALNAME:kultura.tarnów
X-ORIGINAL-URL:https://kultura.tarnow.pl
X-WR-CALDESC:Wydarzenia dla
REFRESH-INTERVAL;VALUE=DURATION:PT1H
X-Robots-Tag:noindex
X-PUBLISHED-TTL:PT1H
BEGIN:VTIMEZONE
TZID:Europe/Warsaw
BEGIN:DAYLIGHT
TZOFFSETFROM:+0100
TZOFFSETTO:+0200
TZNAME:CEST
DTSTART:20240331T010000
END:DAYLIGHT
BEGIN:STANDARD
TZOFFSETFROM:+0200
TZOFFSETTO:+0100
TZNAME:CET
DTSTART:20241027T010000
END:STANDARD
END:VTIMEZONE
BEGIN:VEVENT
DTSTART;TZID=Europe/Warsaw:20241218T090000
DTEND;TZID=Europe/Warsaw:20241218T150000
DTSTAMP:20260424T171510
CREATED:20241030T084509Z
LAST-MODIFIED:20241030T084509Z
UID:10022474-1734512400-1734534000@kultura.tarnow.pl
SUMMARY:„Miniatury w Zbiorach Muzeum Ziemi Tarnowskiej”
DESCRIPTION:Muzeum Ziemi Tarnowskiej zaprasza na wyjątkową wystawę miniatur w ramach\, która realizowana jest w ramach cyklu „Skarby Muzeum Ziemi Tarnowskiej”. Wernisaż odbędzie się 4 listopada 2024 roku o godzinie 18:00 w Muzeum Historii Tarnowa i Regionu (Tarnów\, Rynek 20-21). Ekspozycja będzie dostępna dla zwiedzających od 4 listopada do 31 grudnia 2024 roku. \nTa pierwsza tak obszerna prezentacja obejmuje ponad 150 dzieł z muzealnej kolekcji. Wśród nich znajdują się różnorodne miniatury wykonane w okresie od drugiej połowy XVIII do początku XXI wieku\, a pochodzące z dawnej kolekcji książąt Sanguszków z pałacu w Gumniskach\, zbioru zakupionego od prywatnego kolekcjonera w 1982 roku\, oraz pojedyncze\, cenne obiekty nabyte w drodze darowizn i zakupów. \nMiniatury wystawione na ekspozycji wykonane zostały na takich materiałach jak kość\, pergamin\, metal\, szkło\, papier i drewno. Nie brak wśród nich portretów\, pejzaży\, scen rodzajowych oraz przedstawień religijnych i patriotycznych. Zbiory te mają ogromne znaczenie sentymentalne\, historyczne i artystyczne. Dla zwiedzających stanowić mogą formę wyjątkowych dzieł sztuki\, ale również cenne świadectwa minionych epok. \nGodziny otwarcia: \nponiedziałek: nieczynne\nwtorek: 9.00 – 15.00\nśroda: 9.00 – 15.00\nczwartek: 9.00 – 15.00\npiątek: 9.00 – 17.00\nsobota: nieczynne\nniedziela: 10.00 – 14.00
URL:https://kultura.tarnow.pl/wydarzenie/miniatury-w-zbiorach-muzeum-ziemi-tarnowskiej-2/2024-12-18/
LOCATION:Muzeum Ziemi Tarnowskiej\, Rynek 3\, Tarnów\, małopolskie\, 33-100\, Polska
CATEGORIES:wystawy
ATTACH;FMTTYPE=image/jpeg:https://kultura.tarnow.pl/wp-content/uploads/Miniatury-w-zbiorach_plakat_.jpg
GEO:50.0122989;20.9877958
X-APPLE-STRUCTURED-LOCATION;VALUE=URI;X-ADDRESS=Muzeum Ziemi Tarnowskiej Rynek 3 Tarnów małopolskie 33-100 Polska;X-APPLE-RADIUS=500;X-TITLE=Rynek 3:geo:20.9877958,50.0122989
END:VEVENT
BEGIN:VEVENT
DTSTART;TZID=Europe/Warsaw:20241218T100000
DTEND;TZID=Europe/Warsaw:20241218T170000
DTSTAMP:20260424T171510
CREATED:20241203T113718Z
LAST-MODIFIED:20241203T113718Z
UID:10022561-1734516000-1734541200@kultura.tarnow.pl
SUMMARY:Grzegorz Kumorek "Stodoła\, dom\, las"
DESCRIPTION:W programie wystawy:\n1.12.2024 (niedziela)\ng. 10:00 Wyjazd spod BWA Pałacyku Strzeleckiego (ul. Słowackiego 1) do Olszowej / bezpłatny bus\, ilość miejsc ograniczona\, obowiązują zapisy: 14 688 88 20\ng. 11:00 Start spaceru w Olszowej (Olszowa 7\, 32-840 Olszowa) – spacer po Olszowej (ok. 40 min.) i zwiedzanie pracowni artysty / wstęp wolny\, bez zapisów\ng. 13:30 Po wystawie Grzegorza Kumorka „Stodoła\, dom\, las” oprowadza Katarzyna Roj / BWA\, Pałacyk Strzelecki\, wstęp wolny \nNiedziela 12.01 – Finisaż \nGrand Prix IX Salonu BWA Tarnów \nTytułowe Stodoła\, dom\, las to elementy krajobrazu wsi Olszowa\, gdzie mieszka artysta. Miejsce\, niegdyś zamieszkane przez jego dziadków\, teraz należy do Grzegorza Kumorka. Teren\, położony na wzgórzu\, otacza swobodnie rozrastająca się przyroda\, która stanowi istotną bohaterkę zarówno wystawy\, jak i twórczości artysty. \nGrzegorz wchodzi z tym miejscem w dialogiczny taniec\, konsekwentnie odkrywając\, przesuwając\, łącząc i budując. Jak sam wspomina\, jego pierwsze dziecięce zabawy polegały na budowaniu konstrukcji z patyków znalezionych wokół gospodarstwa. Gałęzie i patyki pozostały jednym z głównych materiałów prac artysty. Ten proces\, głęboko zakorzeniony w przeszłości\, cechuje pokora i szacunek do tworzywa. Grzegorz określa go mianem „wiejskiego” – bo na wsi nic się nie marnuje\, wszystko ma wartość i jest wykorzystywane zgodnie z tym\, co pod ręką. \nPodobnie jak kotłuje się pobliska przyroda\, tak Grzegorz przeczesuje i przekłada kolejne znalezione fragmenty\, aż w końcu stworzą odpowiednią kompozycję. W tym wirze patyk staje się wszystkim – narzędziem\, materiałem\, magiczną różdżką\, kością\, niebem\, granicą.  Tworzenie tych małych światów nie wypływa z potrzeby kontroli\, lecz z fascynacji samym procesem\, oddania się intuicji\, gdyż końcowy efekt zawsze pozostaje niepewny. Grzebanie staje się bramą do jego twórczości. Grzebie w ziemi\, w przedmiotach po babci\, szukając z ciekawością i konsekwencją\, ale też grzebie\, by w rytualny sposób pożegnać przeszłość\, oddać jej szacunek\, domknąć jakiś etap. \nPrzestrzeń wyznaczona przez stodołę\, dom i las jest miejscem spotkania życia i śmierci\, a jego prace afirmują i akceptują procesy\, które się tam dokonują. Dla artysty to podróż osobista – zmaganie się z materią\, wspomnieniami\, oczekiwaniami. Jest to zarówno dosłowne\, jak i symboliczne budowanie własnego miejsca\, wykorzystanie tego\, co zastane;  nadanie mu nowego znaczenia przez formę wizualną. \nEkspozycja odtwarza tytułowy układ krajobrazu gospodarstwa z Olszowej\, przypisując prace do konkretnych jego elementów\, które nierzadko znajdują się na granicy poszczególnych przestrzeni. \nGrzegorz Kumorek (ur. 1990) artysta wizualny\, rzeźbiarz. Absolwent Liceum Sztuk Plastycznych w Tarnowie. Ukończył studia na Wydziale Rzeźby Akademii Sztuk Pięknych w Krakowie\, gdzie od 2020 r. pracuje jako asystent. Brał udział w 17. Przeglądzie Sztuki Survival we Wrocławiu (2019)\, zdobył Grand Prix IX Salonu BWA Tarnów (2023)\, finalista Biennale Rybie Oko 11 (2024). Swoje prace prezentował m. in. w Muzeum Narodowym w Krakowie\, Gdańskiej Galerii Miejskiej\, Muzeum Współczesnym Wrocław. Jego pracownia mieści się w rodzinnej wsi Olszowa (powiat tarnowski). \nGodziny otwarcia ekspozycji: \nwtorek-piątek: 10:00-17:00 – ostatnie wejście na wystawę o g. 16:45\nniedziela: 11:00-18:00 – ostatnie wejście na wystawę o g. 17:45\nwstęp wolny na wystawę i wydarzenia towarzyszące
URL:https://kultura.tarnow.pl/wydarzenie/grzegorz-kumorek-stodola-dom-las/2024-12-18/
LOCATION:Biuro Wystaw Artystycznych\, ul. Słowackiego 1\, Tarnów\, małopolskie\, 33-100\, Polska
CATEGORIES:wystawy
ORGANIZER;CN="Biuro Wystaw Artystycznych":MAILTO:biuro@bwa.tarnow.pl
GEO:50.0178761;20.9827521
X-APPLE-STRUCTURED-LOCATION;VALUE=URI;X-ADDRESS=Biuro Wystaw Artystycznych ul. Słowackiego 1 Tarnów małopolskie 33-100 Polska;X-APPLE-RADIUS=500;X-TITLE=ul. Słowackiego 1:geo:20.9827521,50.0178761
END:VEVENT
BEGIN:VEVENT
DTSTART;TZID=Europe/Warsaw:20241218T100000
DTEND;TZID=Europe/Warsaw:20241218T170000
DTSTAMP:20260424T171510
CREATED:20241203T114127Z
LAST-MODIFIED:20241203T114127Z
UID:10022596-1734516000-1734541200@kultura.tarnow.pl
SUMMARY:"Fischmarkt" Tadeusz Rolke
DESCRIPTION:W Galerii TCK po raz trzeci prezentujemy znakomite fotografie Tadeusza Rolke. Tym razem zajmujący istotne miejsce w dorobku artystycznym cykl „Fischmarkt”\, który realizował w latach 1978–1979 r. w Hamburgu. \nO wystawie na fototapeta.pl  \nTadeusz Rolke urodził się w 1929 roku w Warszawie. Jeden z najwybitniejszych autorów w historii fotografii polskiej. Studiował historię sztuki na KUL w Lublinie i Uniwersytecie Warszawskim. W latach 60. pracował w tygodniku „Stolica” oraz miesięczniku „Polska”. W latach 1970-1980 mieszkał w Niemczech i fotografował dla takich czasopism\, jak „Stern”\, „Spiegel”\, „Die Zeit”. Twórczość Tadeusza Rolke prezentowana była na licznych wystawach w Polsce i zagranicą m.in. w Centrum Sztuki Współczesnej Zamek Ujazdowski w Warszawie (1997\, 2009); Fundacji Galerii Foksal w Warszawie (2003); Żydowskim Instytucie Historycznym w Warszawie (2003\, 2016); Domu Spotkań z Historią (2008\, 2019); Muzeum Historii Żydów Polskich Polin w Warszawie (2012); MOCAK Muzeum Sztuki Współczesnej w Krakowie (2013); Centralnej Akademii Dramatycznej w Pekinie (2015); Centrum Historii Miejskiej we Lwowie (2016); Instytutach Polskich w Berlinie (2006\, 2019)\, Düsseldorfie (2005)\, Bratysławie (2000)\, Paryżu (2005); Sesc Consolação w São Paulo (2015); Chińskim Narodowym Muzeum Sztuki w Pekinie (2015)\, Galerii Le Guern w Warszawie (2010\, 2013\, 2018\, 2019\, 2022); Tarnowskim Centrum Kultury (2014\, 2020); Muzeum Literatury w Warszawie (2021)\, CSK w Lublinie (2023). \nTadeusz Rolke w czasie trwającej około dekadę emigracji w Republice Federalnej Niemiec\, wiosną 1971 roku przyjeżdża do stolicy niemieckiej prasy\, Hamburga. Na przestrzeni kolejnych lat\, wielokrotnie publikuje w czołowych pismach zachodnioniemieckich: „Die Zeit”\, „Stern”\, „Stern Journal” i „Der Spiegel”.\nJego fotografie wykonane w Hamburgu\, to prywatny zapis życia ulicznego i wydarzeń kulturalnych tamtych lat. Istotne miejsce w dorobku artystycznym stanowi cykl „Fischmarkt”\, który realizował w latach 1978–1979 podczas licznych wizyt na hamburskim\, niedzielnym targu rybnym. Na swoich fotografiach uwiecznił wyjątkową różnorodność codziennych sytuacji i zestaw indywiduów\, reprezentujących „barwne” społeczeństwo. Po raz pierwszy Fischmarkt zaprezentowany został publiczności już w 1979 roku przy Ost-West Strasse w Hamburgu. Po raz kolejny\, również w Hamburgu\, w 2002 roku Tadeusz Rolke był gościem specjalnym 2. Triennale Fotografii w Kunstverein\, ponownie prezentując ten znakomity zestaw fotografii. \nPrezentacja dzięki uprzejmości Galerii Le Guern. \nMiejsce: Galeria TCK (Tarnów\, Rynek 5)\nTermin: 16 listopada do 21 grudnia 2024 r.\nGodziny otwarcia: Poniedziałek–piątek: 10:00–18:00\, Sobota: 10:00–17:00\nBilety: 7 zł (normalny) i 5 zł (ulgowy).
URL:https://kultura.tarnow.pl/wydarzenie/fischmarkt-tadeusz-rolke-2/2024-12-18/
LOCATION:Tarnowskie Centrum Kultury\, Rynek 5\, Tarnów\, małopolskie\, 33-100\, Polska
CATEGORIES:wystawy
GEO:50.012155;20.9878542
X-APPLE-STRUCTURED-LOCATION;VALUE=URI;X-ADDRESS=Tarnowskie Centrum Kultury Rynek 5 Tarnów małopolskie 33-100 Polska;X-APPLE-RADIUS=500;X-TITLE=Rynek 5:geo:20.9878542,50.012155
END:VEVENT
BEGIN:VEVENT
DTSTART;TZID=Europe/Warsaw:20241218T160000
DTEND;TZID=Europe/Warsaw:20241218T170000
DTSTAMP:20260424T171510
CREATED:20241216T142246Z
LAST-MODIFIED:20241216T142246Z
UID:10023377-1734537600-1734541200@kultura.tarnow.pl
SUMMARY:"W Panteonie bóstw greckich"
DESCRIPTION:„W Panteonie bóstw greckich” to tytuł wystawy\, na której można obejrzeć fotografie uczniów Zespołu Szkół Ogólnokształcących i Technicznych im. J. Szczepanika w Tarnowie. Wernisaż zaplanowano w najbliższą środę\, 18 grudnia w Multimedialnym Centrum Artystycznym. \nWystawa jest efektem prac fotograficznych uczniów Szkoła „Szczepanika” kierunku fotograficznego. Zdjęcia  powstały podczas pleneru fotograficznego „Grecja 2024”. Uczestnicy mieli za zadanie zrealizować sesje fotograficzne zgodnie z własną interpretacją motywu przewodniego „W Panteonie bóstw greckich”. – Prezentowane prace zapraszają do analizy tematu z różnych perspektyw\, odpowiadających indywidualnej wrażliwości oraz kreatywności młodych artystów – można przeczytać na stronie BWA\, organizatora wydarzenia. \nAutorami prac są: Michał Aksamit\, Martyna Tybor\, Natalia Drygaś\, Maciej Faliszewski\, Kasandra Łach\, Kamil Baran\, Kacper Jeż\, Nina Kudroń\, Michał Kozdroń\, Zuzanna Górka\, Anna Małek\, Julia Guzik\, Patrycja Stachura\, Wiktoria Galas\, Filip Mieluch\, Julita Augustyn\, Julia Gebert\, Michał Basierak. \nWernisaż rozpocznie się o godz. 16. Wystawa dostępna będzie do 12 stycznia. Ekspozycję można oglądać w poniedziałki\, środy i czwartki w godz. od 10 do 17.
URL:https://kultura.tarnow.pl/wydarzenie/w-panteonie-bostw-greckich/
LOCATION:Multimedialne Centrum Artystyczne\, Wałowa 25\, Tarnów\, małopolskie\, 33-100\, Polska
CATEGORIES:wernisaże
ATTACH;FMTTYPE=image/jpeg:https://kultura.tarnow.pl/wp-content/uploads/Grecja.jpg
GEO:50.013866931068;20.987989998201
X-APPLE-STRUCTURED-LOCATION;VALUE=URI;X-ADDRESS=Multimedialne Centrum Artystyczne Wałowa 25 Tarnów małopolskie 33-100 Polska;X-APPLE-RADIUS=500;X-TITLE=Wałowa 25:geo:20.987989998201,50.013866931068
END:VEVENT
BEGIN:VEVENT
DTSTART;TZID=Europe/Warsaw:20241218T180000
DTEND;TZID=Europe/Warsaw:20241218T200000
DTSTAMP:20260424T171510
CREATED:20241202T083426Z
LAST-MODIFIED:20241202T083426Z
UID:10022533-1734544800-1734552000@kultura.tarnow.pl
SUMMARY:Trening przed turniejem gry „Sen"
DESCRIPTION:Chciałbyś wziąć udział w turnieju gry „Sen”\, ale nie wiesz jak grać? Nie przejmuj się! Chętnie Cię nauczymy. Podczas treningu poznasz reguły gry i przygotujesz się do rozgrywek. Gra „Sen” to magiczna podróż do świata ze snów. Na graczy czekają niezwykłe krainy: niektóre jak z bajki\, inne z kolei pełne kruków\, wyjęte wprost z mrocznego koszmaru. Celem gry jest posiadanie jak najmniejszej liczby kruków. \nWstęp wolny\, bez zapisów. \nTurniej odbędzie się już 20 grudnia o godz. 20:00. Zapisz się na maila: m.trusz@tck.pl Dla zwycięzców przewidziane nagrody.
URL:https://kultura.tarnow.pl/wydarzenie/trening-przed-turniejem-gry-sen/
LOCATION:Dom Kultury Westerplatte 8a\, Westerplatte 8a\, Tarnów\, Polska - małopolskie\, 33-100\, Polska
CATEGORIES:konkursy
ATTACH;FMTTYPE=image/jpeg:https://kultura.tarnow.pl/wp-content/uploads/TURNIEJ_SEN.jpg
ORGANIZER;CN="Dom Kultury Westerplatte 8a":MAILTO:westerplatte@tck.pl
GEO:50.0273033;21.0087361
X-APPLE-STRUCTURED-LOCATION;VALUE=URI;X-ADDRESS=Dom Kultury Westerplatte 8a Westerplatte 8a Tarnów Polska - małopolskie 33-100 Polska;X-APPLE-RADIUS=500;X-TITLE=Westerplatte 8a:geo:21.0087361,50.0273033
END:VEVENT
END:VCALENDAR