BEGIN:VCALENDAR
VERSION:2.0
PRODID:-//kultura.tarnów - ECPv6.4.0.1//NONSGML v1.0//EN
CALSCALE:GREGORIAN
METHOD:PUBLISH
X-WR-CALNAME:kultura.tarnów
X-ORIGINAL-URL:https://kultura.tarnow.pl
X-WR-CALDESC:Wydarzenia dla
REFRESH-INTERVAL;VALUE=DURATION:PT1H
X-Robots-Tag:noindex
X-PUBLISHED-TTL:PT1H
BEGIN:VTIMEZONE
TZID:Europe/Warsaw
BEGIN:DAYLIGHT
TZOFFSETFROM:+0100
TZOFFSETTO:+0200
TZNAME:CEST
DTSTART:20240331T010000
END:DAYLIGHT
BEGIN:STANDARD
TZOFFSETFROM:+0200
TZOFFSETTO:+0100
TZNAME:CET
DTSTART:20241027T010000
END:STANDARD
END:VTIMEZONE
BEGIN:VEVENT
DTSTART;TZID=Europe/Warsaw:20241217T090000
DTEND;TZID=Europe/Warsaw:20241217T150000
DTSTAMP:20260424T171336
CREATED:20241030T084509Z
LAST-MODIFIED:20241030T084509Z
UID:10022473-1734426000-1734447600@kultura.tarnow.pl
SUMMARY:„Miniatury w Zbiorach Muzeum Ziemi Tarnowskiej”
DESCRIPTION:Muzeum Ziemi Tarnowskiej zaprasza na wyjątkową wystawę miniatur w ramach\, która realizowana jest w ramach cyklu „Skarby Muzeum Ziemi Tarnowskiej”. Wernisaż odbędzie się 4 listopada 2024 roku o godzinie 18:00 w Muzeum Historii Tarnowa i Regionu (Tarnów\, Rynek 20-21). Ekspozycja będzie dostępna dla zwiedzających od 4 listopada do 31 grudnia 2024 roku. \nTa pierwsza tak obszerna prezentacja obejmuje ponad 150 dzieł z muzealnej kolekcji. Wśród nich znajdują się różnorodne miniatury wykonane w okresie od drugiej połowy XVIII do początku XXI wieku\, a pochodzące z dawnej kolekcji książąt Sanguszków z pałacu w Gumniskach\, zbioru zakupionego od prywatnego kolekcjonera w 1982 roku\, oraz pojedyncze\, cenne obiekty nabyte w drodze darowizn i zakupów. \nMiniatury wystawione na ekspozycji wykonane zostały na takich materiałach jak kość\, pergamin\, metal\, szkło\, papier i drewno. Nie brak wśród nich portretów\, pejzaży\, scen rodzajowych oraz przedstawień religijnych i patriotycznych. Zbiory te mają ogromne znaczenie sentymentalne\, historyczne i artystyczne. Dla zwiedzających stanowić mogą formę wyjątkowych dzieł sztuki\, ale również cenne świadectwa minionych epok. \nGodziny otwarcia: \nponiedziałek: nieczynne\nwtorek: 9.00 – 15.00\nśroda: 9.00 – 15.00\nczwartek: 9.00 – 15.00\npiątek: 9.00 – 17.00\nsobota: nieczynne\nniedziela: 10.00 – 14.00
URL:https://kultura.tarnow.pl/wydarzenie/miniatury-w-zbiorach-muzeum-ziemi-tarnowskiej-2/2024-12-17/
LOCATION:Muzeum Ziemi Tarnowskiej\, Rynek 3\, Tarnów\, małopolskie\, 33-100\, Polska
CATEGORIES:wystawy
ATTACH;FMTTYPE=image/jpeg:https://kultura.tarnow.pl/wp-content/uploads/Miniatury-w-zbiorach_plakat_.jpg
GEO:50.0122989;20.9877958
X-APPLE-STRUCTURED-LOCATION;VALUE=URI;X-ADDRESS=Muzeum Ziemi Tarnowskiej Rynek 3 Tarnów małopolskie 33-100 Polska;X-APPLE-RADIUS=500;X-TITLE=Rynek 3:geo:20.9877958,50.0122989
END:VEVENT
BEGIN:VEVENT
DTSTART;TZID=Europe/Warsaw:20241217T100000
DTEND;TZID=Europe/Warsaw:20241217T110000
DTSTAMP:20260424T171336
CREATED:20241202T081430Z
LAST-MODIFIED:20241202T081430Z
UID:10022531-1734429600-1734433200@kultura.tarnow.pl
SUMMARY:"Szur! Trzask! Plask!" - warsztaty sensoplastyczne dla dzieci
DESCRIPTION:Szur! Trzask! Plask! Warsztaty sensoplastyczne dla dzieci do lat 3. \nZabawa sensoplastyczna rozwija wyobraźnię i kreatywność dziecka. Dziecko poznaje świat kolorów\, faktur i zapachów\, rozwijając zmysły przez bezpośredni kontakt z różnorodnymi materiałami. Zajęcia stymulują rozwój motoryczny\, umiejętności manualne oraz współpracę z rówieśnikami. Poprzez proste aktywności i zabawę rodzice i opiekunowie poznają w jaki sposób prawidłowo stymulować zmysły maluszka. \nWstęp płatny: 25 zł od uczestnika wraz z opiekunem. Obowiązują zapisy: 888 655 101\, a.radon@tck.pl \nZapisujemy dziecko – opiekun jest zapisany automatycznie\, jego obecność na zajęciach jest obowiązkowa. \nPodczas zajęć będą wykorzystywane materiały brudzące i mokre\, proszę zabrać ubranko na zmianę. Warsztaty prowadzi Angelika Radoń.
URL:https://kultura.tarnow.pl/wydarzenie/szur-trzask-plask-warsztaty-sensoplastyczne-dla-dzieci/
LOCATION:Dom Kultury Westerplatte 8a\, Westerplatte 8a\, Tarnów\, Polska - małopolskie\, 33-100\, Polska
CATEGORIES:warsztaty
ATTACH;FMTTYPE=image/jpeg:https://kultura.tarnow.pl/wp-content/uploads/Sensoplastyka_grudzien.jpg
ORGANIZER;CN="Dom Kultury Westerplatte 8a":MAILTO:westerplatte@tck.pl
GEO:50.0273033;21.0087361
X-APPLE-STRUCTURED-LOCATION;VALUE=URI;X-ADDRESS=Dom Kultury Westerplatte 8a Westerplatte 8a Tarnów Polska - małopolskie 33-100 Polska;X-APPLE-RADIUS=500;X-TITLE=Westerplatte 8a:geo:21.0087361,50.0273033
END:VEVENT
BEGIN:VEVENT
DTSTART;TZID=Europe/Warsaw:20241217T100000
DTEND;TZID=Europe/Warsaw:20241217T170000
DTSTAMP:20260424T171336
CREATED:20241203T113718Z
LAST-MODIFIED:20241203T113718Z
UID:10022560-1734429600-1734454800@kultura.tarnow.pl
SUMMARY:Grzegorz Kumorek "Stodoła\, dom\, las"
DESCRIPTION:W programie wystawy:\n1.12.2024 (niedziela)\ng. 10:00 Wyjazd spod BWA Pałacyku Strzeleckiego (ul. Słowackiego 1) do Olszowej / bezpłatny bus\, ilość miejsc ograniczona\, obowiązują zapisy: 14 688 88 20\ng. 11:00 Start spaceru w Olszowej (Olszowa 7\, 32-840 Olszowa) – spacer po Olszowej (ok. 40 min.) i zwiedzanie pracowni artysty / wstęp wolny\, bez zapisów\ng. 13:30 Po wystawie Grzegorza Kumorka „Stodoła\, dom\, las” oprowadza Katarzyna Roj / BWA\, Pałacyk Strzelecki\, wstęp wolny \nNiedziela 12.01 – Finisaż \nGrand Prix IX Salonu BWA Tarnów \nTytułowe Stodoła\, dom\, las to elementy krajobrazu wsi Olszowa\, gdzie mieszka artysta. Miejsce\, niegdyś zamieszkane przez jego dziadków\, teraz należy do Grzegorza Kumorka. Teren\, położony na wzgórzu\, otacza swobodnie rozrastająca się przyroda\, która stanowi istotną bohaterkę zarówno wystawy\, jak i twórczości artysty. \nGrzegorz wchodzi z tym miejscem w dialogiczny taniec\, konsekwentnie odkrywając\, przesuwając\, łącząc i budując. Jak sam wspomina\, jego pierwsze dziecięce zabawy polegały na budowaniu konstrukcji z patyków znalezionych wokół gospodarstwa. Gałęzie i patyki pozostały jednym z głównych materiałów prac artysty. Ten proces\, głęboko zakorzeniony w przeszłości\, cechuje pokora i szacunek do tworzywa. Grzegorz określa go mianem „wiejskiego” – bo na wsi nic się nie marnuje\, wszystko ma wartość i jest wykorzystywane zgodnie z tym\, co pod ręką. \nPodobnie jak kotłuje się pobliska przyroda\, tak Grzegorz przeczesuje i przekłada kolejne znalezione fragmenty\, aż w końcu stworzą odpowiednią kompozycję. W tym wirze patyk staje się wszystkim – narzędziem\, materiałem\, magiczną różdżką\, kością\, niebem\, granicą.  Tworzenie tych małych światów nie wypływa z potrzeby kontroli\, lecz z fascynacji samym procesem\, oddania się intuicji\, gdyż końcowy efekt zawsze pozostaje niepewny. Grzebanie staje się bramą do jego twórczości. Grzebie w ziemi\, w przedmiotach po babci\, szukając z ciekawością i konsekwencją\, ale też grzebie\, by w rytualny sposób pożegnać przeszłość\, oddać jej szacunek\, domknąć jakiś etap. \nPrzestrzeń wyznaczona przez stodołę\, dom i las jest miejscem spotkania życia i śmierci\, a jego prace afirmują i akceptują procesy\, które się tam dokonują. Dla artysty to podróż osobista – zmaganie się z materią\, wspomnieniami\, oczekiwaniami. Jest to zarówno dosłowne\, jak i symboliczne budowanie własnego miejsca\, wykorzystanie tego\, co zastane;  nadanie mu nowego znaczenia przez formę wizualną. \nEkspozycja odtwarza tytułowy układ krajobrazu gospodarstwa z Olszowej\, przypisując prace do konkretnych jego elementów\, które nierzadko znajdują się na granicy poszczególnych przestrzeni. \nGrzegorz Kumorek (ur. 1990) artysta wizualny\, rzeźbiarz. Absolwent Liceum Sztuk Plastycznych w Tarnowie. Ukończył studia na Wydziale Rzeźby Akademii Sztuk Pięknych w Krakowie\, gdzie od 2020 r. pracuje jako asystent. Brał udział w 17. Przeglądzie Sztuki Survival we Wrocławiu (2019)\, zdobył Grand Prix IX Salonu BWA Tarnów (2023)\, finalista Biennale Rybie Oko 11 (2024). Swoje prace prezentował m. in. w Muzeum Narodowym w Krakowie\, Gdańskiej Galerii Miejskiej\, Muzeum Współczesnym Wrocław. Jego pracownia mieści się w rodzinnej wsi Olszowa (powiat tarnowski). \nGodziny otwarcia ekspozycji: \nwtorek-piątek: 10:00-17:00 – ostatnie wejście na wystawę o g. 16:45\nniedziela: 11:00-18:00 – ostatnie wejście na wystawę o g. 17:45\nwstęp wolny na wystawę i wydarzenia towarzyszące
URL:https://kultura.tarnow.pl/wydarzenie/grzegorz-kumorek-stodola-dom-las/2024-12-17/
LOCATION:Biuro Wystaw Artystycznych\, ul. Słowackiego 1\, Tarnów\, małopolskie\, 33-100\, Polska
CATEGORIES:wystawy
ORGANIZER;CN="Biuro Wystaw Artystycznych":MAILTO:biuro@bwa.tarnow.pl
GEO:50.0178761;20.9827521
X-APPLE-STRUCTURED-LOCATION;VALUE=URI;X-ADDRESS=Biuro Wystaw Artystycznych ul. Słowackiego 1 Tarnów małopolskie 33-100 Polska;X-APPLE-RADIUS=500;X-TITLE=ul. Słowackiego 1:geo:20.9827521,50.0178761
END:VEVENT
BEGIN:VEVENT
DTSTART;TZID=Europe/Warsaw:20241217T100000
DTEND;TZID=Europe/Warsaw:20241217T170000
DTSTAMP:20260424T171336
CREATED:20241203T114127Z
LAST-MODIFIED:20241203T114127Z
UID:10022595-1734429600-1734454800@kultura.tarnow.pl
SUMMARY:"Fischmarkt" Tadeusz Rolke
DESCRIPTION:W Galerii TCK po raz trzeci prezentujemy znakomite fotografie Tadeusza Rolke. Tym razem zajmujący istotne miejsce w dorobku artystycznym cykl „Fischmarkt”\, który realizował w latach 1978–1979 r. w Hamburgu. \nO wystawie na fototapeta.pl  \nTadeusz Rolke urodził się w 1929 roku w Warszawie. Jeden z najwybitniejszych autorów w historii fotografii polskiej. Studiował historię sztuki na KUL w Lublinie i Uniwersytecie Warszawskim. W latach 60. pracował w tygodniku „Stolica” oraz miesięczniku „Polska”. W latach 1970-1980 mieszkał w Niemczech i fotografował dla takich czasopism\, jak „Stern”\, „Spiegel”\, „Die Zeit”. Twórczość Tadeusza Rolke prezentowana była na licznych wystawach w Polsce i zagranicą m.in. w Centrum Sztuki Współczesnej Zamek Ujazdowski w Warszawie (1997\, 2009); Fundacji Galerii Foksal w Warszawie (2003); Żydowskim Instytucie Historycznym w Warszawie (2003\, 2016); Domu Spotkań z Historią (2008\, 2019); Muzeum Historii Żydów Polskich Polin w Warszawie (2012); MOCAK Muzeum Sztuki Współczesnej w Krakowie (2013); Centralnej Akademii Dramatycznej w Pekinie (2015); Centrum Historii Miejskiej we Lwowie (2016); Instytutach Polskich w Berlinie (2006\, 2019)\, Düsseldorfie (2005)\, Bratysławie (2000)\, Paryżu (2005); Sesc Consolação w São Paulo (2015); Chińskim Narodowym Muzeum Sztuki w Pekinie (2015)\, Galerii Le Guern w Warszawie (2010\, 2013\, 2018\, 2019\, 2022); Tarnowskim Centrum Kultury (2014\, 2020); Muzeum Literatury w Warszawie (2021)\, CSK w Lublinie (2023). \nTadeusz Rolke w czasie trwającej około dekadę emigracji w Republice Federalnej Niemiec\, wiosną 1971 roku przyjeżdża do stolicy niemieckiej prasy\, Hamburga. Na przestrzeni kolejnych lat\, wielokrotnie publikuje w czołowych pismach zachodnioniemieckich: „Die Zeit”\, „Stern”\, „Stern Journal” i „Der Spiegel”.\nJego fotografie wykonane w Hamburgu\, to prywatny zapis życia ulicznego i wydarzeń kulturalnych tamtych lat. Istotne miejsce w dorobku artystycznym stanowi cykl „Fischmarkt”\, który realizował w latach 1978–1979 podczas licznych wizyt na hamburskim\, niedzielnym targu rybnym. Na swoich fotografiach uwiecznił wyjątkową różnorodność codziennych sytuacji i zestaw indywiduów\, reprezentujących „barwne” społeczeństwo. Po raz pierwszy Fischmarkt zaprezentowany został publiczności już w 1979 roku przy Ost-West Strasse w Hamburgu. Po raz kolejny\, również w Hamburgu\, w 2002 roku Tadeusz Rolke był gościem specjalnym 2. Triennale Fotografii w Kunstverein\, ponownie prezentując ten znakomity zestaw fotografii. \nPrezentacja dzięki uprzejmości Galerii Le Guern. \nMiejsce: Galeria TCK (Tarnów\, Rynek 5)\nTermin: 16 listopada do 21 grudnia 2024 r.\nGodziny otwarcia: Poniedziałek–piątek: 10:00–18:00\, Sobota: 10:00–17:00\nBilety: 7 zł (normalny) i 5 zł (ulgowy).
URL:https://kultura.tarnow.pl/wydarzenie/fischmarkt-tadeusz-rolke-2/2024-12-17/
LOCATION:Tarnowskie Centrum Kultury\, Rynek 5\, Tarnów\, małopolskie\, 33-100\, Polska
CATEGORIES:wystawy
GEO:50.012155;20.9878542
X-APPLE-STRUCTURED-LOCATION;VALUE=URI;X-ADDRESS=Tarnowskie Centrum Kultury Rynek 5 Tarnów małopolskie 33-100 Polska;X-APPLE-RADIUS=500;X-TITLE=Rynek 5:geo:20.9878542,50.012155
END:VEVENT
BEGIN:VEVENT
DTSTART;TZID=Europe/Warsaw:20241217T160000
DTEND;TZID=Europe/Warsaw:20241217T170000
DTSTAMP:20260424T171336
CREATED:20241217T104723Z
LAST-MODIFIED:20241217T104723Z
UID:10023379-1734451200-1734454800@kultura.tarnow.pl
SUMMARY:"Finałowe Przedstawienie"
DESCRIPTION:Zapraszamy serdecznie dzisiaj na „Finałowe Przedstawienie” podczas którego utalentowane dzieci i młodzież zaprezentują efekty warsztatów teatralnych prowadzonych przez doświadczonego aktora\, teatrologa oraz menedżera kultury Jerzy Pal! 17 grudnia 2024\, godz. 16.00Biblioteka Pedagogiczna w Tarnowie\, ul. Nowy Świat 30
URL:https://kultura.tarnow.pl/wydarzenie/finalowe-przedstawienie/
LOCATION:Biblioteka Pedagogiczna w Tarnowie\, ul. Legionów 34\, Tarnów\, małopolskie\, 33-100\, Polska
CATEGORIES:koncerty
ATTACH;FMTTYPE=image/jpeg:https://kultura.tarnow.pl/wp-content/uploads/470177496_1020582546769418_1241209074986307888_n.jpg
ORGANIZER;CN="Biblioteka Pedagogiczna w Tarnowie":MAILTO:bpt@bpt.edu.pl
GEO:50.018293;20.987585
X-APPLE-STRUCTURED-LOCATION;VALUE=URI;X-ADDRESS=Biblioteka Pedagogiczna w Tarnowie ul. Legionów 34 Tarnów małopolskie 33-100 Polska;X-APPLE-RADIUS=500;X-TITLE=ul. Legionów 34:geo:20.987585,50.018293
END:VEVENT
BEGIN:VEVENT
DTSTART;TZID=Europe/Warsaw:20241217T170000
DTEND;TZID=Europe/Warsaw:20241217T190000
DTSTAMP:20260424T171336
CREATED:20241202T081720Z
LAST-MODIFIED:20241202T083214Z
UID:10022532-1734454800-1734462000@kultura.tarnow.pl
SUMMARY:Rodzina zastępcza – to nie serial tylko samo życie.
DESCRIPTION:Rodzina zastępcza – to nie serial tylko samo życie. Ania szuka domu – o pieczy zastępczej w pigułce.  \n„Mam na imię Ania. Jestem głosem wszystkich dzieci szukających bezpiecznego\, szczęśliwego domu”.   \nTo spotkanie jest okazją\, by dowiedzieć się\, jak można pomóc dzieciom takim jak Ania i wspólnie tworzyć nowe\, dobre zakończenia ich historii. Czym różni się piecza od adopcji? Jakie wsparcie otrzymują dzieci pozbawione rodzinnego domu i jakie warunki trzeba spełnić by móc stać się rodziną zastępczą? Jak instytucje takie jak Centrum Usług Społecznych wspierają rodziców w pełnieniu ich misji? Na te pytania odpowiedzą gościnie: Sylwia Walaszek-Banuch – kierowniczka działu pieczy zastępczej i Agnieszka Balawejder – koordynatorka rodzinnej pieczy zastępczej w CUS w Tarnowie. \nNa spotkanie zaprosiliśmy też rodzinę zastępczą z Tarnowa\, która opowie o swoich doświadczeniach. \nW Tarnowie jest wiele dzieci\, które wciąż marzą o troskliwych rodzicach i własnym domu. Dołączcie do spotkania i dowiedzcie się\, jak można zmienić życie dziecka. Spotkanie jest częścią kampanii społecznej „Ania szuka domu”\, która ma pomóc w znalezieniu rodzin zastępczych.
URL:https://kultura.tarnow.pl/wydarzenie/rodzina-zastepcza-to-nie-serial-tylko-samo-zycie/
LOCATION:Dom Kultury Westerplatte 8a\, Westerplatte 8a\, Tarnów\, Polska - małopolskie\, 33-100\, Polska
CATEGORIES:spotkania
ATTACH;FMTTYPE=image/jpeg:https://kultura.tarnow.pl/wp-content/uploads/Ania-szuka-domu-scaled.jpg
ORGANIZER;CN="Dom Kultury Westerplatte 8a":MAILTO:westerplatte@tck.pl
GEO:50.0273033;21.0087361
X-APPLE-STRUCTURED-LOCATION;VALUE=URI;X-ADDRESS=Dom Kultury Westerplatte 8a Westerplatte 8a Tarnów Polska - małopolskie 33-100 Polska;X-APPLE-RADIUS=500;X-TITLE=Westerplatte 8a:geo:21.0087361,50.0273033
END:VEVENT
BEGIN:VEVENT
DTSTART;TZID=Europe/Warsaw:20241217T180000
DTEND;TZID=Europe/Warsaw:20241217T193000
DTSTAMP:20260424T171336
CREATED:20241213T111929Z
LAST-MODIFIED:20241213T111929Z
UID:10023375-1734458400-1734463800@kultura.tarnow.pl
SUMMARY:Koncert świąteczny "Radość dziś nastała"
DESCRIPTION:
URL:https://kultura.tarnow.pl/wydarzenie/koncert-swiateczny-radosc-dzis-nastala/
LOCATION:Sala Koncertowa Zespołu Szkół Muzycznych\, Lippóczy’ego 4\, Tarnów\, małopolskie\, 33-100\, Polska
CATEGORIES:koncerty
ATTACH;FMTTYPE=image/jpeg:https://kultura.tarnow.pl/wp-content/uploads/298245f2-a43f-4448-ba5e-f056eb9a90b7-scaled.jpg
ORGANIZER;CN="Zesp%C3%B3%C5%82 Szk%C3%B3%C5%82 Muzycznych":MAILTO:szkola@zsmuz.tarnow.pl
GEO:50.0205582;20.9801972
X-APPLE-STRUCTURED-LOCATION;VALUE=URI;X-ADDRESS=Sala Koncertowa Zespołu Szkół Muzycznych Lippóczy’ego 4 Tarnów małopolskie 33-100 Polska;X-APPLE-RADIUS=500;X-TITLE=Lippóczy’ego 4:geo:20.9801972,50.0205582
END:VEVENT
END:VCALENDAR