BEGIN:VCALENDAR
VERSION:2.0
PRODID:-//kultura.tarnów - ECPv6.4.0.1//NONSGML v1.0//EN
CALSCALE:GREGORIAN
METHOD:PUBLISH
X-ORIGINAL-URL:https://kultura.tarnow.pl
X-WR-CALDESC:Wydarzenia dla
REFRESH-INTERVAL;VALUE=DURATION:PT1H
X-Robots-Tag:noindex
X-PUBLISHED-TTL:PT1H
BEGIN:VTIMEZONE
TZID:Europe/Warsaw
BEGIN:DAYLIGHT
TZOFFSETFROM:+0100
TZOFFSETTO:+0200
TZNAME:CEST
DTSTART:20240331T010000
END:DAYLIGHT
BEGIN:STANDARD
TZOFFSETFROM:+0200
TZOFFSETTO:+0100
TZNAME:CET
DTSTART:20241027T010000
END:STANDARD
END:VTIMEZONE
BEGIN:VEVENT
DTSTART;TZID=Europe/Warsaw:20241214T100000
DTEND;TZID=Europe/Warsaw:20241214T170000
DTSTAMP:20260424T134328
CREATED:20241203T114127Z
LAST-MODIFIED:20241203T114127Z
UID:10022593-1734170400-1734195600@kultura.tarnow.pl
SUMMARY:"Fischmarkt" Tadeusz Rolke
DESCRIPTION:W Galerii TCK po raz trzeci prezentujemy znakomite fotografie Tadeusza Rolke. Tym razem zajmujący istotne miejsce w dorobku artystycznym cykl „Fischmarkt”\, który realizował w latach 1978–1979 r. w Hamburgu. \nO wystawie na fototapeta.pl  \nTadeusz Rolke urodził się w 1929 roku w Warszawie. Jeden z najwybitniejszych autorów w historii fotografii polskiej. Studiował historię sztuki na KUL w Lublinie i Uniwersytecie Warszawskim. W latach 60. pracował w tygodniku „Stolica” oraz miesięczniku „Polska”. W latach 1970-1980 mieszkał w Niemczech i fotografował dla takich czasopism\, jak „Stern”\, „Spiegel”\, „Die Zeit”. Twórczość Tadeusza Rolke prezentowana była na licznych wystawach w Polsce i zagranicą m.in. w Centrum Sztuki Współczesnej Zamek Ujazdowski w Warszawie (1997\, 2009); Fundacji Galerii Foksal w Warszawie (2003); Żydowskim Instytucie Historycznym w Warszawie (2003\, 2016); Domu Spotkań z Historią (2008\, 2019); Muzeum Historii Żydów Polskich Polin w Warszawie (2012); MOCAK Muzeum Sztuki Współczesnej w Krakowie (2013); Centralnej Akademii Dramatycznej w Pekinie (2015); Centrum Historii Miejskiej we Lwowie (2016); Instytutach Polskich w Berlinie (2006\, 2019)\, Düsseldorfie (2005)\, Bratysławie (2000)\, Paryżu (2005); Sesc Consolação w São Paulo (2015); Chińskim Narodowym Muzeum Sztuki w Pekinie (2015)\, Galerii Le Guern w Warszawie (2010\, 2013\, 2018\, 2019\, 2022); Tarnowskim Centrum Kultury (2014\, 2020); Muzeum Literatury w Warszawie (2021)\, CSK w Lublinie (2023). \nTadeusz Rolke w czasie trwającej około dekadę emigracji w Republice Federalnej Niemiec\, wiosną 1971 roku przyjeżdża do stolicy niemieckiej prasy\, Hamburga. Na przestrzeni kolejnych lat\, wielokrotnie publikuje w czołowych pismach zachodnioniemieckich: „Die Zeit”\, „Stern”\, „Stern Journal” i „Der Spiegel”.\nJego fotografie wykonane w Hamburgu\, to prywatny zapis życia ulicznego i wydarzeń kulturalnych tamtych lat. Istotne miejsce w dorobku artystycznym stanowi cykl „Fischmarkt”\, który realizował w latach 1978–1979 podczas licznych wizyt na hamburskim\, niedzielnym targu rybnym. Na swoich fotografiach uwiecznił wyjątkową różnorodność codziennych sytuacji i zestaw indywiduów\, reprezentujących „barwne” społeczeństwo. Po raz pierwszy Fischmarkt zaprezentowany został publiczności już w 1979 roku przy Ost-West Strasse w Hamburgu. Po raz kolejny\, również w Hamburgu\, w 2002 roku Tadeusz Rolke był gościem specjalnym 2. Triennale Fotografii w Kunstverein\, ponownie prezentując ten znakomity zestaw fotografii. \nPrezentacja dzięki uprzejmości Galerii Le Guern. \nMiejsce: Galeria TCK (Tarnów\, Rynek 5)\nTermin: 16 listopada do 21 grudnia 2024 r.\nGodziny otwarcia: Poniedziałek–piątek: 10:00–18:00\, Sobota: 10:00–17:00\nBilety: 7 zł (normalny) i 5 zł (ulgowy).
URL:https://kultura.tarnow.pl/wydarzenie/fischmarkt-tadeusz-rolke-2/2024-12-14/
LOCATION:Tarnowskie Centrum Kultury\, Rynek 5\, Tarnów\, małopolskie\, 33-100\, Polska
CATEGORIES:wystawy
GEO:50.012155;20.9878542
X-APPLE-STRUCTURED-LOCATION;VALUE=URI;X-ADDRESS=Tarnowskie Centrum Kultury Rynek 5 Tarnów małopolskie 33-100 Polska;X-APPLE-RADIUS=500;X-TITLE=Rynek 5:geo:20.9878542,50.012155
END:VEVENT
BEGIN:VEVENT
DTSTART;TZID=Europe/Warsaw:20241214T150000
DTEND;TZID=Europe/Warsaw:20241214T170000
DTSTAMP:20260424T134328
CREATED:20241025T083918Z
LAST-MODIFIED:20241025T083918Z
UID:10022027-1734188400-1734195600@kultura.tarnow.pl
SUMMARY:Michael Ebde "Momo"
DESCRIPTION:Reż. M. Przełęcki \n„Momo” autorstwa znanego pisarza Michaele Ende („Niekończąca się opowieść”) jest historią o tym\, że warto się zatrzymać\, być uważnym na otaczający świat i innych ludzi\, być „tu i teraz”\, bo tylko w „tu i teraz” toczy się prawdziwe życie\, tylko w „tu i teraz” można naprawdę spotkać drugiego człowieka. To opowieść o umiejętności słuchania\, o wielkiej sile przyjaźni i o tym\, że życia nie warto odkładać na „potem”. „Momo” to wspaniały materiał na mądry\, atrakcyjny i bardzo aktualny spektakl dla dzieci i ich rodziców. \nWiek dziecka: 10+ \n13 grudnia (piątek) godz. 10.00 oraz 14 i 15 grudnia godz. 15.00 Duża Scena \nBilety 25 -50 zł \nhttps://teatr.tarnow.pl/spektakle/momo/
URL:https://kultura.tarnow.pl/wydarzenie/michael-ebde-momo/2024-12-14/
LOCATION:Teatr im. L.Solskiego\, Mickiewicza 4\, Tarnów\, małopolskie\, 33-100\, Polska
CATEGORIES:spektakle
ATTACH;FMTTYPE=image/jpeg:https://kultura.tarnow.pl/wp-content/uploads/MOMO-wwww-1.jpg
GEO:50.0159214;20.987504
X-APPLE-STRUCTURED-LOCATION;VALUE=URI;X-ADDRESS=Teatr im. L.Solskiego Mickiewicza 4 Tarnów małopolskie 33-100 Polska;X-APPLE-RADIUS=500;X-TITLE=Mickiewicza 4:geo:20.987504,50.0159214
END:VEVENT
BEGIN:VEVENT
DTSTART;TZID=Europe/Warsaw:20241214T170000
DTEND;TZID=Europe/Warsaw:20241214T193000
DTSTAMP:20260424T134328
CREATED:20241126T083211Z
LAST-MODIFIED:20241126T083211Z
UID:10022523-1734195600-1734204600@kultura.tarnow.pl
SUMMARY:„Jezioro łabędzie”
DESCRIPTION:Spektakl baletowy Grand Royal Ballet \nNajwiększy fenomen sztuki baletowej\, który już od ponad stu lat niezmiennie zachwyca publiczność całego świata. Ponadczasowa historia miłosna o księżniczce zaklętej w łabędzia\, opowiada nam o prawdach uniwersalnych: ludzkich namiętnościach\, walce dobra ze złem\, zdradzie\, bólu\, ale przede wszystkim o potędze miłości.\nBajkowa opowieść połączona z niezwykłą muzyką Piotra Czajkowskiego skomponowaną do libretta Władimira Biegiczewa i Wasilija Gelcera wprowadzą widzów w piękny\, magiczny świat baletu klasycznego. \nCzy miłość wygra ze złem i nadprzyrodzonymi mocami? Czy walka o marzenia ma sens? Czy dążenie do celu jest ważniejsze niż jego osiągnięcie? Na te pytania odpowiada sobie widownia przeniesiona w baśniowy świat\, mający zaskakująco wiele wspólnego z tym\, w którym żyjemy. \nGrand Royal Ballet – zespół złożony z najlepszych europejskich solistów\, zdobywających sceny baletowe całego świata i prestiżowe\, międzynarodowe nagrody. \nCzas trwania: 2 godziny (i jedna przerwa – 15 min.)\n \n14 grudnia 2024\, godz. 17:00 \nBilety:110 zł (normalny)\, 90 zł (ulgowy) 50 zł (dzieci i młodzież do 16 lat)
URL:https://kultura.tarnow.pl/wydarzenie/jezioro-labedzie/
LOCATION:Centrum Sztuki Mościce\, Traugutta 1\, Tarnów\, małopolskie\, 33-101\, Polska
CATEGORIES:spektakle
ATTACH;FMTTYPE=image/jpeg:https://kultura.tarnow.pl/wp-content/uploads/img_5bf141e3c78d17f633fc34e7ccc322d1.jpeg
GEO:50.009833;20.92706
X-APPLE-STRUCTURED-LOCATION;VALUE=URI;X-ADDRESS=Centrum Sztuki Mościce Traugutta 1 Tarnów małopolskie 33-101 Polska;X-APPLE-RADIUS=500;X-TITLE=Traugutta 1:geo:20.92706,50.009833
END:VEVENT
END:VCALENDAR