BEGIN:VCALENDAR
VERSION:2.0
PRODID:-//kultura.tarnów - ECPv6.4.0.1//NONSGML v1.0//EN
CALSCALE:GREGORIAN
METHOD:PUBLISH
X-WR-CALNAME:kultura.tarnów
X-ORIGINAL-URL:https://kultura.tarnow.pl
X-WR-CALDESC:Wydarzenia dla
REFRESH-INTERVAL;VALUE=DURATION:PT1H
X-Robots-Tag:noindex
X-PUBLISHED-TTL:PT1H
BEGIN:VTIMEZONE
TZID:Europe/Warsaw
BEGIN:DAYLIGHT
TZOFFSETFROM:+0100
TZOFFSETTO:+0200
TZNAME:CEST
DTSTART:20240331T010000
END:DAYLIGHT
BEGIN:STANDARD
TZOFFSETFROM:+0200
TZOFFSETTO:+0100
TZNAME:CET
DTSTART:20241027T010000
END:STANDARD
END:VTIMEZONE
BEGIN:VEVENT
DTSTART;TZID=Europe/Warsaw:20241207T100000
DTEND;TZID=Europe/Warsaw:20241207T120000
DTSTAMP:20260424T091716
CREATED:20241202T081105Z
LAST-MODIFIED:20241202T081105Z
UID:10022530-1733565600-1733572800@kultura.tarnow.pl
SUMMARY:"Stado koni po osiedlu goni!" - warsztaty plastyczne
DESCRIPTION:Warsztaty plastyczne dla rodzin z dziećmi 5-9 lat \nCzy wiesz co można stworzyć mając kolorowy papier\, klej i włóczkę? Własnego\, brykającego konia! Zainspirowani wystawą wspólnie wykonamy kolorowe stado koni\, które śmiało przebiegną przez osiedle Westerplatte! Każde dziecko będzie mogło nadać swojemu zwierzęciu styl i charakter. Gotowe zabawki dzieci zabierają do domu. \nWstęp płatny: 15 zł od uczestnika wraz z opiekunem. Obowiązują zapisy: tel. 888 655 101\, d.cholewiak@tck.pl \nZapisujemy dziecko – opiekun jest zapisany automatycznie\, jego obecność na zajęciach jest obowiązkowa. \nWarsztaty prowadzą: Angelika Radoń i Daniel Cholewiak.
URL:https://kultura.tarnow.pl/wydarzenie/stado-koni-po-osiedlu-goni-warsztaty-plastyczne/
LOCATION:Dom Kultury Westerplatte 8a\, Westerplatte 8a\, Tarnów\, Polska - małopolskie\, 33-100\, Polska
CATEGORIES:warsztaty
ATTACH;FMTTYPE=image/jpeg:https://kultura.tarnow.pl/wp-content/uploads/Stado-koni.jpg
ORGANIZER;CN="Dom Kultury Westerplatte 8a":MAILTO:westerplatte@tck.pl
GEO:50.0273033;21.0087361
X-APPLE-STRUCTURED-LOCATION;VALUE=URI;X-ADDRESS=Dom Kultury Westerplatte 8a Westerplatte 8a Tarnów Polska - małopolskie 33-100 Polska;X-APPLE-RADIUS=500;X-TITLE=Westerplatte 8a:geo:21.0087361,50.0273033
END:VEVENT
BEGIN:VEVENT
DTSTART;TZID=Europe/Warsaw:20241207T100000
DTEND;TZID=Europe/Warsaw:20241207T170000
DTSTAMP:20260424T091716
CREATED:20241203T114127Z
LAST-MODIFIED:20241203T114127Z
UID:10022587-1733565600-1733590800@kultura.tarnow.pl
SUMMARY:"Fischmarkt" Tadeusz Rolke
DESCRIPTION:W Galerii TCK po raz trzeci prezentujemy znakomite fotografie Tadeusza Rolke. Tym razem zajmujący istotne miejsce w dorobku artystycznym cykl „Fischmarkt”\, który realizował w latach 1978–1979 r. w Hamburgu. \nO wystawie na fototapeta.pl  \nTadeusz Rolke urodził się w 1929 roku w Warszawie. Jeden z najwybitniejszych autorów w historii fotografii polskiej. Studiował historię sztuki na KUL w Lublinie i Uniwersytecie Warszawskim. W latach 60. pracował w tygodniku „Stolica” oraz miesięczniku „Polska”. W latach 1970-1980 mieszkał w Niemczech i fotografował dla takich czasopism\, jak „Stern”\, „Spiegel”\, „Die Zeit”. Twórczość Tadeusza Rolke prezentowana była na licznych wystawach w Polsce i zagranicą m.in. w Centrum Sztuki Współczesnej Zamek Ujazdowski w Warszawie (1997\, 2009); Fundacji Galerii Foksal w Warszawie (2003); Żydowskim Instytucie Historycznym w Warszawie (2003\, 2016); Domu Spotkań z Historią (2008\, 2019); Muzeum Historii Żydów Polskich Polin w Warszawie (2012); MOCAK Muzeum Sztuki Współczesnej w Krakowie (2013); Centralnej Akademii Dramatycznej w Pekinie (2015); Centrum Historii Miejskiej we Lwowie (2016); Instytutach Polskich w Berlinie (2006\, 2019)\, Düsseldorfie (2005)\, Bratysławie (2000)\, Paryżu (2005); Sesc Consolação w São Paulo (2015); Chińskim Narodowym Muzeum Sztuki w Pekinie (2015)\, Galerii Le Guern w Warszawie (2010\, 2013\, 2018\, 2019\, 2022); Tarnowskim Centrum Kultury (2014\, 2020); Muzeum Literatury w Warszawie (2021)\, CSK w Lublinie (2023). \nTadeusz Rolke w czasie trwającej około dekadę emigracji w Republice Federalnej Niemiec\, wiosną 1971 roku przyjeżdża do stolicy niemieckiej prasy\, Hamburga. Na przestrzeni kolejnych lat\, wielokrotnie publikuje w czołowych pismach zachodnioniemieckich: „Die Zeit”\, „Stern”\, „Stern Journal” i „Der Spiegel”.\nJego fotografie wykonane w Hamburgu\, to prywatny zapis życia ulicznego i wydarzeń kulturalnych tamtych lat. Istotne miejsce w dorobku artystycznym stanowi cykl „Fischmarkt”\, który realizował w latach 1978–1979 podczas licznych wizyt na hamburskim\, niedzielnym targu rybnym. Na swoich fotografiach uwiecznił wyjątkową różnorodność codziennych sytuacji i zestaw indywiduów\, reprezentujących „barwne” społeczeństwo. Po raz pierwszy Fischmarkt zaprezentowany został publiczności już w 1979 roku przy Ost-West Strasse w Hamburgu. Po raz kolejny\, również w Hamburgu\, w 2002 roku Tadeusz Rolke był gościem specjalnym 2. Triennale Fotografii w Kunstverein\, ponownie prezentując ten znakomity zestaw fotografii. \nPrezentacja dzięki uprzejmości Galerii Le Guern. \nMiejsce: Galeria TCK (Tarnów\, Rynek 5)\nTermin: 16 listopada do 21 grudnia 2024 r.\nGodziny otwarcia: Poniedziałek–piątek: 10:00–18:00\, Sobota: 10:00–17:00\nBilety: 7 zł (normalny) i 5 zł (ulgowy).
URL:https://kultura.tarnow.pl/wydarzenie/fischmarkt-tadeusz-rolke-2/2024-12-07/
LOCATION:Tarnowskie Centrum Kultury\, Rynek 5\, Tarnów\, małopolskie\, 33-100\, Polska
CATEGORIES:wystawy
GEO:50.012155;20.9878542
X-APPLE-STRUCTURED-LOCATION;VALUE=URI;X-ADDRESS=Tarnowskie Centrum Kultury Rynek 5 Tarnów małopolskie 33-100 Polska;X-APPLE-RADIUS=500;X-TITLE=Rynek 5:geo:20.9878542,50.012155
END:VEVENT
BEGIN:VEVENT
DTSTART;TZID=Europe/Warsaw:20241207T110000
DTEND;TZID=Europe/Warsaw:20241207T130000
DTSTAMP:20260424T091716
CREATED:20241004T071539Z
LAST-MODIFIED:20241004T071539Z
UID:10020638-1733569200-1733576400@kultura.tarnow.pl
SUMMARY:Sobota w Pałacu
DESCRIPTION:Jak sobota\, to tylko w Pałacu 🙂 \nSobota w Pałacu to nasza nowa propozycja\, która pozwoli na atrakcyjne spędzanie wolnego czasu. Warsztaty zaplanowano na wybrane soboty\, w godzinach 11.00 – 13.00. Spotkania będą cykliczne i obejmą działania z zakresu rzemiosła\, majsterkowania\, upcyklingu\, szycia\, rękodzieła i sztuk plastycznych. Planujemy także warsztaty taneczne\, muzyczne i sportowe. Część warsztatów przyjmie formułę działań rodzinnych. Do wspólnego tworzenia zaprosimy dzieci z rodzicami\, dziadkami lub starszym rodzeństwem. Uczestnicy będą pracować pod okiem wyspecjalizowanej kadry. Wśród sobotnich propozycji znajdą się także wymiany różnych przedmiotów. Będzie to okazja do domowych porządków i podzielenia się rzeczami. Nie wyrzucamy\, uwalniamy – niech cieszą innych! Wszystkim obiecujemy super zabawę\, pełną niekończących się pomysłów i kreatywności. Zapraszamy! \nMiejsce spotkań: Pałac Młodzieży w Tarnowie\, ul. Piłsudskiego 24 \nUWAGA! Warsztaty są bezpłatne\, ilość miejsc ograniczona. \nHarmonogram spotkań: \n12.10.2024  Eko ozdoby z jesiennych darów natury – rodzinne warsztaty plastyczne (dzieci w wieku 6 – 8 lat + osoba dorosła) \nProwadzenie: Maria Mendel \nZgłoszenia do 9.10.2024 lub do wyczerpania miejsc na adres: m.mendel@pm.tarnow.pl \n19.10.2024  Latawce i wiatr – warsztaty modelarskie (wiek uczestników 7 – 14 lat)  \nProwadzenie: Wojciech Brajowski \nZgłoszenia w terminie 1.10 – 16.10.2024 lub do wyczerpania miejsc na adres: w.brajowski@pm.tarnow.pl lub telefonicznie 694 313 571 \n26.10.2024  Pałacowe wymianki\, czyli daj przedmiotom drugie życie – wymiana zabawek\, gier planszowych i książek dla dzieci \nOrganizacja: Joanna Wielgus\, Ewelina Janikowska Zgłoszenia w terminie 1.10 – 18.10.2024 lub do wyczerpania miejsc na adres: mcwtarnow@gmail.com \n16.11.2024  Między dźwiękami – zajęcia umuzykalniające dla dzieci (wiek uczestników 6 – 7 lat) \nProwadzenie: Iwona Kędroń \nZgłoszenia w terminie 4.11 – 14.11.2024 lub do wyczerpania miejsc na adres: i.kedron@pm.tarnow.pl \n23.11.2024  Tańczyć każdy może – warsztaty taneczne/w programie popularne tańce grupowe   (wiek uczestników 10 – 12 lat)    \nProwadzenie: Maria Szydłowska \nZgłoszenia w terminie 8.11 – 20.11.2024 lub do wyczerpania miejsc na adres: m.szydlowska@pm.tarnow.pl lub telefonicznie 505 677 502 \n30.11.2024  Ozdoby choinkowe z banerów. Upcyklingowe warsztaty plastyczne  (wiek uczestników  8 – 15 lat)  \nProwadzenie: Iwona Gąsior \nZgłoszenia w terminie 12.11 – 27.11.2024 lub do wyczerpania miejsc na adres: i.gasior@pm.tarnow.pl \n7.12.2024  Zimowy skrzacik – zawieszka. Warsztaty hande made (wiek uczestników 8 – 10 lat)         \nProwadzenie: Joanna Wielgus \nZgłoszenia w terminie 25.11 – 5.12.2024 lub do wyczerpania miejsc na adres: j.wielgus@pm.tarnow.pl                                                                                                                                 
URL:https://kultura.tarnow.pl/wydarzenie/sobota-w-palacu/2024-12-07/
LOCATION:Pałac Młodzieży\, ul. Piłsudskiego 24\, Tarnów\, małopolskie\, 33-100\, Polska
CATEGORIES:warsztaty
GEO:50.0172246;20.9854709
X-APPLE-STRUCTURED-LOCATION;VALUE=URI;X-ADDRESS=Pałac Młodzieży ul. Piłsudskiego 24 Tarnów małopolskie 33-100 Polska;X-APPLE-RADIUS=500;X-TITLE=ul. Piłsudskiego 24:geo:20.9854709,50.0172246
END:VEVENT
BEGIN:VEVENT
DTSTART;TZID=Europe/Warsaw:20241207T110000
DTEND;TZID=Europe/Warsaw:20241207T140000
DTSTAMP:20260424T091716
CREATED:20241121T092220Z
LAST-MODIFIED:20241121T092220Z
UID:10022511-1733569200-1733580000@kultura.tarnow.pl
SUMMARY:Mikołajki jak z bajki
DESCRIPTION:Tarnowskie Centrum Kultury i Rada Osiedla Nr 7 „Krakowska” zapraszają najmłodszych na „Mikołajki jak z bajki”\, które odbędą się 7 grudnia 2024 r. w godz. od 11:00 do 14:00 w Sali gimnastycznej Niepublicznej Szkoły Podstawowej im. Marynarki Handlowej z Oddziałami Mistrzostwa Sportowego (ul. Skorupki 9). \n  \nW programie: wizyta i spotkanie z Mikołajem\, warsztaty piernikowe\, balonowe świąteczne wzory\, zabawy i animacje dla dzieci prowadzone przez Pracownię Jaszczur i Przyjaciele\, symboliczne upominki dla dzieci. \nImpreza skierowana jest do dzieci w wieku od 4 do 12 lat. Liczba uczestników ograniczona. \nZapisy na imprezę odbywają się pod nr tel.: 504 586 116 do dnia 27 listopada 2024 r. \nOrganizatorem imprezy jest Tarnowskie Centrum Kultury i Rada Osiedla Nr 7 „Krakowska”. \nProjekt jest finansowany z Budżetu Miasta Tarnowa.
URL:https://kultura.tarnow.pl/wydarzenie/mikolajki-jak-z-bajki/
LOCATION:Sala gimnastyczna Niepublicznej Szkoły Podstawowej im. Marynarki Handlowej z Oddziałami Mistrzostwa Sportowego\, ul. Skorupki 9\, Tarnów\, małopolskie\, 33-100\, Poland
CATEGORIES:spotkania
ATTACH;FMTTYPE=image/jpeg:https://kultura.tarnow.pl/wp-content/uploads/TCK_RadaOsiedla_Mikolajki_Plakat.jpg
END:VEVENT
BEGIN:VEVENT
DTSTART;TZID=Europe/Warsaw:20241207T180000
DTEND;TZID=Europe/Warsaw:20241207T200000
DTSTAMP:20260424T091716
CREATED:20241126T081407Z
LAST-MODIFIED:20241126T081407Z
UID:10022521-1733594400-1733601600@kultura.tarnow.pl
SUMMARY:"Muzyczny świat Disney`a" - koncert familijny
DESCRIPTION:Wyjątkowy koncert\, który przeniesie widzów w magiczny świat piosenek z bajek Disneya oraz innych znanych filmów animowanych. Wspaniałe utwory\, które kochają zarówno dzieci\, jak i dorośli\, na żywo zaśpiewają utalentowani artyści: Kuba Jurzyk\, Magda Wasylik i Kinga Gurgul. \nKoncert zapowiada się jako emocjonująca podróż przez najpiękniejsze melodie\, które towarzyszyły pokoleniom. W repertuarze znajdą się niezapomniane melodie z filmów\, takich jak „Król Lew”\, „Kraina Lodu”\, „Pocahontas”\, „Vaiana”\, „Nasze Magiczne Encanto” oraz wiele innych. \nArtyści wprowadzą publiczność w świat baśni\, przywołując znane postacie i historie\, które nie tylko rozgrzewają serca\, ale niosą ze sobą piękne wartości\, wciąż tak ważne w naszym życiu. \nŚwietna atmosfera oraz interakcja z publicznością sprawią\, że koncert będzie niezapomnianym przeżyciem. Oczekujcie niespodzianek oraz wyjątkowych aranżacji\, które porwą każdego widza. To idealna okazja\, by spędzić czas z rodziną i przyjaciółmi w wyjątkowym\, klimacie\, czerpiąc radość z muzyki znanych i lubianych bajek. \nNie przegapcie tego magicznego wydarzenia! Przyjdźcie i pozwólcie\, aby muzyka zabrała Was w niezapomnianą podróż po świecie wyobraźni! \nWystąpią: \nKuba Jurzyk – wokalista i aktor dubbingowy\, znany jako współtwórca i wokalista Studia Accantus. Wielokrotnie użyczył swojego głosu w produkcjach Disneya\, Netflixa i wielu innych. Jego charyzma i umiejętność kontaktu z młodą publicznością sprawiają\, że koncerty dla nich są pełne uśmiechu i świetnej zabawy. \nMagda Wasylik – wokalistka i aktorka dubbingowa. W swojej kilkunastoletniej karierze użyczyła swojego głosu wielu postaciom z bajek\,m.in. takich jak Anna (Kraina Lodu)\, Poppy (Trole) czy Świnka Peppa. \nKinga Gurgul – wokalistka\, studentka Uniwersytetu Muzycznego im. F. Chopina w Warszawie na kierunku Musical\, obdarzona niepowtarzalnym ciepłym i bajkowym głosem. \nOraz zespół w składzie: \n\nJakub Zaczkowski – piano\, aranżacje\nTomasz Boruch – gitary\nPaweł Grzesiuk – bas\nTomasz Bielecki – perkusja\n\nInformacje / bilety: \nBilety: 70 zł (normalny)\, 60 zł (ulgowy)\, 50 zł (pufy)
URL:https://kultura.tarnow.pl/wydarzenie/muzyczny-swiat-disneya-koncert-familijny/
LOCATION:Centrum Sztuki Mościce\, Traugutta 1\, Tarnów\, małopolskie\, 33-101\, Polska
CATEGORIES:koncerty
ATTACH;FMTTYPE=image/jpeg:https://kultura.tarnow.pl/wp-content/uploads/disnej.jpeg
GEO:50.009833;20.92706
X-APPLE-STRUCTURED-LOCATION;VALUE=URI;X-ADDRESS=Centrum Sztuki Mościce Traugutta 1 Tarnów małopolskie 33-101 Polska;X-APPLE-RADIUS=500;X-TITLE=Traugutta 1:geo:20.92706,50.009833
END:VEVENT
BEGIN:VEVENT
DTSTART;TZID=Europe/Warsaw:20241207T200000
DTEND;TZID=Europe/Warsaw:20241207T220000
DTSTAMP:20260424T091716
CREATED:20241126T080856Z
LAST-MODIFIED:20241126T080856Z
UID:10022520-1733601600-1733608800@kultura.tarnow.pl
SUMMARY:Please\, Stand-up! 2024
DESCRIPTION:Największe widowisko komediowe w historii! Najlepsi polscy komicy\, nowy repertuar\, multimedialne show i gość specjalny w największych polskich arenach. \n\nZapraszamy Was na nadzwyczajne\, jedyne w swoim rodzaju wydarzenie łączące ze sobą różne style stand-up comedy. Najlepsi polscy komicy\, nowy repertuar\, multimedialne show i gość specjalny w największych polskich arenach. \nGospodarzem spektaklu będzie uwielbiany przez tłumy Łukasz „Lotek” Lodkowski. Wystąpią: Piotr „Zola” Szulowski\, Błażej Krajewski\, Michał Leja\, Darek Gadowski i Tomek Kołecki. O oprawę muzyczną i wizualną zadba Falcon1. \nJako special guest ze specjalnie na tę okazję przygotowanym materiałem stand-upowym wystąpi niepowtarzalna Joanna Jędrzejczyk\, mistrzyni świata UFC! \nWydarzenie dla widzów pełnoletnich. Udział w wydarzeniu osób poniżej 18 roku życia jest możliwy w towarzystwie lub za zgodą i na odpowiedzialność opiekuna.
URL:https://kultura.tarnow.pl/wydarzenie/please-stand-up-2024/
LOCATION:Arena Jaskółka Tarnów\, ul. Traugutta 3B\, Tarnów\, Polska - małopolskie\, 33-101\, Polska
CATEGORIES:kabarety
ATTACH;FMTTYPE=image/jpeg:https://kultura.tarnow.pl/wp-content/uploads/standup.jpg
GEO:50.009086;20.929684
X-APPLE-STRUCTURED-LOCATION;VALUE=URI;X-ADDRESS=Arena Jaskółka Tarnów ul. Traugutta 3B Tarnów Polska - małopolskie 33-101 Polska;X-APPLE-RADIUS=500;X-TITLE=ul. Traugutta 3B:geo:20.929684,50.009086
END:VEVENT
END:VCALENDAR