BEGIN:VCALENDAR
VERSION:2.0
PRODID:-//kultura.tarnów - ECPv6.4.0.1//NONSGML v1.0//EN
CALSCALE:GREGORIAN
METHOD:PUBLISH
X-WR-CALNAME:kultura.tarnów
X-ORIGINAL-URL:https://kultura.tarnow.pl
X-WR-CALDESC:Wydarzenia dla
REFRESH-INTERVAL;VALUE=DURATION:PT1H
X-Robots-Tag:noindex
X-PUBLISHED-TTL:PT1H
BEGIN:VTIMEZONE
TZID:Europe/Warsaw
BEGIN:DAYLIGHT
TZOFFSETFROM:+0100
TZOFFSETTO:+0200
TZNAME:CEST
DTSTART:20240331T010000
END:DAYLIGHT
BEGIN:STANDARD
TZOFFSETFROM:+0200
TZOFFSETTO:+0100
TZNAME:CET
DTSTART:20241027T010000
END:STANDARD
END:VTIMEZONE
BEGIN:VEVENT
DTSTART;TZID=Europe/Warsaw:20241203T090000
DTEND;TZID=Europe/Warsaw:20241203T150000
DTSTAMP:20260424T154530
CREATED:20241030T084509Z
LAST-MODIFIED:20241030T084509Z
UID:10022463-1733216400-1733238000@kultura.tarnow.pl
SUMMARY:„Miniatury w Zbiorach Muzeum Ziemi Tarnowskiej”
DESCRIPTION:Muzeum Ziemi Tarnowskiej zaprasza na wyjątkową wystawę miniatur w ramach\, która realizowana jest w ramach cyklu „Skarby Muzeum Ziemi Tarnowskiej”. Wernisaż odbędzie się 4 listopada 2024 roku o godzinie 18:00 w Muzeum Historii Tarnowa i Regionu (Tarnów\, Rynek 20-21). Ekspozycja będzie dostępna dla zwiedzających od 4 listopada do 31 grudnia 2024 roku. \nTa pierwsza tak obszerna prezentacja obejmuje ponad 150 dzieł z muzealnej kolekcji. Wśród nich znajdują się różnorodne miniatury wykonane w okresie od drugiej połowy XVIII do początku XXI wieku\, a pochodzące z dawnej kolekcji książąt Sanguszków z pałacu w Gumniskach\, zbioru zakupionego od prywatnego kolekcjonera w 1982 roku\, oraz pojedyncze\, cenne obiekty nabyte w drodze darowizn i zakupów. \nMiniatury wystawione na ekspozycji wykonane zostały na takich materiałach jak kość\, pergamin\, metal\, szkło\, papier i drewno. Nie brak wśród nich portretów\, pejzaży\, scen rodzajowych oraz przedstawień religijnych i patriotycznych. Zbiory te mają ogromne znaczenie sentymentalne\, historyczne i artystyczne. Dla zwiedzających stanowić mogą formę wyjątkowych dzieł sztuki\, ale również cenne świadectwa minionych epok. \nGodziny otwarcia: \nponiedziałek: nieczynne\nwtorek: 9.00 – 15.00\nśroda: 9.00 – 15.00\nczwartek: 9.00 – 15.00\npiątek: 9.00 – 17.00\nsobota: nieczynne\nniedziela: 10.00 – 14.00
URL:https://kultura.tarnow.pl/wydarzenie/miniatury-w-zbiorach-muzeum-ziemi-tarnowskiej-2/2024-12-03/
LOCATION:Muzeum Ziemi Tarnowskiej\, Rynek 3\, Tarnów\, małopolskie\, 33-100\, Polska
CATEGORIES:wystawy
ATTACH;FMTTYPE=image/jpeg:https://kultura.tarnow.pl/wp-content/uploads/Miniatury-w-zbiorach_plakat_.jpg
GEO:50.0122989;20.9877958
X-APPLE-STRUCTURED-LOCATION;VALUE=URI;X-ADDRESS=Muzeum Ziemi Tarnowskiej Rynek 3 Tarnów małopolskie 33-100 Polska;X-APPLE-RADIUS=500;X-TITLE=Rynek 3:geo:20.9877958,50.0122989
END:VEVENT
BEGIN:VEVENT
DTSTART;TZID=Europe/Warsaw:20241203T100000
DTEND;TZID=Europe/Warsaw:20241203T170000
DTSTAMP:20260424T154530
CREATED:20241203T113718Z
LAST-MODIFIED:20241203T113718Z
UID:10022548-1733220000-1733245200@kultura.tarnow.pl
SUMMARY:Grzegorz Kumorek "Stodoła\, dom\, las"
DESCRIPTION:W programie wystawy:\n1.12.2024 (niedziela)\ng. 10:00 Wyjazd spod BWA Pałacyku Strzeleckiego (ul. Słowackiego 1) do Olszowej / bezpłatny bus\, ilość miejsc ograniczona\, obowiązują zapisy: 14 688 88 20\ng. 11:00 Start spaceru w Olszowej (Olszowa 7\, 32-840 Olszowa) – spacer po Olszowej (ok. 40 min.) i zwiedzanie pracowni artysty / wstęp wolny\, bez zapisów\ng. 13:30 Po wystawie Grzegorza Kumorka „Stodoła\, dom\, las” oprowadza Katarzyna Roj / BWA\, Pałacyk Strzelecki\, wstęp wolny \nNiedziela 12.01 – Finisaż \nGrand Prix IX Salonu BWA Tarnów \nTytułowe Stodoła\, dom\, las to elementy krajobrazu wsi Olszowa\, gdzie mieszka artysta. Miejsce\, niegdyś zamieszkane przez jego dziadków\, teraz należy do Grzegorza Kumorka. Teren\, położony na wzgórzu\, otacza swobodnie rozrastająca się przyroda\, która stanowi istotną bohaterkę zarówno wystawy\, jak i twórczości artysty. \nGrzegorz wchodzi z tym miejscem w dialogiczny taniec\, konsekwentnie odkrywając\, przesuwając\, łącząc i budując. Jak sam wspomina\, jego pierwsze dziecięce zabawy polegały na budowaniu konstrukcji z patyków znalezionych wokół gospodarstwa. Gałęzie i patyki pozostały jednym z głównych materiałów prac artysty. Ten proces\, głęboko zakorzeniony w przeszłości\, cechuje pokora i szacunek do tworzywa. Grzegorz określa go mianem „wiejskiego” – bo na wsi nic się nie marnuje\, wszystko ma wartość i jest wykorzystywane zgodnie z tym\, co pod ręką. \nPodobnie jak kotłuje się pobliska przyroda\, tak Grzegorz przeczesuje i przekłada kolejne znalezione fragmenty\, aż w końcu stworzą odpowiednią kompozycję. W tym wirze patyk staje się wszystkim – narzędziem\, materiałem\, magiczną różdżką\, kością\, niebem\, granicą.  Tworzenie tych małych światów nie wypływa z potrzeby kontroli\, lecz z fascynacji samym procesem\, oddania się intuicji\, gdyż końcowy efekt zawsze pozostaje niepewny. Grzebanie staje się bramą do jego twórczości. Grzebie w ziemi\, w przedmiotach po babci\, szukając z ciekawością i konsekwencją\, ale też grzebie\, by w rytualny sposób pożegnać przeszłość\, oddać jej szacunek\, domknąć jakiś etap. \nPrzestrzeń wyznaczona przez stodołę\, dom i las jest miejscem spotkania życia i śmierci\, a jego prace afirmują i akceptują procesy\, które się tam dokonują. Dla artysty to podróż osobista – zmaganie się z materią\, wspomnieniami\, oczekiwaniami. Jest to zarówno dosłowne\, jak i symboliczne budowanie własnego miejsca\, wykorzystanie tego\, co zastane;  nadanie mu nowego znaczenia przez formę wizualną. \nEkspozycja odtwarza tytułowy układ krajobrazu gospodarstwa z Olszowej\, przypisując prace do konkretnych jego elementów\, które nierzadko znajdują się na granicy poszczególnych przestrzeni. \nGrzegorz Kumorek (ur. 1990) artysta wizualny\, rzeźbiarz. Absolwent Liceum Sztuk Plastycznych w Tarnowie. Ukończył studia na Wydziale Rzeźby Akademii Sztuk Pięknych w Krakowie\, gdzie od 2020 r. pracuje jako asystent. Brał udział w 17. Przeglądzie Sztuki Survival we Wrocławiu (2019)\, zdobył Grand Prix IX Salonu BWA Tarnów (2023)\, finalista Biennale Rybie Oko 11 (2024). Swoje prace prezentował m. in. w Muzeum Narodowym w Krakowie\, Gdańskiej Galerii Miejskiej\, Muzeum Współczesnym Wrocław. Jego pracownia mieści się w rodzinnej wsi Olszowa (powiat tarnowski). \nGodziny otwarcia ekspozycji: \nwtorek-piątek: 10:00-17:00 – ostatnie wejście na wystawę o g. 16:45\nniedziela: 11:00-18:00 – ostatnie wejście na wystawę o g. 17:45\nwstęp wolny na wystawę i wydarzenia towarzyszące
URL:https://kultura.tarnow.pl/wydarzenie/grzegorz-kumorek-stodola-dom-las/2024-12-03/
LOCATION:Biuro Wystaw Artystycznych\, ul. Słowackiego 1\, Tarnów\, małopolskie\, 33-100\, Polska
CATEGORIES:wystawy
ORGANIZER;CN="Biuro Wystaw Artystycznych":MAILTO:biuro@bwa.tarnow.pl
GEO:50.0178761;20.9827521
X-APPLE-STRUCTURED-LOCATION;VALUE=URI;X-ADDRESS=Biuro Wystaw Artystycznych ul. Słowackiego 1 Tarnów małopolskie 33-100 Polska;X-APPLE-RADIUS=500;X-TITLE=ul. Słowackiego 1:geo:20.9827521,50.0178761
END:VEVENT
BEGIN:VEVENT
DTSTART;TZID=Europe/Warsaw:20241203T100000
DTEND;TZID=Europe/Warsaw:20241203T170000
DTSTAMP:20260424T154530
CREATED:20241203T114127Z
LAST-MODIFIED:20241203T114127Z
UID:10022583-1733220000-1733245200@kultura.tarnow.pl
SUMMARY:"Fischmarkt" Tadeusz Rolke
DESCRIPTION:W Galerii TCK po raz trzeci prezentujemy znakomite fotografie Tadeusza Rolke. Tym razem zajmujący istotne miejsce w dorobku artystycznym cykl „Fischmarkt”\, który realizował w latach 1978–1979 r. w Hamburgu. \nO wystawie na fototapeta.pl  \nTadeusz Rolke urodził się w 1929 roku w Warszawie. Jeden z najwybitniejszych autorów w historii fotografii polskiej. Studiował historię sztuki na KUL w Lublinie i Uniwersytecie Warszawskim. W latach 60. pracował w tygodniku „Stolica” oraz miesięczniku „Polska”. W latach 1970-1980 mieszkał w Niemczech i fotografował dla takich czasopism\, jak „Stern”\, „Spiegel”\, „Die Zeit”. Twórczość Tadeusza Rolke prezentowana była na licznych wystawach w Polsce i zagranicą m.in. w Centrum Sztuki Współczesnej Zamek Ujazdowski w Warszawie (1997\, 2009); Fundacji Galerii Foksal w Warszawie (2003); Żydowskim Instytucie Historycznym w Warszawie (2003\, 2016); Domu Spotkań z Historią (2008\, 2019); Muzeum Historii Żydów Polskich Polin w Warszawie (2012); MOCAK Muzeum Sztuki Współczesnej w Krakowie (2013); Centralnej Akademii Dramatycznej w Pekinie (2015); Centrum Historii Miejskiej we Lwowie (2016); Instytutach Polskich w Berlinie (2006\, 2019)\, Düsseldorfie (2005)\, Bratysławie (2000)\, Paryżu (2005); Sesc Consolação w São Paulo (2015); Chińskim Narodowym Muzeum Sztuki w Pekinie (2015)\, Galerii Le Guern w Warszawie (2010\, 2013\, 2018\, 2019\, 2022); Tarnowskim Centrum Kultury (2014\, 2020); Muzeum Literatury w Warszawie (2021)\, CSK w Lublinie (2023). \nTadeusz Rolke w czasie trwającej około dekadę emigracji w Republice Federalnej Niemiec\, wiosną 1971 roku przyjeżdża do stolicy niemieckiej prasy\, Hamburga. Na przestrzeni kolejnych lat\, wielokrotnie publikuje w czołowych pismach zachodnioniemieckich: „Die Zeit”\, „Stern”\, „Stern Journal” i „Der Spiegel”.\nJego fotografie wykonane w Hamburgu\, to prywatny zapis życia ulicznego i wydarzeń kulturalnych tamtych lat. Istotne miejsce w dorobku artystycznym stanowi cykl „Fischmarkt”\, który realizował w latach 1978–1979 podczas licznych wizyt na hamburskim\, niedzielnym targu rybnym. Na swoich fotografiach uwiecznił wyjątkową różnorodność codziennych sytuacji i zestaw indywiduów\, reprezentujących „barwne” społeczeństwo. Po raz pierwszy Fischmarkt zaprezentowany został publiczności już w 1979 roku przy Ost-West Strasse w Hamburgu. Po raz kolejny\, również w Hamburgu\, w 2002 roku Tadeusz Rolke był gościem specjalnym 2. Triennale Fotografii w Kunstverein\, ponownie prezentując ten znakomity zestaw fotografii. \nPrezentacja dzięki uprzejmości Galerii Le Guern. \nMiejsce: Galeria TCK (Tarnów\, Rynek 5)\nTermin: 16 listopada do 21 grudnia 2024 r.\nGodziny otwarcia: Poniedziałek–piątek: 10:00–18:00\, Sobota: 10:00–17:00\nBilety: 7 zł (normalny) i 5 zł (ulgowy).
URL:https://kultura.tarnow.pl/wydarzenie/fischmarkt-tadeusz-rolke-2/2024-12-03/
LOCATION:Tarnowskie Centrum Kultury\, Rynek 5\, Tarnów\, małopolskie\, 33-100\, Polska
CATEGORIES:wystawy
GEO:50.012155;20.9878542
X-APPLE-STRUCTURED-LOCATION;VALUE=URI;X-ADDRESS=Tarnowskie Centrum Kultury Rynek 5 Tarnów małopolskie 33-100 Polska;X-APPLE-RADIUS=500;X-TITLE=Rynek 5:geo:20.9878542,50.012155
END:VEVENT
BEGIN:VEVENT
DTSTART;TZID=Europe/Warsaw:20241203T100000
DTEND;TZID=Europe/Warsaw:20241203T180000
DTSTAMP:20260424T154530
CREATED:20240927T102243Z
LAST-MODIFIED:20240927T102243Z
UID:10019509-1733220000-1733248800@kultura.tarnow.pl
SUMMARY:„Koń jaki jest?” - wystawa edukacyjna
DESCRIPTION:7 października – 6 grudnia\, w godzinach otwarcia – wystawa edukacyjna\n \nWystawa „Koń jaki jest?” to pełna uroku podróż przez świat koni przedstawionych w sztuce i kulturze. Zainspirowana książką „Zwierzyniec. Okazy wybrane” (wyd. Międzynarodowe Centrum Kultury w Krakowie i Wydawnictwo Dwie Siostry)\, wystawa prezentuje rozmaite ujęcia tego niezwykłego zwierzęcia – od historycznych ilustracji po ludowe zabawki. \nKonie\, te pracowite\, dumne\, ale i pełne gracji stworzenia\, były i są źródłem inspiracji dla artystów. Na wystawie można zobaczyć różnorodne dzieła: od rysunków i rycin wielkich mistrzów\, takich jak Józef Chełmoński czy Artur Grottger\, po barwne zabawki z drewna\, które bawiły dzieci w dawnych czasach. Wystawa pokazuje\, jak koń był postrzegany na przestrzeni wieków – jako towarzysz w pracy\, wojownik na polu bitwy\, a także obiekt codziennego życia i sztuki ludowej. \nKażdy koń na tej wystawie jest inny: niektóre są spokojne i zadumane\, inne rozbrykane i dzikie jak mustangi. Znajdziemy tu konie z rycin z XIX wieku\, tradycyjne wycinanki ludowe\, a także zabawki z drewna\, które przywodzą na myśl dzieciństwo i dawny świat. \nWystawę w holu Domu Kultury Westerplatte prezentujemy dzięki uprzejmości Międzynarodowego Centrum Kultury w Krakowie. Wstęp bezpłatny.
URL:https://kultura.tarnow.pl/wydarzenie/kon-jaki-jest-wystawa-edukacyjna/2024-12-03/
LOCATION:Dom Kultury Westerplatte 8a\, Westerplatte 8a\, Tarnów\, Polska - małopolskie\, 33-100\, Polska
CATEGORIES:wystawy
ATTACH;FMTTYPE=image/jpeg:https://kultura.tarnow.pl/wp-content/uploads/Kon-jaki-jest_wystawa.jpg
ORGANIZER;CN="Dom Kultury Westerplatte 8a":MAILTO:westerplatte@tck.pl
GEO:50.0273033;21.0087361
X-APPLE-STRUCTURED-LOCATION;VALUE=URI;X-ADDRESS=Dom Kultury Westerplatte 8a Westerplatte 8a Tarnów Polska - małopolskie 33-100 Polska;X-APPLE-RADIUS=500;X-TITLE=Westerplatte 8a:geo:21.0087361,50.0273033
END:VEVENT
BEGIN:VEVENT
DTSTART;TZID=Europe/Warsaw:20241203T170000
DTEND;TZID=Europe/Warsaw:20241203T183000
DTSTAMP:20260424T154530
CREATED:20241129T095241Z
LAST-MODIFIED:20241129T095241Z
UID:10022526-1733245200-1733250600@kultura.tarnow.pl
SUMMARY:Silience Piano Quartet
DESCRIPTION:Koncert SILIENCE PIANO QUARTET \n3 grudnia 2024 godz. 17.00 \nSala koncertowa Zespołu Szkół Muzycznych \nWstęp wolny \n \nZespół założony w 2023 roku przez studentów Akademii Muzycznej w Krakowie\, laureatów konkursów instrumentalnych o randze krajowej i międzynarodowej\, stypendystów Ministra Kultury i Dziedzictwa Narodowego oraz rektora Akademii Muzycznej im. Krzysztofa Pendereckiego w Krakowie. \nObecnie pracują pod pod opieką artystyczną dr hab. Lecha Napierały\, prof AMKP (University of Music and Performing Arts Vienna) oraz dr hab. Beaty Kalinowskiej (Messages String Quartet). \nPrywatnie lubią koty\, gorącą herbatę oraz są bliskimi przyjaciółmi.
URL:https://kultura.tarnow.pl/wydarzenie/silience-piano-quartet/
LOCATION:Sala Koncertowa Zespołu Szkół Muzycznych\, Lippóczy’ego 4\, Tarnów\, małopolskie\, 33-100\, Polska
CATEGORIES:koncerty
ATTACH;FMTTYPE=image/jpeg:https://kultura.tarnow.pl/wp-content/uploads/468409466_1084227486824694_1863658522079944934_n.jpg
ORGANIZER;CN="Zesp%C3%B3%C5%82 Szk%C3%B3%C5%82 Muzycznych":MAILTO:szkola@zsmuz.tarnow.pl
GEO:50.0205582;20.9801972
X-APPLE-STRUCTURED-LOCATION;VALUE=URI;X-ADDRESS=Sala Koncertowa Zespołu Szkół Muzycznych Lippóczy’ego 4 Tarnów małopolskie 33-100 Polska;X-APPLE-RADIUS=500;X-TITLE=Lippóczy’ego 4:geo:20.9801972,50.0205582
END:VEVENT
END:VCALENDAR