BEGIN:VCALENDAR
VERSION:2.0
PRODID:-//kultura.tarnów - ECPv6.4.0.1//NONSGML v1.0//EN
CALSCALE:GREGORIAN
METHOD:PUBLISH
X-ORIGINAL-URL:https://kultura.tarnow.pl
X-WR-CALDESC:Wydarzenia dla
REFRESH-INTERVAL;VALUE=DURATION:PT1H
X-Robots-Tag:noindex
X-PUBLISHED-TTL:PT1H
BEGIN:VTIMEZONE
TZID:Europe/Warsaw
BEGIN:DAYLIGHT
TZOFFSETFROM:+0100
TZOFFSETTO:+0200
TZNAME:CEST
DTSTART:20240331T010000
END:DAYLIGHT
BEGIN:STANDARD
TZOFFSETFROM:+0200
TZOFFSETTO:+0100
TZNAME:CET
DTSTART:20241027T010000
END:STANDARD
END:VTIMEZONE
BEGIN:VEVENT
DTSTART;TZID=Europe/Warsaw:20241201T090000
DTEND;TZID=Europe/Warsaw:20241201T150000
DTSTAMP:20260424T061716
CREATED:20241030T084509Z
LAST-MODIFIED:20241030T084509Z
UID:10022462-1733043600-1733065200@kultura.tarnow.pl
SUMMARY:„Miniatury w Zbiorach Muzeum Ziemi Tarnowskiej”
DESCRIPTION:Muzeum Ziemi Tarnowskiej zaprasza na wyjątkową wystawę miniatur w ramach\, która realizowana jest w ramach cyklu „Skarby Muzeum Ziemi Tarnowskiej”. Wernisaż odbędzie się 4 listopada 2024 roku o godzinie 18:00 w Muzeum Historii Tarnowa i Regionu (Tarnów\, Rynek 20-21). Ekspozycja będzie dostępna dla zwiedzających od 4 listopada do 31 grudnia 2024 roku. \nTa pierwsza tak obszerna prezentacja obejmuje ponad 150 dzieł z muzealnej kolekcji. Wśród nich znajdują się różnorodne miniatury wykonane w okresie od drugiej połowy XVIII do początku XXI wieku\, a pochodzące z dawnej kolekcji książąt Sanguszków z pałacu w Gumniskach\, zbioru zakupionego od prywatnego kolekcjonera w 1982 roku\, oraz pojedyncze\, cenne obiekty nabyte w drodze darowizn i zakupów. \nMiniatury wystawione na ekspozycji wykonane zostały na takich materiałach jak kość\, pergamin\, metal\, szkło\, papier i drewno. Nie brak wśród nich portretów\, pejzaży\, scen rodzajowych oraz przedstawień religijnych i patriotycznych. Zbiory te mają ogromne znaczenie sentymentalne\, historyczne i artystyczne. Dla zwiedzających stanowić mogą formę wyjątkowych dzieł sztuki\, ale również cenne świadectwa minionych epok. \nGodziny otwarcia: \nponiedziałek: nieczynne\nwtorek: 9.00 – 15.00\nśroda: 9.00 – 15.00\nczwartek: 9.00 – 15.00\npiątek: 9.00 – 17.00\nsobota: nieczynne\nniedziela: 10.00 – 14.00
URL:https://kultura.tarnow.pl/wydarzenie/miniatury-w-zbiorach-muzeum-ziemi-tarnowskiej-2/2024-12-01/
LOCATION:Muzeum Ziemi Tarnowskiej\, Rynek 3\, Tarnów\, małopolskie\, 33-100\, Polska
CATEGORIES:wystawy
ATTACH;FMTTYPE=image/jpeg:https://kultura.tarnow.pl/wp-content/uploads/Miniatury-w-zbiorach_plakat_.jpg
GEO:50.0122989;20.9877958
X-APPLE-STRUCTURED-LOCATION;VALUE=URI;X-ADDRESS=Muzeum Ziemi Tarnowskiej Rynek 3 Tarnów małopolskie 33-100 Polska;X-APPLE-RADIUS=500;X-TITLE=Rynek 3:geo:20.9877958,50.0122989
END:VEVENT
BEGIN:VEVENT
DTSTART;TZID=Europe/Warsaw:20241201T160000
DTEND;TZID=Europe/Warsaw:20241201T180000
DTSTAMP:20260424T061716
CREATED:20241121T093841Z
LAST-MODIFIED:20241121T094207Z
UID:10022512-1733068800-1733076000@kultura.tarnow.pl
SUMMARY:HENRYK SZANCER - 120. rocznica urodzin
DESCRIPTION:Zapraszamy na wyjątkowe wydarzenie artystyczno – historyczne w Tarnowie; koncert poetycko – muzyczny poświęcony twórczości nowo odkrywanego tarnowskiego poety\, HENRYKA SZANCERA w 120 rocznicę urodzin artysty. \nRodzina Szancerów od wieków związana była z miastem Tarnów i regionem tarnowskim\, z której wywodził się m.in. wybitny grafik\, Jan Marcin Szancer\, kuzyn Henryka\, bohatera jubileuszowego koncertu. \n  \nHenryk Szancer pozostawił po sobie liczne wiersze\, które obecnie po latach zapomnienia powracają do świadomości literackiej zainteresowanych odbiorców\, artystów oraz historyków. \nW czasie koncertu prezentowane będą wybrane wiersze m.in ze zbioru „Miasta i strofy włoskie”\, które to przeplatane będą muzyką Fryderyka Chopina\, Henryka Wieniawskiego\, Stanisława Moniuszki i Inn. \n  \nWydarzenie będzie uhonorowane GOŚĆMI SPECJALNYMI\, którzy wprowadzą słuchaczy w historię rodziny Szancerów oraz prywatne wspomnienia. \nA będą nimi: \nElizabeth SZANCER – córka Henryka Szancera\, kuratorka sztuki i założycielka ESKart LLC w Nowym Jorku\, która na to wydarzenie przyleci specjalnie z Nowego Jorku. \nAdam BARTOSZ – historyk\, etnograf\, specjalista w dziedzinach muzeologia\, kultura i historia Romów oraz Żydów. \n  \nWYKONAWCY: \nKacper Rokosz – recytacje \nKatarzyna Plewniak- mezzosopran \nJoanna Łukasik – fortepian \nPaweł Łukasik – altówka \nJuliusz Łukasik – fortepian \n  \nOrganizator: \nPolska Fundacja Kultury i Rozwoju \n  \nPartnerzy: \nUrząd Miasta Tarnowa \nKomitet Opieki nad Zabytkami Kultury Żydowskiej w Tarnowie \nRada Osiedla Starówka w Tarnowie
URL:https://kultura.tarnow.pl/wydarzenie/henryk-szancer-120-rocznica-urodzin/
LOCATION:Sala Lustrzana\, Wałowa 10\, Tarnów\, małopolskie\, 33-100\, Polska
CATEGORIES:koncerty
ATTACH;FMTTYPE=image/jpeg:https://kultura.tarnow.pl/wp-content/uploads/SZANCR-KONCERT-1.12.2024.jpg
GEO:50.0133339;20.9861448
X-APPLE-STRUCTURED-LOCATION;VALUE=URI;X-ADDRESS=Sala Lustrzana Wałowa 10 Tarnów małopolskie 33-100 Polska;X-APPLE-RADIUS=500;X-TITLE=Wałowa 10:geo:20.9861448,50.0133339
END:VEVENT
BEGIN:VEVENT
DTSTART;TZID=Europe/Warsaw:20241201T170000
DTEND;TZID=Europe/Warsaw:20241201T190000
DTSTAMP:20260424T061716
CREATED:20241126T075735Z
LAST-MODIFIED:20241126T075735Z
UID:10022519-1733072400-1733079600@kultura.tarnow.pl
SUMMARY:"Skrzypek na dachu"
DESCRIPTION:SKRZYPEK NA DACHU – MUSICAL NA PODSTAWIE ORYGINAŁU SHOLEM ALEICHEM STORIES\, ZA ZGODĄ ARNOLDA PERLA. \nPonad 30 aktorów na scenie! Balet i śpiew na żywo! Oryginalna nowojorska produkcja na Licencji Music Theatre International. Rewelacyjny zespół Teatru z Czeskiego Cieszyna – Scena Polska na swój jubileusz 70-lecia istnienia wystawił „prawdziwe cudo”! Jak dotąd niewiele polskich teatrów dramatycznych zmierzyło się z tym legendarnym musicalem. Zwykle zaporę stanowią wysokie koszty wystawienia i konieczność zapewnienia ponad 30-osobowej obsady aktorów perfekcyjnie śpiewających i tańczących. \nSkrzypka Na Dachu wystawiono po raz pierwszy w 1964r. W Nowym Jorku. Obsypany licznymi nagrodami został uznany najlepszym musicalem na Brodway’u. Jednak eksplozję światowej popularności spowodowała słynna filmowa wersja z Chaimem Topolem w roli Tewiego – Mleczarza. Z pewnością porównanie filmu i naszego spektaklu jest nieuniknione. Gwarantujemy jednak\, że zaskoczy Państwa rozmach i dynamika realizacji scenicznej oraz perfekcyjne aktorstwo! Temat „Skrzypka” okazuje się dzisiaj na nowo aktualny. Mówi o sile tradycji\, miłości\, rodzinie i potrzebie tolerancji oraz szacunku do drugiego człowieka. Realizacja Teatru z Czeskiego Cieszyna rozśmiesza\, jednocześnie chwyta za serce. \nWzruszają słynne piosenki „Tradycja”\, „Gdybym Był Bogaty”\, „Pieśń Szabasowa”\, „Anatewka” i wiele innych. Publiczność ukradkiem ociera łzy i nuci z wykonawcami znane wszystkim melodie. A zatem czekamy na Państwa i życzymy miłej zabawy!
URL:https://kultura.tarnow.pl/wydarzenie/skrzypek-na-dachu/
LOCATION:Centrum Sztuki Mościce\, Traugutta 1\, Tarnów\, małopolskie\, 33-101\, Polska
CATEGORIES:koncerty
ATTACH;FMTTYPE=image/webp:https://kultura.tarnow.pl/wp-content/uploads/584333xl17uiu3f5.webp
GEO:50.009833;20.92706
X-APPLE-STRUCTURED-LOCATION;VALUE=URI;X-ADDRESS=Centrum Sztuki Mościce Traugutta 1 Tarnów małopolskie 33-101 Polska;X-APPLE-RADIUS=500;X-TITLE=Traugutta 1:geo:20.92706,50.009833
END:VEVENT
BEGIN:VEVENT
DTSTART;TZID=Europe/Warsaw:20241201T170000
DTEND;TZID=Europe/Warsaw:20241201T210000
DTSTAMP:20260424T061716
CREATED:20241104T070150Z
LAST-MODIFIED:20241115T065700Z
UID:10022497-1733072400-1733086800@kultura.tarnow.pl
SUMMARY:21. Festiwal Sztuki ArtFest
DESCRIPTION:21. Festiwal Sztuki ArtFest im. Bogusława Wojtowicza\nOczko\, emocje\, las\, wystawa\, teatr\, moda\, wykład\, koncert\, spacer\, spotkanie\, film\, architektura\, natura\, literatura\, plakat\, fotografia\, kolaż\, piesek\, razem. \nWstęp wolny na wystawy i wydarzenia\n*Na niektóre wydarzenia obowiązują zapisy lub bezpłatne wejściówki \nCzwartek 14.11 / Prolog Festiwalu ArtFest \n18:00 – Rozmowa o „Hometown” z udziałem fotografa Krzysztofa Zielińskiego oraz Łukasza Gorczycy i Adama Mazura / na wystawie Krzysztofa Zielińskiego „Hometown” / Dworzec PKP \nPiątek 15.11 / INAUGURACJA \n17:00 – „Last Sapiens” / pokaz mody tarnowskiej projektantki Anny Curyło i pokaz multimedialny fotografii/wideo kajpust studio (Gabriela Kajpust\, Michał Kajpust). Po pokazie performans i live set Kola & SMTHN / Pałacyk Strzelecki \n19:00 – Wiktor Lekston „Fantasmagorie. Transcendentny spacer po Tarnowie” – wernisaż wystawy zdjęć i wideo / MCA Wałowa 25 \nSobota 16.11 \n18:00 – Körkarlen Trio – koncert na żywo do kultowego szwedzkiego niemego filmu „Furman Śmierci” w reż. Victora Sjöströma (1921)\, zagrają: Michał Warmusz (syntezator\, sampler)\, Miłosz Bazarnik (fortepian)\, Kacper Matuszewski (perkusja) / Pałacyk Strzelecki \nPoniedziałek 18.11 \n17:00 – Warsztaty eko-kolaży z Natalią Kamysz (Papierowy Dizajn) / dla dorosłych\, bezpłatne\, ilość miejsc ograniczona\, obowiązują zapisy: walowa25@bwa.tarnow.pl / MCA Wałowa 25 \nŚroda 20.11 \n12:00-18:00 – Prezentacja cyfrowej rekonstrukcji zamku na Górze św. Marcina – spotkanie z autorem Michałem Szumlańskim / Pałacyk Strzelecki \nCzwartek 21.11 \n18:00 – „The Hippocampus” – koncert audiowizualny\, zagrają: Malwina Kołodziejczyk (saksofon)\, Jakub Miarczyński (perkusjonalia)\, Eric Bauer (elektronika) i Bartosz Nalepa (wizualizacje na żywo) / Pałacyk Strzelecki \nNiedziela 24.11 \n12:00 – „Sen o lesie” – wernisaż wystawy Aleksandry Bujnowskiej\, kuratorki: Ewa Łączyńska-Widz\, Agata Sulikowska-Dejena; i wykład Eweliny Haraf o zmysłach i emocjach zwierząt / Dworzec PKP \n15:00 – Mały ArtFest – „Papier\, nożyce i wyspa skarbów” – spektakl dla dzieci Teatru Figurki / bezpłatne wejściówki do odebrania w siedzibie BWA / Pałacyk Strzelecki \n16:15 – Mały ArtFest – „Spacer w ciemnościach” – spacer z lampionami ścieżkami Parku Strzeleckiego\, prowadzenie: Wojciech Sanek / zbiórka pod Pałacykiem Strzeleckim \nPoniedziałek 25.11 \n17:00 – Beata Szady „Polska według Ryszarda Kai” – spotkanie autorskie\, opowieść o popularnym plakaciście i promocja książki (Wydawnictwo Czarne) / MCA Wałowa 25 \n18:00 – Plakat za dwie dyszki – wyprzedaż plakatów archiwalnych\, kto pierwszy ten lepszy! / MCA Wałowa 25 \nWtorek 26.11 \n17:00 – Marcin Wilk „Lepszy gatunek. Psio-ludzkie historie” – spotkanie autorskie i promocja książki (Wydawnictwo W.A.B.) w sąsiedztwie mopsa Aleksandra z Zamku Królewskiego na Wawelu\, prowadzenie: Joanna Janik / MCA Wałowa 25 \nŚroda 27.11 \n17:00 – Wojciech Pietrzyk – wykład Olgi Fularskiej o architekcie Domu Doktora Książka / MCA Wałowa 25 \nCzwartek 28.11 \n17:00 – Anna Cymer „Długie lata 90. Architektura w Polsce czasów transformacji” – wykład\, spotkanie autorskie i promocja książki (Centrum Architektury)\, prowadzenie: Barbara Bułdys / MCA Wałowa 25 \nPiątek 29.11 \n18:00 – Grzegorz Kumorek „Stodoła\, dom\, las” – wernisaż wystawy laureata Grand Prix IX Salonu BWA\, kuratorka: Jagoda Dobecka / Pałacyk Strzelecki \nNiedziela 1.12 \nSpacer po Olszowej z artystą Grzegorzem Kumorkiem\, zwiedzanie pracowni artysty\, spacer po wystawie Grzegorza Kumorka „Stodoła\, dom\, las” z Katarzyną Roj (BWA Wrocław) / Olszowa i BWA Pałacyk Strzelecki / szczegóły wkrótce \nOrganizator: Biuro Wystaw Artystycznych w Tarnowie / Instytucja Kultury Miasta Tarnowa \nAdresy wystaw / wydarzeń – oddziały BWA: \nPałacyk Strzelecki\, ul. Słowackiego 1\nDworzec PKP\, Pl. Dworcowy 4\nMultimedialne Centrum Artystyczne / MCA Wałowa 25 \nMiejsce festiwalowe / miejsce dobrze zaprojektowane: Sklep Browaru Trzech Kumpli (ul. Krakowska 113\, Tarnów)\, w którym w czasie Festiwalu napijecie się kawy z tarnowskiej palarni Darvea oraz przejrzycie książki o sztuce\, architekturze i dizajnie z czytelni BWA Tarnów \nSmak festiwalowy: KOKO Kombucha – nowy smak \nGadżety Festiwalu: metalowe pinsy z grafiką Festiwalu i Pałacykiem – główną siedzibą BWA Tarnów oraz torby z grafiką ArtFestu \nOprawa graficzna: Natalia Sikorska / projekt jest rozwinięciem dyplomu obronionego na Wydziale Sztuki Akademii Tarnowskiej 2023/24\, promotorka: Joanna Tyborowska \nPatronat Honorowy: Jakub Kwaśny – Prezydent Miasta Tarnowa \nProjekt realizowany z budżetów: Krajowego Planu Odbudowy i Zwiększania Odporności – inwestycja A2.5.1 „Program wspierania działalności podmiotów sektora kultury i przemysłów kreatywnych na rzecz stymulowania ich rozwoju”\, Miasta Tarnowa\, Województwa Małopolskiego \nSponsor: Browar Trzech Kumpli \nPartnerzy: Wydawnictwo Czarne\, Centrum Architektury\, Małopolska Fundacja Muzeum Sztuki Współczesnej\, Wydział Sztuki Akademii Tarnowskiej\, Papierowy Dizajn\, Zespół Parków Krajobrazowych Województwa Małopolskiego\, kajpust studio\, Pracownia Cukiernicza Lwów\, Schrupane\, Darvea\, ADplus Media \nFestiwal wspiera: Bodoni
URL:https://kultura.tarnow.pl/wydarzenie/21-festiwal-sztuki-artfest/2024-12-01/
LOCATION:Biuro Wystaw Artystycznych\, ul. Słowackiego 1\, Tarnów\, małopolskie\, 33-100\, Polska
CATEGORIES:festiwale
ATTACH;FMTTYPE=image/png:https://kultura.tarnow.pl/wp-content/uploads/Inauguracja-wydarzenie-facebook-01.png
ORGANIZER;CN="Biuro Wystaw Artystycznych":MAILTO:biuro@bwa.tarnow.pl
GEO:50.0178761;20.9827521
X-APPLE-STRUCTURED-LOCATION;VALUE=URI;X-ADDRESS=Biuro Wystaw Artystycznych ul. Słowackiego 1 Tarnów małopolskie 33-100 Polska;X-APPLE-RADIUS=500;X-TITLE=ul. Słowackiego 1:geo:20.9827521,50.0178761
END:VEVENT
BEGIN:VEVENT
DTSTART;TZID=Europe/Warsaw:20241201T180000
DTEND;TZID=Europe/Warsaw:20241201T200000
DTSTAMP:20260424T061716
CREATED:20241122T141816Z
LAST-MODIFIED:20241128T140230Z
UID:10022515-1733076000-1733083200@kultura.tarnow.pl
SUMMARY:TARNOWSKA ORKIESTRA KAMERALNA
DESCRIPTION:KONCERT TOK \nMagdalena Di Blasi\nFLET \nKatarzyna Guran\nSOPRAN \nTARNOWSKA ORKIESTRA KAMERALNA\nPaweł Wajrak\nKONCERTMISTRZ / KIEROWNICTWO ARTYSTYCZNE \nw programie:\nWolfgang Amadeus Mozart\nUwertura do opery „Czarodziejski flet”\, KV 620\nII Koncert fletowy D-dur\, KV 314\n„Exsultate Jubilate”\, KV 165 \n1 grudnia 2024\, godz. 18:00\nSala Koncertowa ZSM w Tarnowie\, ul. Lippóczy’ego 4 \n  \n \n 
URL:https://kultura.tarnow.pl/wydarzenie/tarnowska-orkiestra-kameralna/
LOCATION:Sala Koncertowa Zespołu Szkół Muzycznych\, Lippóczy’ego 4\, Tarnów\, małopolskie\, 33-100\, Polska
CATEGORIES:koncerty
ATTACH;FMTTYPE=image/jpeg:https://kultura.tarnow.pl/wp-content/uploads/slide-scaled.jpg
GEO:50.0205582;20.9801972
X-APPLE-STRUCTURED-LOCATION;VALUE=URI;X-ADDRESS=Sala Koncertowa Zespołu Szkół Muzycznych Lippóczy’ego 4 Tarnów małopolskie 33-100 Polska;X-APPLE-RADIUS=500;X-TITLE=Lippóczy’ego 4:geo:20.9801972,50.0205582
END:VEVENT
BEGIN:VEVENT
DTSTART;TZID=Europe/Warsaw:20241201T190000
DTEND;TZID=Europe/Warsaw:20241201T210000
DTSTAMP:20260424T061716
CREATED:20240927T112743Z
LAST-MODIFIED:20241003T075935Z
UID:10020595-1733079600-1733086800@kultura.tarnow.pl
SUMMARY:Jazzowa jesień w TCK
DESCRIPTION:Od ponad trzech dekad Tarnowskie Centrum Kultury zaprasza na wyjątkowe spotkania z jazzem. Na scenach Piwnic TCK i Kina Marzenie występowały wybitne osobowości muzyczne z Polski i zagranicy dostarczając słuchaczom niezapomnianych przeżyć. Dzięki środkom pozyskanym z Krajowego Planu Odbudowy\, tegoroczna jesień będzie prawdziwą gratką dla miłośników jazzu. W ramach cyklu Jazzowa jesień w TCK odbędą się cztery koncerty z udziałem czołowych polskich muzyków. \nJazz rozgrzeje jesienne wieczory\nCykl koncertów Jazzowa jesień w TCK uświetnią sławy ze świata jazzu – wybitna wokalistka Grażyna Auguścik\, wirtuozka gitary basowej Kinga Głyk\, saksofonista Grzech Piotrowski oraz Janusz Szrom\, który wykona największe przeboje Andrzeja Zauchy. Koncerty odbędą się w Kinie Marzenie oraz w Piwnicach TCK. Bilety za symboliczną złotówkę do nabycia na stronie internetowej www.tck.pl oraz w kasach TCK i Kina Marzenie. Koncerty będą także transmitowane on-line. \nHarmonogram koncertów: \n11.10.2024\, godz. 19.00 / Kino Marzenie \nGrażyna Auguścik Group \nIkona polskiego jazzu\, otworzy cykl swoim niezrównanym głosem i wyjątkową ekspresją\, oferując wieczór pełen emocji.\nGrażyna Auguścik – wokal\, Jarosław Bester – akordeon\, Szymon Mika – gitara\, Michał Jaros – bas Sebastian Frankiewicz – perkusja. \n15.11.2024\, godz. 19.30 / Piwnice TCK (Przedsprzedaż biletów od 14 października 2024 r.) \nKinga Głyk \nMłoda i utalentowana basistka o międzynarodowej sławie\, dostarczy energetycznej\, nowoczesnej muzyki\, która na pewno porwie publiczność. Artystka wykona utwory ze swojego najnowszego albumu „Real life”.\nKinga Głyk – bas\, Michał Jakubczak – klawisze\, Arek Grygo – klawisze\, Lucas Saint-Cricq – saksofon\, Rodney Barreto – perkusja \n17.11.2024\, godz. 19.30 / Piwnice TCK (Przedsprzedaż biletów od 14 października 2024 r.) \nGrzech Piotrowski Quartet \nGrzech zaskoczy nas oryginalnym podejściem do jazzu\, łącząc różnorodne inspiracje muzyczne w pełne pasji i niespodzianek kompozycje. Podczas koncertu usłyszymy przedpremierowy materiał Grzecha i Tamary.\nGrzech Piotrowski – saksofony\, Tamara Behler – wokal/wiolonczela\, Shachar Elnatan – gitara\, Péter Somos – perksuja \n1.12.2024\, godz. 19.00 / Kino Marzenie (Przedsprzedaż biletów od 14 października 2024 r.) \nJanusz Szrom – Andrzej Zaucha Song Book \nKoncert poświęcony pamięci Andrzeja Zauchy\, podczas Janusz Szrom ze znakomitymi jazzmanami wykona największe przeboje w nowych\, jazzowych aranżacjach\, oferując wieczór pełen wspomnień i wzruszeń.\nJanusz Szrom – wokal\, Andrzej Jagodziński – fortepian\, Andrzej Łukasik – kontrabas\, Marcin Jahr – perkusja \nJazzowa Jesień w TCK to nie tylko hołd dla polskiego jazzu\, ale także kontynuacja wieloletniej tradycji spotkań z najlepszymi muzykami. Dzięki połączeniu koncertów stacjonarnych i transmisji online wydarzenie to stanie się dostępne dla szerokiej publiczności\, niezależnie od miejsca. Wspieramy artystów\, promujemy kulturę i zapraszamy do wspólnego odkrywania niezwykłych muzycznych przestrzeni. \nWydarzenie jest współfinansowane w ramach Krajowego Planu Odbudowy i Zwiększania Odporności – inwestycja A2.5.1 „Program wspierania działalności podmiotów sektora kultury i przemysłów kreatywnych na rzecz stymulowania ich rozwoju”.
URL:https://kultura.tarnow.pl/wydarzenie/74924/2024-12-01/
LOCATION:Kino „Marzenie”\, ul. Staszica 4\, Tarnów\, małopolskie\, 33-100\, Polska
CATEGORIES:koncerty
ATTACH;FMTTYPE=image/jpeg:https://kultura.tarnow.pl/wp-content/uploads/c75283eec75f929a263f14fad467d357.jpeg
GEO:50.011762;20.9833798
X-APPLE-STRUCTURED-LOCATION;VALUE=URI;X-ADDRESS=Kino „Marzenie” ul. Staszica 4 Tarnów małopolskie 33-100 Polska;X-APPLE-RADIUS=500;X-TITLE=ul. Staszica 4:geo:20.9833798,50.011762
END:VEVENT
END:VCALENDAR