BEGIN:VCALENDAR
VERSION:2.0
PRODID:-//kultura.tarnów - ECPv6.4.0.1//NONSGML v1.0//EN
CALSCALE:GREGORIAN
METHOD:PUBLISH
X-WR-CALNAME:kultura.tarnów
X-ORIGINAL-URL:https://kultura.tarnow.pl
X-WR-CALDESC:Wydarzenia dla
REFRESH-INTERVAL;VALUE=DURATION:PT1H
X-Robots-Tag:noindex
X-PUBLISHED-TTL:PT1H
BEGIN:VTIMEZONE
TZID:Europe/Warsaw
BEGIN:DAYLIGHT
TZOFFSETFROM:+0100
TZOFFSETTO:+0200
TZNAME:CEST
DTSTART:20240331T010000
END:DAYLIGHT
BEGIN:STANDARD
TZOFFSETFROM:+0200
TZOFFSETTO:+0100
TZNAME:CET
DTSTART:20241027T010000
END:STANDARD
END:VTIMEZONE
BEGIN:VEVENT
DTSTART;TZID=Europe/Warsaw:20241125T100000
DTEND;TZID=Europe/Warsaw:20241125T180000
DTSTAMP:20260424T091641
CREATED:20240927T102243Z
LAST-MODIFIED:20240927T102243Z
UID:10019503-1732528800-1732557600@kultura.tarnow.pl
SUMMARY:„Koń jaki jest?” - wystawa edukacyjna
DESCRIPTION:7 października – 6 grudnia\, w godzinach otwarcia – wystawa edukacyjna\n \nWystawa „Koń jaki jest?” to pełna uroku podróż przez świat koni przedstawionych w sztuce i kulturze. Zainspirowana książką „Zwierzyniec. Okazy wybrane” (wyd. Międzynarodowe Centrum Kultury w Krakowie i Wydawnictwo Dwie Siostry)\, wystawa prezentuje rozmaite ujęcia tego niezwykłego zwierzęcia – od historycznych ilustracji po ludowe zabawki. \nKonie\, te pracowite\, dumne\, ale i pełne gracji stworzenia\, były i są źródłem inspiracji dla artystów. Na wystawie można zobaczyć różnorodne dzieła: od rysunków i rycin wielkich mistrzów\, takich jak Józef Chełmoński czy Artur Grottger\, po barwne zabawki z drewna\, które bawiły dzieci w dawnych czasach. Wystawa pokazuje\, jak koń był postrzegany na przestrzeni wieków – jako towarzysz w pracy\, wojownik na polu bitwy\, a także obiekt codziennego życia i sztuki ludowej. \nKażdy koń na tej wystawie jest inny: niektóre są spokojne i zadumane\, inne rozbrykane i dzikie jak mustangi. Znajdziemy tu konie z rycin z XIX wieku\, tradycyjne wycinanki ludowe\, a także zabawki z drewna\, które przywodzą na myśl dzieciństwo i dawny świat. \nWystawę w holu Domu Kultury Westerplatte prezentujemy dzięki uprzejmości Międzynarodowego Centrum Kultury w Krakowie. Wstęp bezpłatny.
URL:https://kultura.tarnow.pl/wydarzenie/kon-jaki-jest-wystawa-edukacyjna/2024-11-25/
LOCATION:Dom Kultury Westerplatte 8a\, Westerplatte 8a\, Tarnów\, Polska - małopolskie\, 33-100\, Polska
CATEGORIES:wystawy
ATTACH;FMTTYPE=image/jpeg:https://kultura.tarnow.pl/wp-content/uploads/Kon-jaki-jest_wystawa.jpg
ORGANIZER;CN="Dom Kultury Westerplatte 8a":MAILTO:westerplatte@tck.pl
GEO:50.0273033;21.0087361
X-APPLE-STRUCTURED-LOCATION;VALUE=URI;X-ADDRESS=Dom Kultury Westerplatte 8a Westerplatte 8a Tarnów Polska - małopolskie 33-100 Polska;X-APPLE-RADIUS=500;X-TITLE=Westerplatte 8a:geo:21.0087361,50.0273033
END:VEVENT
BEGIN:VEVENT
DTSTART;TZID=Europe/Warsaw:20241125T170000
DTEND;TZID=Europe/Warsaw:20241125T210000
DTSTAMP:20260424T091641
CREATED:20241104T070150Z
LAST-MODIFIED:20241115T065700Z
UID:10022492-1732554000-1732568400@kultura.tarnow.pl
SUMMARY:21. Festiwal Sztuki ArtFest
DESCRIPTION:21. Festiwal Sztuki ArtFest im. Bogusława Wojtowicza\nOczko\, emocje\, las\, wystawa\, teatr\, moda\, wykład\, koncert\, spacer\, spotkanie\, film\, architektura\, natura\, literatura\, plakat\, fotografia\, kolaż\, piesek\, razem. \nWstęp wolny na wystawy i wydarzenia\n*Na niektóre wydarzenia obowiązują zapisy lub bezpłatne wejściówki \nCzwartek 14.11 / Prolog Festiwalu ArtFest \n18:00 – Rozmowa o „Hometown” z udziałem fotografa Krzysztofa Zielińskiego oraz Łukasza Gorczycy i Adama Mazura / na wystawie Krzysztofa Zielińskiego „Hometown” / Dworzec PKP \nPiątek 15.11 / INAUGURACJA \n17:00 – „Last Sapiens” / pokaz mody tarnowskiej projektantki Anny Curyło i pokaz multimedialny fotografii/wideo kajpust studio (Gabriela Kajpust\, Michał Kajpust). Po pokazie performans i live set Kola & SMTHN / Pałacyk Strzelecki \n19:00 – Wiktor Lekston „Fantasmagorie. Transcendentny spacer po Tarnowie” – wernisaż wystawy zdjęć i wideo / MCA Wałowa 25 \nSobota 16.11 \n18:00 – Körkarlen Trio – koncert na żywo do kultowego szwedzkiego niemego filmu „Furman Śmierci” w reż. Victora Sjöströma (1921)\, zagrają: Michał Warmusz (syntezator\, sampler)\, Miłosz Bazarnik (fortepian)\, Kacper Matuszewski (perkusja) / Pałacyk Strzelecki \nPoniedziałek 18.11 \n17:00 – Warsztaty eko-kolaży z Natalią Kamysz (Papierowy Dizajn) / dla dorosłych\, bezpłatne\, ilość miejsc ograniczona\, obowiązują zapisy: walowa25@bwa.tarnow.pl / MCA Wałowa 25 \nŚroda 20.11 \n12:00-18:00 – Prezentacja cyfrowej rekonstrukcji zamku na Górze św. Marcina – spotkanie z autorem Michałem Szumlańskim / Pałacyk Strzelecki \nCzwartek 21.11 \n18:00 – „The Hippocampus” – koncert audiowizualny\, zagrają: Malwina Kołodziejczyk (saksofon)\, Jakub Miarczyński (perkusjonalia)\, Eric Bauer (elektronika) i Bartosz Nalepa (wizualizacje na żywo) / Pałacyk Strzelecki \nNiedziela 24.11 \n12:00 – „Sen o lesie” – wernisaż wystawy Aleksandry Bujnowskiej\, kuratorki: Ewa Łączyńska-Widz\, Agata Sulikowska-Dejena; i wykład Eweliny Haraf o zmysłach i emocjach zwierząt / Dworzec PKP \n15:00 – Mały ArtFest – „Papier\, nożyce i wyspa skarbów” – spektakl dla dzieci Teatru Figurki / bezpłatne wejściówki do odebrania w siedzibie BWA / Pałacyk Strzelecki \n16:15 – Mały ArtFest – „Spacer w ciemnościach” – spacer z lampionami ścieżkami Parku Strzeleckiego\, prowadzenie: Wojciech Sanek / zbiórka pod Pałacykiem Strzeleckim \nPoniedziałek 25.11 \n17:00 – Beata Szady „Polska według Ryszarda Kai” – spotkanie autorskie\, opowieść o popularnym plakaciście i promocja książki (Wydawnictwo Czarne) / MCA Wałowa 25 \n18:00 – Plakat za dwie dyszki – wyprzedaż plakatów archiwalnych\, kto pierwszy ten lepszy! / MCA Wałowa 25 \nWtorek 26.11 \n17:00 – Marcin Wilk „Lepszy gatunek. Psio-ludzkie historie” – spotkanie autorskie i promocja książki (Wydawnictwo W.A.B.) w sąsiedztwie mopsa Aleksandra z Zamku Królewskiego na Wawelu\, prowadzenie: Joanna Janik / MCA Wałowa 25 \nŚroda 27.11 \n17:00 – Wojciech Pietrzyk – wykład Olgi Fularskiej o architekcie Domu Doktora Książka / MCA Wałowa 25 \nCzwartek 28.11 \n17:00 – Anna Cymer „Długie lata 90. Architektura w Polsce czasów transformacji” – wykład\, spotkanie autorskie i promocja książki (Centrum Architektury)\, prowadzenie: Barbara Bułdys / MCA Wałowa 25 \nPiątek 29.11 \n18:00 – Grzegorz Kumorek „Stodoła\, dom\, las” – wernisaż wystawy laureata Grand Prix IX Salonu BWA\, kuratorka: Jagoda Dobecka / Pałacyk Strzelecki \nNiedziela 1.12 \nSpacer po Olszowej z artystą Grzegorzem Kumorkiem\, zwiedzanie pracowni artysty\, spacer po wystawie Grzegorza Kumorka „Stodoła\, dom\, las” z Katarzyną Roj (BWA Wrocław) / Olszowa i BWA Pałacyk Strzelecki / szczegóły wkrótce \nOrganizator: Biuro Wystaw Artystycznych w Tarnowie / Instytucja Kultury Miasta Tarnowa \nAdresy wystaw / wydarzeń – oddziały BWA: \nPałacyk Strzelecki\, ul. Słowackiego 1\nDworzec PKP\, Pl. Dworcowy 4\nMultimedialne Centrum Artystyczne / MCA Wałowa 25 \nMiejsce festiwalowe / miejsce dobrze zaprojektowane: Sklep Browaru Trzech Kumpli (ul. Krakowska 113\, Tarnów)\, w którym w czasie Festiwalu napijecie się kawy z tarnowskiej palarni Darvea oraz przejrzycie książki o sztuce\, architekturze i dizajnie z czytelni BWA Tarnów \nSmak festiwalowy: KOKO Kombucha – nowy smak \nGadżety Festiwalu: metalowe pinsy z grafiką Festiwalu i Pałacykiem – główną siedzibą BWA Tarnów oraz torby z grafiką ArtFestu \nOprawa graficzna: Natalia Sikorska / projekt jest rozwinięciem dyplomu obronionego na Wydziale Sztuki Akademii Tarnowskiej 2023/24\, promotorka: Joanna Tyborowska \nPatronat Honorowy: Jakub Kwaśny – Prezydent Miasta Tarnowa \nProjekt realizowany z budżetów: Krajowego Planu Odbudowy i Zwiększania Odporności – inwestycja A2.5.1 „Program wspierania działalności podmiotów sektora kultury i przemysłów kreatywnych na rzecz stymulowania ich rozwoju”\, Miasta Tarnowa\, Województwa Małopolskiego \nSponsor: Browar Trzech Kumpli \nPartnerzy: Wydawnictwo Czarne\, Centrum Architektury\, Małopolska Fundacja Muzeum Sztuki Współczesnej\, Wydział Sztuki Akademii Tarnowskiej\, Papierowy Dizajn\, Zespół Parków Krajobrazowych Województwa Małopolskiego\, kajpust studio\, Pracownia Cukiernicza Lwów\, Schrupane\, Darvea\, ADplus Media \nFestiwal wspiera: Bodoni
URL:https://kultura.tarnow.pl/wydarzenie/21-festiwal-sztuki-artfest/2024-11-25/
LOCATION:Biuro Wystaw Artystycznych\, ul. Słowackiego 1\, Tarnów\, małopolskie\, 33-100\, Polska
CATEGORIES:festiwale
ATTACH;FMTTYPE=image/png:https://kultura.tarnow.pl/wp-content/uploads/Inauguracja-wydarzenie-facebook-01.png
ORGANIZER;CN="Biuro Wystaw Artystycznych":MAILTO:biuro@bwa.tarnow.pl
GEO:50.0178761;20.9827521
X-APPLE-STRUCTURED-LOCATION;VALUE=URI;X-ADDRESS=Biuro Wystaw Artystycznych ul. Słowackiego 1 Tarnów małopolskie 33-100 Polska;X-APPLE-RADIUS=500;X-TITLE=ul. Słowackiego 1:geo:20.9827521,50.0178761
END:VEVENT
END:VCALENDAR