BEGIN:VCALENDAR
VERSION:2.0
PRODID:-//kultura.tarnów - ECPv6.4.0.1//NONSGML v1.0//EN
CALSCALE:GREGORIAN
METHOD:PUBLISH
X-WR-CALNAME:kultura.tarnów
X-ORIGINAL-URL:https://kultura.tarnow.pl
X-WR-CALDESC:Wydarzenia dla
REFRESH-INTERVAL;VALUE=DURATION:PT1H
X-Robots-Tag:noindex
X-PUBLISHED-TTL:PT1H
BEGIN:VTIMEZONE
TZID:Europe/Warsaw
BEGIN:DAYLIGHT
TZOFFSETFROM:+0100
TZOFFSETTO:+0200
TZNAME:CEST
DTSTART:20240331T010000
END:DAYLIGHT
BEGIN:STANDARD
TZOFFSETFROM:+0200
TZOFFSETTO:+0100
TZNAME:CET
DTSTART:20241027T010000
END:STANDARD
END:VTIMEZONE
BEGIN:VEVENT
DTSTART;TZID=Europe/Warsaw:20241122T090000
DTEND;TZID=Europe/Warsaw:20241122T100000
DTSTAMP:20260424T091630
CREATED:20241028T104737Z
LAST-MODIFIED:20241028T104737Z
UID:10022415-1732266000-1732269600@kultura.tarnow.pl
SUMMARY:Poczytanki rysowanki. „Zwierzyniec. Okazy wybrane”
DESCRIPTION:22 listopada (piątek) 9:00 – 10:00  Poczytanki rysowanki. „Zwierzyniec. Okazy wybrane” do wystawy „Koń jaki jest?” \nDzieci małe i mniejsze z grup przedszkolnych zapraszamy na słuchanie i rysowanie! „Zwierzyniec. Okazy wybrane” to książka opisująca różne zwierzęta: psy\, koty\, lwy\, łosie i nasze wystawowe konie. Podczas listopadowego spotkania obejrzymy z dziećmi wystawę „Koń jaki jest?”\, poczytamy o kilku innych zwierzakach i będziemy je rysować! \nSpotkanie darmowe. Zapisy dla grup przedszkolnych: d.cholewiak@tck.pl
URL:https://kultura.tarnow.pl/wydarzenie/poczytanki-rysowanki-zwierzyniec-okazy-wybrane/
LOCATION:Dom Kultury Westerplatte 8a\, Westerplatte 8a\, Tarnów\, Polska - małopolskie\, 33-100\, Polska
CATEGORIES:warsztaty
ATTACH;FMTTYPE=image/jpeg:https://kultura.tarnow.pl/wp-content/uploads/Poczytanki-rysowanki_wystawa.jpg
ORGANIZER;CN="Dom Kultury Westerplatte 8a":MAILTO:westerplatte@tck.pl
GEO:50.0273033;21.0087361
X-APPLE-STRUCTURED-LOCATION;VALUE=URI;X-ADDRESS=Dom Kultury Westerplatte 8a Westerplatte 8a Tarnów Polska - małopolskie 33-100 Polska;X-APPLE-RADIUS=500;X-TITLE=Westerplatte 8a:geo:21.0087361,50.0273033
END:VEVENT
BEGIN:VEVENT
DTSTART;TZID=Europe/Warsaw:20241122T090000
DTEND;TZID=Europe/Warsaw:20241122T150000
DTSTAMP:20260424T091630
CREATED:20241030T084509Z
LAST-MODIFIED:20241030T084509Z
UID:10022456-1732266000-1732287600@kultura.tarnow.pl
SUMMARY:„Miniatury w Zbiorach Muzeum Ziemi Tarnowskiej”
DESCRIPTION:Muzeum Ziemi Tarnowskiej zaprasza na wyjątkową wystawę miniatur w ramach\, która realizowana jest w ramach cyklu „Skarby Muzeum Ziemi Tarnowskiej”. Wernisaż odbędzie się 4 listopada 2024 roku o godzinie 18:00 w Muzeum Historii Tarnowa i Regionu (Tarnów\, Rynek 20-21). Ekspozycja będzie dostępna dla zwiedzających od 4 listopada do 31 grudnia 2024 roku. \nTa pierwsza tak obszerna prezentacja obejmuje ponad 150 dzieł z muzealnej kolekcji. Wśród nich znajdują się różnorodne miniatury wykonane w okresie od drugiej połowy XVIII do początku XXI wieku\, a pochodzące z dawnej kolekcji książąt Sanguszków z pałacu w Gumniskach\, zbioru zakupionego od prywatnego kolekcjonera w 1982 roku\, oraz pojedyncze\, cenne obiekty nabyte w drodze darowizn i zakupów. \nMiniatury wystawione na ekspozycji wykonane zostały na takich materiałach jak kość\, pergamin\, metal\, szkło\, papier i drewno. Nie brak wśród nich portretów\, pejzaży\, scen rodzajowych oraz przedstawień religijnych i patriotycznych. Zbiory te mają ogromne znaczenie sentymentalne\, historyczne i artystyczne. Dla zwiedzających stanowić mogą formę wyjątkowych dzieł sztuki\, ale również cenne świadectwa minionych epok. \nGodziny otwarcia: \nponiedziałek: nieczynne\nwtorek: 9.00 – 15.00\nśroda: 9.00 – 15.00\nczwartek: 9.00 – 15.00\npiątek: 9.00 – 17.00\nsobota: nieczynne\nniedziela: 10.00 – 14.00
URL:https://kultura.tarnow.pl/wydarzenie/miniatury-w-zbiorach-muzeum-ziemi-tarnowskiej-2/2024-11-22/
LOCATION:Muzeum Ziemi Tarnowskiej\, Rynek 3\, Tarnów\, małopolskie\, 33-100\, Polska
CATEGORIES:wystawy
ATTACH;FMTTYPE=image/jpeg:https://kultura.tarnow.pl/wp-content/uploads/Miniatury-w-zbiorach_plakat_.jpg
GEO:50.0122989;20.9877958
X-APPLE-STRUCTURED-LOCATION;VALUE=URI;X-ADDRESS=Muzeum Ziemi Tarnowskiej Rynek 3 Tarnów małopolskie 33-100 Polska;X-APPLE-RADIUS=500;X-TITLE=Rynek 3:geo:20.9877958,50.0122989
END:VEVENT
BEGIN:VEVENT
DTSTART;TZID=Europe/Warsaw:20241122T100000
DTEND;TZID=Europe/Warsaw:20241122T180000
DTSTAMP:20260424T091630
CREATED:20240927T102243Z
LAST-MODIFIED:20240927T102243Z
UID:10019502-1732269600-1732298400@kultura.tarnow.pl
SUMMARY:„Koń jaki jest?” - wystawa edukacyjna
DESCRIPTION:7 października – 6 grudnia\, w godzinach otwarcia – wystawa edukacyjna\n \nWystawa „Koń jaki jest?” to pełna uroku podróż przez świat koni przedstawionych w sztuce i kulturze. Zainspirowana książką „Zwierzyniec. Okazy wybrane” (wyd. Międzynarodowe Centrum Kultury w Krakowie i Wydawnictwo Dwie Siostry)\, wystawa prezentuje rozmaite ujęcia tego niezwykłego zwierzęcia – od historycznych ilustracji po ludowe zabawki. \nKonie\, te pracowite\, dumne\, ale i pełne gracji stworzenia\, były i są źródłem inspiracji dla artystów. Na wystawie można zobaczyć różnorodne dzieła: od rysunków i rycin wielkich mistrzów\, takich jak Józef Chełmoński czy Artur Grottger\, po barwne zabawki z drewna\, które bawiły dzieci w dawnych czasach. Wystawa pokazuje\, jak koń był postrzegany na przestrzeni wieków – jako towarzysz w pracy\, wojownik na polu bitwy\, a także obiekt codziennego życia i sztuki ludowej. \nKażdy koń na tej wystawie jest inny: niektóre są spokojne i zadumane\, inne rozbrykane i dzikie jak mustangi. Znajdziemy tu konie z rycin z XIX wieku\, tradycyjne wycinanki ludowe\, a także zabawki z drewna\, które przywodzą na myśl dzieciństwo i dawny świat. \nWystawę w holu Domu Kultury Westerplatte prezentujemy dzięki uprzejmości Międzynarodowego Centrum Kultury w Krakowie. Wstęp bezpłatny.
URL:https://kultura.tarnow.pl/wydarzenie/kon-jaki-jest-wystawa-edukacyjna/2024-11-22/
LOCATION:Dom Kultury Westerplatte 8a\, Westerplatte 8a\, Tarnów\, Polska - małopolskie\, 33-100\, Polska
CATEGORIES:wystawy
ATTACH;FMTTYPE=image/jpeg:https://kultura.tarnow.pl/wp-content/uploads/Kon-jaki-jest_wystawa.jpg
ORGANIZER;CN="Dom Kultury Westerplatte 8a":MAILTO:westerplatte@tck.pl
GEO:50.0273033;21.0087361
X-APPLE-STRUCTURED-LOCATION;VALUE=URI;X-ADDRESS=Dom Kultury Westerplatte 8a Westerplatte 8a Tarnów Polska - małopolskie 33-100 Polska;X-APPLE-RADIUS=500;X-TITLE=Westerplatte 8a:geo:21.0087361,50.0273033
END:VEVENT
BEGIN:VEVENT
DTSTART;TZID=Europe/Warsaw:20241122T180000
DTEND;TZID=Europe/Warsaw:20241122T193000
DTSTAMP:20260424T091630
CREATED:20241028T103937Z
LAST-MODIFIED:20241028T103937Z
UID:10022411-1732298400-1732303800@kultura.tarnow.pl
SUMMARY:"Zmysły i komunikacja koni"
DESCRIPTION:Zmysły i komunikacja koni – prelekcja behawiorystki Eweliny Haraf \n14 listopada (czwartek) godz. 18:00 – 19:30  \nKoń\, jaki jest\, każdy widzi… A czy wie? Konie to fascynujące istoty\, zajmujące ważne miejsce w naszej kulturze. Równocześnie to chyba najbardziej niezrozumiane zwierzęta spośród tych\, które żyją z nami w bliskości. Zapraszamy na prelekcję o fascynującym świecie końskich zmysłów i komunikacji. Porozmawiamy o tym\, jak świadome kontakty z końmi wpływają na nasze życie\ni ile dobrego możemy z nich wyciągnąć. \nDzięki odpowiednio prowadzonym interakcjom ze zwierzęciem\, uczymy się\, że dobra komunikacja uwzględnia potrzeby obu stron\, że każde zadanie staje się łatwiejsze\, gdy się dobrze rozumiemy. Tym samym otwieramy się na wyraźniejszą komunikację\, także tę międzyludzką\, budując przy tym poczucie własnej wartości i sprawczości. \nPrelegentka: Ewelina Haraf – magistra behawiorystyki zwierząt\, inżynierka zootechniki ze specjalnością hodowla i użytkowanie koni\, hipoterapeutka\, instruktorka jazdy konnej\, dogoterapeutka\, przewodniczka psa pracującego\, leśna przewodniczka. Prezeska Fundacji „Iskierka” a obecnie także studentka psychologii. Fascynują ją emocje i komunikacja\, zwłaszcza ta międzygatunkowa.
URL:https://kultura.tarnow.pl/wydarzenie/zmysly-i-komunikacja-koni/
LOCATION:Dom Kultury Westerplatte 8a\, Westerplatte 8a\, Tarnów\, Polska - małopolskie\, 33-100\, Polska
CATEGORIES:spektakle
ORGANIZER;CN="Dom Kultury Westerplatte 8a":MAILTO:westerplatte@tck.pl
GEO:50.0273033;21.0087361
X-APPLE-STRUCTURED-LOCATION;VALUE=URI;X-ADDRESS=Dom Kultury Westerplatte 8a Westerplatte 8a Tarnów Polska - małopolskie 33-100 Polska;X-APPLE-RADIUS=500;X-TITLE=Westerplatte 8a:geo:21.0087361,50.0273033
END:VEVENT
BEGIN:VEVENT
DTSTART;TZID=Europe/Warsaw:20241122T180000
DTEND;TZID=Europe/Warsaw:20241122T200000
DTSTAMP:20260424T091630
CREATED:20241115T071750Z
LAST-MODIFIED:20241115T071750Z
UID:10022508-1732298400-1732305600@kultura.tarnow.pl
SUMMARY:XII Tarnowskie Dni Cecyliańskie
DESCRIPTION:
URL:https://kultura.tarnow.pl/wydarzenie/xii-tarnowskie-dni-cecylianskie/2024-11-22/
LOCATION:małopolskie
CATEGORIES:festiwale
ATTACH;FMTTYPE=image/jpeg:https://kultura.tarnow.pl/wp-content/uploads/Dni-Cecylianskie_ostatnia_wersja_PLAKAT-A3_2024-BISBIS-scaled.jpg
END:VEVENT
BEGIN:VEVENT
DTSTART;TZID=Europe/Warsaw:20241122T190000
DTEND;TZID=Europe/Warsaw:20241122T210000
DTSTAMP:20260424T091630
CREATED:20240910T092856Z
LAST-MODIFIED:20240910T093127Z
UID:10019420-1732302000-1732309200@kultura.tarnow.pl
SUMMARY:IGO - koncert
DESCRIPTION:Sprzedaż biletów od 10 września\, od godziny 13:00 – w kasie i online. \nIgo\, czyli Igor Marek Walaszek\, to wszechstronny piosenkarz\, kompozytor i autor tekstów. Znany z zespołów Clock Machine i Bass Astral x Igo\, a także ze swojej solowej kariery\, zyskał ogromne uznanie publiczności. W 2019 roku\, wraz z Katarzyną Nosowską\, Krzysztofem Zalewskim i Organkiem\, został członkiem Orkiestry Męskiego Grania. Rok później ponownie znalazł się w jej składzie\, występując z Darią Zawiałow i Błażejem Królem\, a w 2023 roku stworzył Męskie Granie Orkiestra razem z Mrozem i Vito Bambino. \nIgo występował na najlepszych festiwalach w Polsce\, takich jak Open’er Festival\, Kraków Live Festival\, Przystanek Woodstock\, OFF Festival i Audioriver. Współpracował z wieloma uznanymi artystami\, m.in. Sokołem\, Miuoshem i Sistars. \nMuzykę Igo charakteryzuje niezwykły urok\, hipnotyzująca atmosfera i szczere emocje\, które trafiają do serc nie tylko fanów\, ale także nowych słuchaczy. \n \nIgor Walaszek – znany pod pseudonimem Igo. Jeden z najbardziej rozpoznawalnych męskich głosów w Polsce. Pochodzi z Krakowa\, gdzie w 2009 roku wraz z grupą przyjaciół założył rockowy zespół Clock Machine. Mimo swoich rockowych predyspozycji nie zamyka się wyłącznie w tym gatunku – szerszej publiczności dał się poznać jako połowa elektronicznego duetu Bass Astral x Igo. Po wielu latach na scenie w styczniu 2022 roku Igo postanowił zadebiutować jeszcze raz – singlem „Helena” rozpoczął swoją solową karierę. Jego dyskografię zamyka wydany w listopadzie 2022 roku pierwszy solowy album zatytułowany po prostu „IGO”\, który jest 10 płytą w dorobku artysty. W 2019 roku Igor był po raz pierwszy\, obok Katarzyny Nosowskiej\, Krzysztofa Zalewskiego i Organka\, członkiem Orkiestry Męskiego Grania. Rok później również zasilił jej skład\, tym razem z Darią Zawiałow i Błażejem Królem\, a w ubiegłym roku wraz z Vito Bambino i Mrozem wydali singiel Męskiego Grania „Supermoce”. Wystąpił na takich festiwalach\, jak Open’er Festival\, Krakow Live Festival\, Przystanek Woodstock\, OFF Festival\, czy Audioriver. Współpracował m.in. z Sokołem\, Miuoshem\, Mrozem czy Sistars. \nInformacje / bilety: 160 zł (normalny)\, 150 zł (ulgowy)
URL:https://kultura.tarnow.pl/wydarzenie/igo-koncert/
LOCATION:Centrum Sztuki Mościce\, Traugutta 1\, Tarnów\, małopolskie\, 33-101\, Polska
CATEGORIES:koncerty
GEO:50.009833;20.92706
X-APPLE-STRUCTURED-LOCATION;VALUE=URI;X-ADDRESS=Centrum Sztuki Mościce Traugutta 1 Tarnów małopolskie 33-101 Polska;X-APPLE-RADIUS=500;X-TITLE=Traugutta 1:geo:20.92706,50.009833
END:VEVENT
BEGIN:VEVENT
DTSTART;TZID=Europe/Warsaw:20241122T190000
DTEND;TZID=Europe/Warsaw:20241122T235900
DTSTAMP:20260424T091630
CREATED:20241028T104857Z
LAST-MODIFIED:20241028T104857Z
UID:10022416-1732302000-1732319940@kultura.tarnow.pl
SUMMARY:Planszówki młodzieżówki – nocne spotkanie
DESCRIPTION:22 listopada (piątek) 19:00- 23:59 Planszówki młodzieżówki – nocne spotkanie \nOdkryj nowe tytuły\, zaskocz swoich przyjaciół nietypowymi taktykami i spędź niezapomnianą noc pełną emocji i śmiechu! Nie ma lepszej zabawy niż nocne granie w gry planszowe – dołącz do nas i poczuj magię światów\, które ożywają na planszy! Możesz skorzystać z bogatych zbiorów naszego games roomu\, możesz też przynieść własne gry – może zaskoczysz nas nowymi tytułami? \nDla bardziej wymagających graczy zapewniamy pomieszczenie do cichego grania. Przy okazji przypominamy\, że wiek nie zależy od peselu\, tylko od stanu ducha 🙂
URL:https://kultura.tarnow.pl/wydarzenie/planszowki-mlodziezowki-nocne-spotkanie-2/
LOCATION:Dom Kultury Westerplatte 8a\, Westerplatte 8a\, Tarnów\, Polska - małopolskie\, 33-100\, Polska
CATEGORIES:spektakle
ORGANIZER;CN="Dom Kultury Westerplatte 8a":MAILTO:westerplatte@tck.pl
GEO:50.0273033;21.0087361
X-APPLE-STRUCTURED-LOCATION;VALUE=URI;X-ADDRESS=Dom Kultury Westerplatte 8a Westerplatte 8a Tarnów Polska - małopolskie 33-100 Polska;X-APPLE-RADIUS=500;X-TITLE=Westerplatte 8a:geo:21.0087361,50.0273033
END:VEVENT
END:VCALENDAR