BEGIN:VCALENDAR
VERSION:2.0
PRODID:-//kultura.tarnów - ECPv6.4.0.1//NONSGML v1.0//EN
CALSCALE:GREGORIAN
METHOD:PUBLISH
X-ORIGINAL-URL:https://kultura.tarnow.pl
X-WR-CALDESC:Wydarzenia dla
REFRESH-INTERVAL;VALUE=DURATION:PT1H
X-Robots-Tag:noindex
X-PUBLISHED-TTL:PT1H
BEGIN:VTIMEZONE
TZID:Europe/Warsaw
BEGIN:DAYLIGHT
TZOFFSETFROM:+0100
TZOFFSETTO:+0200
TZNAME:CEST
DTSTART:20240331T010000
END:DAYLIGHT
BEGIN:STANDARD
TZOFFSETFROM:+0200
TZOFFSETTO:+0100
TZNAME:CET
DTSTART:20241027T010000
END:STANDARD
END:VTIMEZONE
BEGIN:VEVENT
DTSTART;TZID=Europe/Warsaw:20241114T090000
DTEND;TZID=Europe/Warsaw:20241114T150000
DTSTAMP:20260424T070505
CREATED:20241030T084509Z
LAST-MODIFIED:20241030T084509Z
UID:10022450-1731574800-1731596400@kultura.tarnow.pl
SUMMARY:„Miniatury w Zbiorach Muzeum Ziemi Tarnowskiej”
DESCRIPTION:Muzeum Ziemi Tarnowskiej zaprasza na wyjątkową wystawę miniatur w ramach\, która realizowana jest w ramach cyklu „Skarby Muzeum Ziemi Tarnowskiej”. Wernisaż odbędzie się 4 listopada 2024 roku o godzinie 18:00 w Muzeum Historii Tarnowa i Regionu (Tarnów\, Rynek 20-21). Ekspozycja będzie dostępna dla zwiedzających od 4 listopada do 31 grudnia 2024 roku. \nTa pierwsza tak obszerna prezentacja obejmuje ponad 150 dzieł z muzealnej kolekcji. Wśród nich znajdują się różnorodne miniatury wykonane w okresie od drugiej połowy XVIII do początku XXI wieku\, a pochodzące z dawnej kolekcji książąt Sanguszków z pałacu w Gumniskach\, zbioru zakupionego od prywatnego kolekcjonera w 1982 roku\, oraz pojedyncze\, cenne obiekty nabyte w drodze darowizn i zakupów. \nMiniatury wystawione na ekspozycji wykonane zostały na takich materiałach jak kość\, pergamin\, metal\, szkło\, papier i drewno. Nie brak wśród nich portretów\, pejzaży\, scen rodzajowych oraz przedstawień religijnych i patriotycznych. Zbiory te mają ogromne znaczenie sentymentalne\, historyczne i artystyczne. Dla zwiedzających stanowić mogą formę wyjątkowych dzieł sztuki\, ale również cenne świadectwa minionych epok. \nGodziny otwarcia: \nponiedziałek: nieczynne\nwtorek: 9.00 – 15.00\nśroda: 9.00 – 15.00\nczwartek: 9.00 – 15.00\npiątek: 9.00 – 17.00\nsobota: nieczynne\nniedziela: 10.00 – 14.00
URL:https://kultura.tarnow.pl/wydarzenie/miniatury-w-zbiorach-muzeum-ziemi-tarnowskiej-2/2024-11-14/
LOCATION:Muzeum Ziemi Tarnowskiej\, Rynek 3\, Tarnów\, małopolskie\, 33-100\, Polska
CATEGORIES:wystawy
ATTACH;FMTTYPE=image/jpeg:https://kultura.tarnow.pl/wp-content/uploads/Miniatury-w-zbiorach_plakat_.jpg
GEO:50.0122989;20.9877958
X-APPLE-STRUCTURED-LOCATION;VALUE=URI;X-ADDRESS=Muzeum Ziemi Tarnowskiej Rynek 3 Tarnów małopolskie 33-100 Polska;X-APPLE-RADIUS=500;X-TITLE=Rynek 3:geo:20.9877958,50.0122989
END:VEVENT
BEGIN:VEVENT
DTSTART;TZID=Europe/Warsaw:20241114T090000
DTEND;TZID=Europe/Warsaw:20241114T170000
DTSTAMP:20260424T070505
CREATED:20241029T132032Z
LAST-MODIFIED:20241029T132032Z
UID:10022437-1731574800-1731603600@kultura.tarnow.pl
SUMMARY:Krzysztof Zieliński "Hometown"
DESCRIPTION:Wystawa fotografii Krzysztofa Zielińskiego \nW programie wystawy:\nCzwartek 14.11\, g. 18:00 Rozmowa o „Hometown” z udziałem autora Krzysztofa Zielińskiego oraz Łukasza Gorczycy i Adama Mazura / Prolog 21. Festiwalu Sztuki ArtFest \nOprawa graficzna: Natalia Sikorska \nWystawa czynna:\nPoniedziałek-czwartek 9:00-17:00\nNiedziela 9:00-17:00 \nCykl Hometown był jego pracą dyplomową\, rozwiniętym później w drugiej części (2002). Tematem jest rodzinne Wąbrzeźno i jego małomiasteczkowa rzeczywistość. Autor w paradokumentalny sposób rejestruje motywy ulic\, placów\, ścian budynków\, szyldów – wydobywając i zatrzymując potocznie niedostrzegalne piękno ich przeciętności. W większości tych fotografii nie ma ludzi\, czytelne są natomiast ślady ich obecności i działalności\, przejawiającej się w estetycznej inwencji. Autor respektując tę estetykę\, tworzy w kolejnych kadrach obrazy o porównywalnej z malarstwem kompozycji i kolorystyce. Jednocześnie przekazuje głęboko egzystencjalny wyraz. \nKrzysztof Zieliński – urodzony w 1974 w Wąbrzeźnie. Fotograf sztuk pięknych z prawie trzydziestoletnim doświadczeniem\, mający na koncie międzynarodowe wystawy. Jego prace znajdujące się w publicznych i prywatnych kolekcjach sztuki współczesnej. Doświadczenie akademickie jako wykładowca fotografii dokumentalnej na Wydziale Fotografii Akademii Filmowej (FAMU) w Pradze. \nBWA Tarnów / Dworzec PKP\, Pl. Dworcowy 4\n24.10-19.11.2024\nWstęp wolny
URL:https://kultura.tarnow.pl/wydarzenie/krzysztof-zielinski-hometown/2024-11-14/
LOCATION:BWA na Dworcu PKP\, Plac Dworcowy 4\, Tarnów\, małopolskie\, 33-100\, Polska
CATEGORIES:wystawy
ORGANIZER;CN="Biuro Wystaw Artystycznych":MAILTO:biuro@bwa.tarnow.pl
GEO:50.0057629;20.9744639
X-APPLE-STRUCTURED-LOCATION;VALUE=URI;X-ADDRESS=BWA na Dworcu PKP Plac Dworcowy 4 Tarnów małopolskie 33-100 Polska;X-APPLE-RADIUS=500;X-TITLE=Plac Dworcowy 4:geo:20.9744639,50.0057629
END:VEVENT
BEGIN:VEVENT
DTSTART;TZID=Europe/Warsaw:20241114T100000
DTEND;TZID=Europe/Warsaw:20241114T180000
DTSTAMP:20260424T070505
CREATED:20240927T102243Z
LAST-MODIFIED:20240927T102243Z
UID:10019496-1731578400-1731607200@kultura.tarnow.pl
SUMMARY:„Koń jaki jest?” - wystawa edukacyjna
DESCRIPTION:7 października – 6 grudnia\, w godzinach otwarcia – wystawa edukacyjna\n \nWystawa „Koń jaki jest?” to pełna uroku podróż przez świat koni przedstawionych w sztuce i kulturze. Zainspirowana książką „Zwierzyniec. Okazy wybrane” (wyd. Międzynarodowe Centrum Kultury w Krakowie i Wydawnictwo Dwie Siostry)\, wystawa prezentuje rozmaite ujęcia tego niezwykłego zwierzęcia – od historycznych ilustracji po ludowe zabawki. \nKonie\, te pracowite\, dumne\, ale i pełne gracji stworzenia\, były i są źródłem inspiracji dla artystów. Na wystawie można zobaczyć różnorodne dzieła: od rysunków i rycin wielkich mistrzów\, takich jak Józef Chełmoński czy Artur Grottger\, po barwne zabawki z drewna\, które bawiły dzieci w dawnych czasach. Wystawa pokazuje\, jak koń był postrzegany na przestrzeni wieków – jako towarzysz w pracy\, wojownik na polu bitwy\, a także obiekt codziennego życia i sztuki ludowej. \nKażdy koń na tej wystawie jest inny: niektóre są spokojne i zadumane\, inne rozbrykane i dzikie jak mustangi. Znajdziemy tu konie z rycin z XIX wieku\, tradycyjne wycinanki ludowe\, a także zabawki z drewna\, które przywodzą na myśl dzieciństwo i dawny świat. \nWystawę w holu Domu Kultury Westerplatte prezentujemy dzięki uprzejmości Międzynarodowego Centrum Kultury w Krakowie. Wstęp bezpłatny.
URL:https://kultura.tarnow.pl/wydarzenie/kon-jaki-jest-wystawa-edukacyjna/2024-11-14/
LOCATION:Dom Kultury Westerplatte 8a\, Westerplatte 8a\, Tarnów\, Polska - małopolskie\, 33-100\, Polska
CATEGORIES:wystawy
ATTACH;FMTTYPE=image/jpeg:https://kultura.tarnow.pl/wp-content/uploads/Kon-jaki-jest_wystawa.jpg
ORGANIZER;CN="Dom Kultury Westerplatte 8a":MAILTO:westerplatte@tck.pl
GEO:50.0273033;21.0087361
X-APPLE-STRUCTURED-LOCATION;VALUE=URI;X-ADDRESS=Dom Kultury Westerplatte 8a Westerplatte 8a Tarnów Polska - małopolskie 33-100 Polska;X-APPLE-RADIUS=500;X-TITLE=Westerplatte 8a:geo:21.0087361,50.0273033
END:VEVENT
BEGIN:VEVENT
DTSTART;TZID=Europe/Warsaw:20241114T100000
DTEND;TZID=Europe/Warsaw:20241114T210000
DTSTAMP:20260424T070505
CREATED:20241018T104707Z
LAST-MODIFIED:20241018T104707Z
UID:10020653-1731578400-1731618000@kultura.tarnow.pl
SUMMARY:XIV Festiwal Filmowy Vitae Valor
DESCRIPTION:
URL:https://kultura.tarnow.pl/wydarzenie/xiv-festiwal-filmowy-vitae-valor/2024-11-14/
LOCATION:małopolskie
CATEGORIES:festiwale
ATTACH;FMTTYPE=image/jpeg:https://kultura.tarnow.pl/wp-content/uploads/VITAE-VALOR-2024-AFISZ-z-programem2-scaled.jpg
END:VEVENT
BEGIN:VEVENT
DTSTART;TZID=Europe/Warsaw:20241114T110000
DTEND;TZID=Europe/Warsaw:20241114T120000
DTSTAMP:20260424T070505
CREATED:20241028T103748Z
LAST-MODIFIED:20241028T103949Z
UID:10022410-1731582000-1731585600@kultura.tarnow.pl
SUMMARY:"Słuch dziecka" – spotkanie dla rodziców małych dzieci
DESCRIPTION:14 listopada (czwartek) godz. 11:00 – 12:00 Słuch dziecka – spotkanie dla rodziców małych dzieci w ramach  cyklu „Tu mamy spotkamy” \nKiedy dziecko zaczyna słyszeć? Czy warto mówić do brzucha? Czy niemowlę słyszy tak samo\, jak dorosły? Zapraszamy na spotkanie o rozwoju słuchu człowieka oraz o problemach ze słuchem\, które mogą się pojawić u dzieci\nw wieku 0-4 lat. \nProwadząca: Wiesia Kobis – protetyczka słuchu\, fascynująca się tajnikami działania ludzkiego ucha. \nWstęp bezpłatny. Liczba miejsc ograniczona. Można przyjść z dziećmi. Zapisy pod numerem telefonu 888 655 101\, a.radon@tck.pl \n„Tu mamy spotkamy” to cykl spotkań dla mam\, rodziców małych dzieci do 5. roku życia. Planujemy zajęcia rozwijające\, kształtujące wrażliwość artystyczną\, zajęcia relaksacyjne i ruchowe. \nWyprzedaż sklepowa — ulotka.ISO
URL:https://kultura.tarnow.pl/wydarzenie/sluch-dziecka-spotkanie-dla-rodzicow-malych-dzieci/
LOCATION:Dom Kultury Westerplatte 8a\, Westerplatte 8a\, Tarnów\, Polska - małopolskie\, 33-100\, Polska
CATEGORIES:warsztaty
ATTACH;FMTTYPE=image/jpeg:https://kultura.tarnow.pl/wp-content/uploads/Tu-mamy-spotkamy_sluch-dziecka.jpg
ORGANIZER;CN="Dom Kultury Westerplatte 8a":MAILTO:westerplatte@tck.pl
GEO:50.0273033;21.0087361
X-APPLE-STRUCTURED-LOCATION;VALUE=URI;X-ADDRESS=Dom Kultury Westerplatte 8a Westerplatte 8a Tarnów Polska - małopolskie 33-100 Polska;X-APPLE-RADIUS=500;X-TITLE=Westerplatte 8a:geo:21.0087361,50.0273033
END:VEVENT
BEGIN:VEVENT
DTSTART;TZID=Europe/Warsaw:20241114T170000
DTEND;TZID=Europe/Warsaw:20241114T210000
DTSTAMP:20260424T070505
CREATED:20241104T070150Z
LAST-MODIFIED:20241115T065700Z
UID:10022485-1731603600-1731618000@kultura.tarnow.pl
SUMMARY:21. Festiwal Sztuki ArtFest
DESCRIPTION:21. Festiwal Sztuki ArtFest im. Bogusława Wojtowicza\nOczko\, emocje\, las\, wystawa\, teatr\, moda\, wykład\, koncert\, spacer\, spotkanie\, film\, architektura\, natura\, literatura\, plakat\, fotografia\, kolaż\, piesek\, razem. \nWstęp wolny na wystawy i wydarzenia\n*Na niektóre wydarzenia obowiązują zapisy lub bezpłatne wejściówki \nCzwartek 14.11 / Prolog Festiwalu ArtFest \n18:00 – Rozmowa o „Hometown” z udziałem fotografa Krzysztofa Zielińskiego oraz Łukasza Gorczycy i Adama Mazura / na wystawie Krzysztofa Zielińskiego „Hometown” / Dworzec PKP \nPiątek 15.11 / INAUGURACJA \n17:00 – „Last Sapiens” / pokaz mody tarnowskiej projektantki Anny Curyło i pokaz multimedialny fotografii/wideo kajpust studio (Gabriela Kajpust\, Michał Kajpust). Po pokazie performans i live set Kola & SMTHN / Pałacyk Strzelecki \n19:00 – Wiktor Lekston „Fantasmagorie. Transcendentny spacer po Tarnowie” – wernisaż wystawy zdjęć i wideo / MCA Wałowa 25 \nSobota 16.11 \n18:00 – Körkarlen Trio – koncert na żywo do kultowego szwedzkiego niemego filmu „Furman Śmierci” w reż. Victora Sjöströma (1921)\, zagrają: Michał Warmusz (syntezator\, sampler)\, Miłosz Bazarnik (fortepian)\, Kacper Matuszewski (perkusja) / Pałacyk Strzelecki \nPoniedziałek 18.11 \n17:00 – Warsztaty eko-kolaży z Natalią Kamysz (Papierowy Dizajn) / dla dorosłych\, bezpłatne\, ilość miejsc ograniczona\, obowiązują zapisy: walowa25@bwa.tarnow.pl / MCA Wałowa 25 \nŚroda 20.11 \n12:00-18:00 – Prezentacja cyfrowej rekonstrukcji zamku na Górze św. Marcina – spotkanie z autorem Michałem Szumlańskim / Pałacyk Strzelecki \nCzwartek 21.11 \n18:00 – „The Hippocampus” – koncert audiowizualny\, zagrają: Malwina Kołodziejczyk (saksofon)\, Jakub Miarczyński (perkusjonalia)\, Eric Bauer (elektronika) i Bartosz Nalepa (wizualizacje na żywo) / Pałacyk Strzelecki \nNiedziela 24.11 \n12:00 – „Sen o lesie” – wernisaż wystawy Aleksandry Bujnowskiej\, kuratorki: Ewa Łączyńska-Widz\, Agata Sulikowska-Dejena; i wykład Eweliny Haraf o zmysłach i emocjach zwierząt / Dworzec PKP \n15:00 – Mały ArtFest – „Papier\, nożyce i wyspa skarbów” – spektakl dla dzieci Teatru Figurki / bezpłatne wejściówki do odebrania w siedzibie BWA / Pałacyk Strzelecki \n16:15 – Mały ArtFest – „Spacer w ciemnościach” – spacer z lampionami ścieżkami Parku Strzeleckiego\, prowadzenie: Wojciech Sanek / zbiórka pod Pałacykiem Strzeleckim \nPoniedziałek 25.11 \n17:00 – Beata Szady „Polska według Ryszarda Kai” – spotkanie autorskie\, opowieść o popularnym plakaciście i promocja książki (Wydawnictwo Czarne) / MCA Wałowa 25 \n18:00 – Plakat za dwie dyszki – wyprzedaż plakatów archiwalnych\, kto pierwszy ten lepszy! / MCA Wałowa 25 \nWtorek 26.11 \n17:00 – Marcin Wilk „Lepszy gatunek. Psio-ludzkie historie” – spotkanie autorskie i promocja książki (Wydawnictwo W.A.B.) w sąsiedztwie mopsa Aleksandra z Zamku Królewskiego na Wawelu\, prowadzenie: Joanna Janik / MCA Wałowa 25 \nŚroda 27.11 \n17:00 – Wojciech Pietrzyk – wykład Olgi Fularskiej o architekcie Domu Doktora Książka / MCA Wałowa 25 \nCzwartek 28.11 \n17:00 – Anna Cymer „Długie lata 90. Architektura w Polsce czasów transformacji” – wykład\, spotkanie autorskie i promocja książki (Centrum Architektury)\, prowadzenie: Barbara Bułdys / MCA Wałowa 25 \nPiątek 29.11 \n18:00 – Grzegorz Kumorek „Stodoła\, dom\, las” – wernisaż wystawy laureata Grand Prix IX Salonu BWA\, kuratorka: Jagoda Dobecka / Pałacyk Strzelecki \nNiedziela 1.12 \nSpacer po Olszowej z artystą Grzegorzem Kumorkiem\, zwiedzanie pracowni artysty\, spacer po wystawie Grzegorza Kumorka „Stodoła\, dom\, las” z Katarzyną Roj (BWA Wrocław) / Olszowa i BWA Pałacyk Strzelecki / szczegóły wkrótce \nOrganizator: Biuro Wystaw Artystycznych w Tarnowie / Instytucja Kultury Miasta Tarnowa \nAdresy wystaw / wydarzeń – oddziały BWA: \nPałacyk Strzelecki\, ul. Słowackiego 1\nDworzec PKP\, Pl. Dworcowy 4\nMultimedialne Centrum Artystyczne / MCA Wałowa 25 \nMiejsce festiwalowe / miejsce dobrze zaprojektowane: Sklep Browaru Trzech Kumpli (ul. Krakowska 113\, Tarnów)\, w którym w czasie Festiwalu napijecie się kawy z tarnowskiej palarni Darvea oraz przejrzycie książki o sztuce\, architekturze i dizajnie z czytelni BWA Tarnów \nSmak festiwalowy: KOKO Kombucha – nowy smak \nGadżety Festiwalu: metalowe pinsy z grafiką Festiwalu i Pałacykiem – główną siedzibą BWA Tarnów oraz torby z grafiką ArtFestu \nOprawa graficzna: Natalia Sikorska / projekt jest rozwinięciem dyplomu obronionego na Wydziale Sztuki Akademii Tarnowskiej 2023/24\, promotorka: Joanna Tyborowska \nPatronat Honorowy: Jakub Kwaśny – Prezydent Miasta Tarnowa \nProjekt realizowany z budżetów: Krajowego Planu Odbudowy i Zwiększania Odporności – inwestycja A2.5.1 „Program wspierania działalności podmiotów sektora kultury i przemysłów kreatywnych na rzecz stymulowania ich rozwoju”\, Miasta Tarnowa\, Województwa Małopolskiego \nSponsor: Browar Trzech Kumpli \nPartnerzy: Wydawnictwo Czarne\, Centrum Architektury\, Małopolska Fundacja Muzeum Sztuki Współczesnej\, Wydział Sztuki Akademii Tarnowskiej\, Papierowy Dizajn\, Zespół Parków Krajobrazowych Województwa Małopolskiego\, kajpust studio\, Pracownia Cukiernicza Lwów\, Schrupane\, Darvea\, ADplus Media \nFestiwal wspiera: Bodoni
URL:https://kultura.tarnow.pl/wydarzenie/21-festiwal-sztuki-artfest/2024-11-14/
LOCATION:Biuro Wystaw Artystycznych\, ul. Słowackiego 1\, Tarnów\, małopolskie\, 33-100\, Polska
CATEGORIES:festiwale
ATTACH;FMTTYPE=image/png:https://kultura.tarnow.pl/wp-content/uploads/Inauguracja-wydarzenie-facebook-01.png
ORGANIZER;CN="Biuro Wystaw Artystycznych":MAILTO:biuro@bwa.tarnow.pl
GEO:50.0178761;20.9827521
X-APPLE-STRUCTURED-LOCATION;VALUE=URI;X-ADDRESS=Biuro Wystaw Artystycznych ul. Słowackiego 1 Tarnów małopolskie 33-100 Polska;X-APPLE-RADIUS=500;X-TITLE=ul. Słowackiego 1:geo:20.9827521,50.0178761
END:VEVENT
BEGIN:VEVENT
DTSTART;TZID=Europe/Warsaw:20241114T170000
DTEND;TZID=Europe/Warsaw:20241114T220000
DTSTAMP:20260424T070505
CREATED:20241105T092057Z
LAST-MODIFIED:20241105T092057Z
UID:10022501-1731603600-1731621600@kultura.tarnow.pl
SUMMARY:Tajemnice Tarnowskiej Katedry
DESCRIPTION:Parafia Katedralna pw. Narodzenia Najświętszej Maryi Panny w Tarnowie zaprasza na Konferencję popularnonaukową Tajemnice Tarnowskiej Katedry\, która odbędzie się 14 listopada 2024 r.\, o godz. 17.00 w Auli Wyższego Seminarium Duchownego w Tarnowie.\n\nProwadzenie: ks. dr Sebastian Musiał z-ca dyr. Muzeum Diecezjalnego w Tarnowie\n\nW programie:\nks. dr Piotr Pasek dyr. Muzeum Diecezjalnego w Tarnowie:\,\,Krótki rys historyczny katedry – co warto zobaczyć”prof. dr hab. Anna Drążkowska (Uniwersytet Mikołaja Kopernika w Toruniu):\n\,\,Suknia\, która potwierdziła zmianę biegu historii”dr Agnieszka Trzos (A.T. Pracownia Konserwacji Zabytków w Tychach):\n\,\,Sarkofagi Ostrogskich – wartość europejska\, którą trzeba ocalić”dr Beata Cienkosz-Stepańczak (Uniwersytet Jagielloński):\n\,\,Czy szczątki mogą mówić\, a jeśli tak\, to co powiedzieć mogą?”dr Katarzyna Kolendo-Korczak(Instytut Sztuki Polskiej Akademii Nauk w Warszawie):\,\,Historyczna wartość artefaktów z krypty Ostrogskich”\n\noprawa muzyczna: ZS Muzycznych im. L Paderewskiego w Tarnowie
URL:https://kultura.tarnow.pl/wydarzenie/tajemnice-tarnowskiej-katedry/
LOCATION:Aula Wyższego Seminarium Duchownego w Tarnowie\, ul. Piłsudskiego 6\, Tarnów\, Polska - małopolskie\, 33-100\, Polska
CATEGORIES:dyskusje
GEO:50.014546;20.9856709
X-APPLE-STRUCTURED-LOCATION;VALUE=URI;X-ADDRESS=Aula Wyższego Seminarium Duchownego w Tarnowie ul. Piłsudskiego 6 Tarnów Polska - małopolskie 33-100 Polska;X-APPLE-RADIUS=500;X-TITLE=ul. Piłsudskiego 6:geo:20.9856709,50.014546
END:VEVENT
BEGIN:VEVENT
DTSTART;TZID=Europe/Warsaw:20241114T180000
DTEND;TZID=Europe/Warsaw:20241114T200000
DTSTAMP:20260424T070505
CREATED:20240927T101824Z
LAST-MODIFIED:20240927T101824Z
UID:10019463-1731607200-1731614400@kultura.tarnow.pl
SUMMARY:„Odżywiaj się i żyj zgodnie z porami roku. 5 przemian w pigułce”
DESCRIPTION:Warsztaty zdrowego żywienia „Odżywiaj się i żyj zgodnie z porami roku. 5 przemian w pigułce” \nCykl 10 warsztatów przybliżających zasadę żywienia PIĘCIU PRZEMIAN według medycyny chińskiej\, będącą receptą na długie i zdrowe życie. Dowiecie się o charakterystyce energetycznej poszczególnych produktów i potraw\, które poprzez wybrane przyprawy i smaki (przypisane danej porze roku) wzmacniają poszczególne narządy. Będziemy gotować i smakować jedzenie – kawę i gulasze warzywne. Dostaniecie gotowe przepisy na każdą porę roku. \nDokładne terminy: 3\, 10\, 17\, 24 października\, 7\, 14\, 21\, 28 listopada\, 5\, 12 grudnia. \nOpłata za cały cykl: 270 zł (27 zł za spotkanie). Płatność jednorazowa. \nLiczba miejsc ograniczona\, decyduje kolejność wpłat. Zapisy: 888 655 101 -w informacji telefonicznej lub sms proszę podać imię\, nazwisko i adres mailowy\, na który wyślemy informacje o płatności. Wcześniejsza opłata jest warunkiem rezerwacji miejsca.
URL:https://kultura.tarnow.pl/wydarzenie/odzywiaj-sie-i-zyj-zgodnie-z-porami-roku-5-przemian-w-pigulce/2024-11-14/
LOCATION:Dom Kultury Westerplatte 8a\, Westerplatte 8a\, Tarnów\, Polska - małopolskie\, 33-100\, Polska
CATEGORIES:warsztaty
ATTACH;FMTTYPE=image/jpeg:https://kultura.tarnow.pl/wp-content/uploads/5przemian-w-pigulce-1.jpg
ORGANIZER;CN="Dom Kultury Westerplatte 8a":MAILTO:westerplatte@tck.pl
GEO:50.0273033;21.0087361
X-APPLE-STRUCTURED-LOCATION;VALUE=URI;X-ADDRESS=Dom Kultury Westerplatte 8a Westerplatte 8a Tarnów Polska - małopolskie 33-100 Polska;X-APPLE-RADIUS=500;X-TITLE=Westerplatte 8a:geo:21.0087361,50.0273033
END:VEVENT
BEGIN:VEVENT
DTSTART;TZID=Europe/Warsaw:20241114T190000
DTEND;TZID=Europe/Warsaw:20241114T210000
DTSTAMP:20260424T070505
CREATED:20241023T125150Z
LAST-MODIFIED:20241025T080734Z
UID:10021648-1731610800-1731618000@kultura.tarnow.pl
SUMMARY:David Harrower "Blackbird"
DESCRIPTION:reż. T. Gawron \nTekst opowiada o miłości zakazanej\, stawia pytania dotyczące seksualności i tożsamości.  W kameralnej sztuce\, wystawianej od Szkocji\, przez Indie\, po USA – wystąpią: Matylda Baczyńska i Ireneusz Pastuszak. Obsypany nagrodami tekst Harrowera (autora wielokrotnie wystawianego w Polsce i na świecie dramatu „Noże w kurach”) opowiada o spotkaniu 27-letniej Uny i 55- letniego Raya\, których piętnaście lat wcześniej połączyło uczucie. \n14 i 15 listopada godz. 19.00 Scena Underground \nBilety 25-50 zł \nhttps://teatr.tarnow.pl/spektakle/spektakle-spektakle/blackbird/
URL:https://kultura.tarnow.pl/wydarzenie/david-harrower-blackbird/2024-11-14/
LOCATION:Teatr im. L.Solskiego\, Mickiewicza 4\, Tarnów\, małopolskie\, 33-100\, Polska
CATEGORIES:spektakle
ATTACH;FMTTYPE=image/jpeg:https://kultura.tarnow.pl/wp-content/uploads/BLACKBIRD-www-nowa-1.jpg
GEO:50.0159214;20.987504
X-APPLE-STRUCTURED-LOCATION;VALUE=URI;X-ADDRESS=Teatr im. L.Solskiego Mickiewicza 4 Tarnów małopolskie 33-100 Polska;X-APPLE-RADIUS=500;X-TITLE=Mickiewicza 4:geo:20.987504,50.0159214
END:VEVENT
END:VCALENDAR