BEGIN:VCALENDAR
VERSION:2.0
PRODID:-//kultura.tarnów - ECPv6.4.0.1//NONSGML v1.0//EN
CALSCALE:GREGORIAN
METHOD:PUBLISH
X-ORIGINAL-URL:https://kultura.tarnow.pl
X-WR-CALDESC:Wydarzenia dla
REFRESH-INTERVAL;VALUE=DURATION:PT1H
X-Robots-Tag:noindex
X-PUBLISHED-TTL:PT1H
BEGIN:VTIMEZONE
TZID:Europe/Warsaw
BEGIN:DAYLIGHT
TZOFFSETFROM:+0100
TZOFFSETTO:+0200
TZNAME:CEST
DTSTART:20240331T010000
END:DAYLIGHT
BEGIN:STANDARD
TZOFFSETFROM:+0200
TZOFFSETTO:+0100
TZNAME:CET
DTSTART:20241027T010000
END:STANDARD
END:VTIMEZONE
BEGIN:VEVENT
DTSTART;TZID=Europe/Warsaw:20241112T090000
DTEND;TZID=Europe/Warsaw:20241112T150000
DTSTAMP:20260424T042918
CREATED:20241030T084509Z
LAST-MODIFIED:20241030T084509Z
UID:10022448-1731402000-1731423600@kultura.tarnow.pl
SUMMARY:„Miniatury w Zbiorach Muzeum Ziemi Tarnowskiej”
DESCRIPTION:Muzeum Ziemi Tarnowskiej zaprasza na wyjątkową wystawę miniatur w ramach\, która realizowana jest w ramach cyklu „Skarby Muzeum Ziemi Tarnowskiej”. Wernisaż odbędzie się 4 listopada 2024 roku o godzinie 18:00 w Muzeum Historii Tarnowa i Regionu (Tarnów\, Rynek 20-21). Ekspozycja będzie dostępna dla zwiedzających od 4 listopada do 31 grudnia 2024 roku. \nTa pierwsza tak obszerna prezentacja obejmuje ponad 150 dzieł z muzealnej kolekcji. Wśród nich znajdują się różnorodne miniatury wykonane w okresie od drugiej połowy XVIII do początku XXI wieku\, a pochodzące z dawnej kolekcji książąt Sanguszków z pałacu w Gumniskach\, zbioru zakupionego od prywatnego kolekcjonera w 1982 roku\, oraz pojedyncze\, cenne obiekty nabyte w drodze darowizn i zakupów. \nMiniatury wystawione na ekspozycji wykonane zostały na takich materiałach jak kość\, pergamin\, metal\, szkło\, papier i drewno. Nie brak wśród nich portretów\, pejzaży\, scen rodzajowych oraz przedstawień religijnych i patriotycznych. Zbiory te mają ogromne znaczenie sentymentalne\, historyczne i artystyczne. Dla zwiedzających stanowić mogą formę wyjątkowych dzieł sztuki\, ale również cenne świadectwa minionych epok. \nGodziny otwarcia: \nponiedziałek: nieczynne\nwtorek: 9.00 – 15.00\nśroda: 9.00 – 15.00\nczwartek: 9.00 – 15.00\npiątek: 9.00 – 17.00\nsobota: nieczynne\nniedziela: 10.00 – 14.00
URL:https://kultura.tarnow.pl/wydarzenie/miniatury-w-zbiorach-muzeum-ziemi-tarnowskiej-2/2024-11-12/
LOCATION:Muzeum Ziemi Tarnowskiej\, Rynek 3\, Tarnów\, małopolskie\, 33-100\, Polska
CATEGORIES:wystawy
ATTACH;FMTTYPE=image/jpeg:https://kultura.tarnow.pl/wp-content/uploads/Miniatury-w-zbiorach_plakat_.jpg
GEO:50.0122989;20.9877958
X-APPLE-STRUCTURED-LOCATION;VALUE=URI;X-ADDRESS=Muzeum Ziemi Tarnowskiej Rynek 3 Tarnów małopolskie 33-100 Polska;X-APPLE-RADIUS=500;X-TITLE=Rynek 3:geo:20.9877958,50.0122989
END:VEVENT
BEGIN:VEVENT
DTSTART;TZID=Europe/Warsaw:20241112T090000
DTEND;TZID=Europe/Warsaw:20241112T170000
DTSTAMP:20260424T042918
CREATED:20241029T132032Z
LAST-MODIFIED:20241029T132032Z
UID:10022435-1731402000-1731430800@kultura.tarnow.pl
SUMMARY:Krzysztof Zieliński "Hometown"
DESCRIPTION:Wystawa fotografii Krzysztofa Zielińskiego \nW programie wystawy:\nCzwartek 14.11\, g. 18:00 Rozmowa o „Hometown” z udziałem autora Krzysztofa Zielińskiego oraz Łukasza Gorczycy i Adama Mazura / Prolog 21. Festiwalu Sztuki ArtFest \nOprawa graficzna: Natalia Sikorska \nWystawa czynna:\nPoniedziałek-czwartek 9:00-17:00\nNiedziela 9:00-17:00 \nCykl Hometown był jego pracą dyplomową\, rozwiniętym później w drugiej części (2002). Tematem jest rodzinne Wąbrzeźno i jego małomiasteczkowa rzeczywistość. Autor w paradokumentalny sposób rejestruje motywy ulic\, placów\, ścian budynków\, szyldów – wydobywając i zatrzymując potocznie niedostrzegalne piękno ich przeciętności. W większości tych fotografii nie ma ludzi\, czytelne są natomiast ślady ich obecności i działalności\, przejawiającej się w estetycznej inwencji. Autor respektując tę estetykę\, tworzy w kolejnych kadrach obrazy o porównywalnej z malarstwem kompozycji i kolorystyce. Jednocześnie przekazuje głęboko egzystencjalny wyraz. \nKrzysztof Zieliński – urodzony w 1974 w Wąbrzeźnie. Fotograf sztuk pięknych z prawie trzydziestoletnim doświadczeniem\, mający na koncie międzynarodowe wystawy. Jego prace znajdujące się w publicznych i prywatnych kolekcjach sztuki współczesnej. Doświadczenie akademickie jako wykładowca fotografii dokumentalnej na Wydziale Fotografii Akademii Filmowej (FAMU) w Pradze. \nBWA Tarnów / Dworzec PKP\, Pl. Dworcowy 4\n24.10-19.11.2024\nWstęp wolny
URL:https://kultura.tarnow.pl/wydarzenie/krzysztof-zielinski-hometown/2024-11-12/
LOCATION:BWA na Dworcu PKP\, Plac Dworcowy 4\, Tarnów\, małopolskie\, 33-100\, Polska
CATEGORIES:wystawy
ORGANIZER;CN="Biuro Wystaw Artystycznych":MAILTO:biuro@bwa.tarnow.pl
GEO:50.0057629;20.9744639
X-APPLE-STRUCTURED-LOCATION;VALUE=URI;X-ADDRESS=BWA na Dworcu PKP Plac Dworcowy 4 Tarnów małopolskie 33-100 Polska;X-APPLE-RADIUS=500;X-TITLE=Plac Dworcowy 4:geo:20.9744639,50.0057629
END:VEVENT
BEGIN:VEVENT
DTSTART;TZID=Europe/Warsaw:20241112T100000
DTEND;TZID=Europe/Warsaw:20241112T180000
DTSTAMP:20260424T042918
CREATED:20240927T102243Z
LAST-MODIFIED:20240927T102243Z
UID:10019494-1731405600-1731434400@kultura.tarnow.pl
SUMMARY:„Koń jaki jest?” - wystawa edukacyjna
DESCRIPTION:7 października – 6 grudnia\, w godzinach otwarcia – wystawa edukacyjna\n \nWystawa „Koń jaki jest?” to pełna uroku podróż przez świat koni przedstawionych w sztuce i kulturze. Zainspirowana książką „Zwierzyniec. Okazy wybrane” (wyd. Międzynarodowe Centrum Kultury w Krakowie i Wydawnictwo Dwie Siostry)\, wystawa prezentuje rozmaite ujęcia tego niezwykłego zwierzęcia – od historycznych ilustracji po ludowe zabawki. \nKonie\, te pracowite\, dumne\, ale i pełne gracji stworzenia\, były i są źródłem inspiracji dla artystów. Na wystawie można zobaczyć różnorodne dzieła: od rysunków i rycin wielkich mistrzów\, takich jak Józef Chełmoński czy Artur Grottger\, po barwne zabawki z drewna\, które bawiły dzieci w dawnych czasach. Wystawa pokazuje\, jak koń był postrzegany na przestrzeni wieków – jako towarzysz w pracy\, wojownik na polu bitwy\, a także obiekt codziennego życia i sztuki ludowej. \nKażdy koń na tej wystawie jest inny: niektóre są spokojne i zadumane\, inne rozbrykane i dzikie jak mustangi. Znajdziemy tu konie z rycin z XIX wieku\, tradycyjne wycinanki ludowe\, a także zabawki z drewna\, które przywodzą na myśl dzieciństwo i dawny świat. \nWystawę w holu Domu Kultury Westerplatte prezentujemy dzięki uprzejmości Międzynarodowego Centrum Kultury w Krakowie. Wstęp bezpłatny.
URL:https://kultura.tarnow.pl/wydarzenie/kon-jaki-jest-wystawa-edukacyjna/2024-11-12/
LOCATION:Dom Kultury Westerplatte 8a\, Westerplatte 8a\, Tarnów\, Polska - małopolskie\, 33-100\, Polska
CATEGORIES:wystawy
ATTACH;FMTTYPE=image/jpeg:https://kultura.tarnow.pl/wp-content/uploads/Kon-jaki-jest_wystawa.jpg
ORGANIZER;CN="Dom Kultury Westerplatte 8a":MAILTO:westerplatte@tck.pl
GEO:50.0273033;21.0087361
X-APPLE-STRUCTURED-LOCATION;VALUE=URI;X-ADDRESS=Dom Kultury Westerplatte 8a Westerplatte 8a Tarnów Polska - małopolskie 33-100 Polska;X-APPLE-RADIUS=500;X-TITLE=Westerplatte 8a:geo:21.0087361,50.0273033
END:VEVENT
BEGIN:VEVENT
DTSTART;TZID=Europe/Warsaw:20241112T180000
DTEND;TZID=Europe/Warsaw:20241112T200000
DTSTAMP:20260424T042918
CREATED:20241031T142404Z
LAST-MODIFIED:20241031T142404Z
UID:10022484-1731434400-1731441600@kultura.tarnow.pl
SUMMARY:Rubinowe gody
DESCRIPTION:„Rubinowe gody” czyli znakomita komedia teatralna z plejadą polskich Gwiazd już 12 listopada w Centrum Sztuki Mościce w Tarnowie! \nCzy czterdziesta rocznica ślubu małżeństwa z prowincji może stać się mimowolną okazją do udziału w intrydze na szczytach władz?  \nGrażyna i Marian po raz pierwszy w życiu wyjeżdżają razem do luksusowego hotelu\, by czterdziestą rocznicę ślubu uczcić inaczej\, niż wszystkie poprzednie. I z pewnością wspólny weekend dałoby się jakoś przecierpieć\, gdyby nie tajemniczy gość spod łóżka\, oraz portier\, który zależność pomiędzy państwem z – i spod łóżka definiuje jako erotyczny trójkąt\, będący odskocznią od szarej\, małżeńskiej codzienności. Czy naszych bohaterów czeka polityczny skandal na szczytach władzy? I kto wyjdzie obronną ręką z sytuacji\, która dla wszystkich stron jest niekomfortowa? \n„Rubinowe gody” to opowieść o tym\, jak jeden wieczór może zmienić nasze życie poprzez splot zupełnie niespodziewanych zdarzeń\, ale również mądra lekcja: że na miłość i namiętność nigdy nie jest za późno. \n  \nObsada wymienna: \nMARIA CIUNELIS  / DOROTA NOWAKOWSKA \nTADEUSZ CHUDECKI / ANDRZEJ BEYA-ZABORSKI \nPAWEŁ FERENS / MARCIN TRZĘSOWSKI / PATRYK CZERNIEJEWSKI \nSŁAWOMIR DOLINIEC / MACIEJ ZUCHOWICZ \n  \nCzas trwania: 120 min. (jedna przerwa) \n  \nKiedy? Wtorek\, 12 Listopada 2024r. godz. 18:00 \nGdzie? TARNÓW – CENTRUM SZTUKI MOŚCICE\, ul. Traugutta 1 \n  \nBilety: \nKupBilecik https://bil.et/nypbh/ \nBiletyna https://bilety.io/f84Fv \neBilet https://sklep.ebilet.pl/46443371157258699 \n  \nPo zamówienia grupowe zapraszamy bezpośrednio do Organizatora: tel. 531 531 001 \nbilety@agencjamuza.pl
URL:https://kultura.tarnow.pl/wydarzenie/rubinowe-gody/
LOCATION:Centrum Sztuki Mościce\, Traugutta 1\, Tarnów\, małopolskie\, 33-101\, Polska
CATEGORIES:spektakle
ATTACH;FMTTYPE=image/jpeg:https://kultura.tarnow.pl/wp-content/uploads/1080X1080.jpg
GEO:50.009833;20.92706
X-APPLE-STRUCTURED-LOCATION;VALUE=URI;X-ADDRESS=Centrum Sztuki Mościce Traugutta 1 Tarnów małopolskie 33-101 Polska;X-APPLE-RADIUS=500;X-TITLE=Traugutta 1:geo:20.92706,50.009833
END:VEVENT
END:VCALENDAR