BEGIN:VCALENDAR
VERSION:2.0
PRODID:-//kultura.tarnów - ECPv6.4.0.1//NONSGML v1.0//EN
CALSCALE:GREGORIAN
METHOD:PUBLISH
X-WR-CALNAME:kultura.tarnów
X-ORIGINAL-URL:https://kultura.tarnow.pl
X-WR-CALDESC:Wydarzenia dla
REFRESH-INTERVAL;VALUE=DURATION:PT1H
X-Robots-Tag:noindex
X-PUBLISHED-TTL:PT1H
BEGIN:VTIMEZONE
TZID:Europe/Warsaw
BEGIN:DAYLIGHT
TZOFFSETFROM:+0100
TZOFFSETTO:+0200
TZNAME:CEST
DTSTART:20240331T010000
END:DAYLIGHT
BEGIN:STANDARD
TZOFFSETFROM:+0200
TZOFFSETTO:+0100
TZNAME:CET
DTSTART:20241027T010000
END:STANDARD
END:VTIMEZONE
BEGIN:VEVENT
DTSTART;TZID=Europe/Warsaw:20241111T090000
DTEND;TZID=Europe/Warsaw:20241111T170000
DTSTAMP:20260424T225309
CREATED:20241029T132032Z
LAST-MODIFIED:20241029T132032Z
UID:10022434-1731315600-1731344400@kultura.tarnow.pl
SUMMARY:Krzysztof Zieliński "Hometown"
DESCRIPTION:Wystawa fotografii Krzysztofa Zielińskiego \nW programie wystawy:\nCzwartek 14.11\, g. 18:00 Rozmowa o „Hometown” z udziałem autora Krzysztofa Zielińskiego oraz Łukasza Gorczycy i Adama Mazura / Prolog 21. Festiwalu Sztuki ArtFest \nOprawa graficzna: Natalia Sikorska \nWystawa czynna:\nPoniedziałek-czwartek 9:00-17:00\nNiedziela 9:00-17:00 \nCykl Hometown był jego pracą dyplomową\, rozwiniętym później w drugiej części (2002). Tematem jest rodzinne Wąbrzeźno i jego małomiasteczkowa rzeczywistość. Autor w paradokumentalny sposób rejestruje motywy ulic\, placów\, ścian budynków\, szyldów – wydobywając i zatrzymując potocznie niedostrzegalne piękno ich przeciętności. W większości tych fotografii nie ma ludzi\, czytelne są natomiast ślady ich obecności i działalności\, przejawiającej się w estetycznej inwencji. Autor respektując tę estetykę\, tworzy w kolejnych kadrach obrazy o porównywalnej z malarstwem kompozycji i kolorystyce. Jednocześnie przekazuje głęboko egzystencjalny wyraz. \nKrzysztof Zieliński – urodzony w 1974 w Wąbrzeźnie. Fotograf sztuk pięknych z prawie trzydziestoletnim doświadczeniem\, mający na koncie międzynarodowe wystawy. Jego prace znajdujące się w publicznych i prywatnych kolekcjach sztuki współczesnej. Doświadczenie akademickie jako wykładowca fotografii dokumentalnej na Wydziale Fotografii Akademii Filmowej (FAMU) w Pradze. \nBWA Tarnów / Dworzec PKP\, Pl. Dworcowy 4\n24.10-19.11.2024\nWstęp wolny
URL:https://kultura.tarnow.pl/wydarzenie/krzysztof-zielinski-hometown/2024-11-11/
LOCATION:BWA na Dworcu PKP\, Plac Dworcowy 4\, Tarnów\, małopolskie\, 33-100\, Polska
CATEGORIES:wystawy
ORGANIZER;CN="Biuro Wystaw Artystycznych":MAILTO:biuro@bwa.tarnow.pl
GEO:50.0057629;20.9744639
X-APPLE-STRUCTURED-LOCATION;VALUE=URI;X-ADDRESS=BWA na Dworcu PKP Plac Dworcowy 4 Tarnów małopolskie 33-100 Polska;X-APPLE-RADIUS=500;X-TITLE=Plac Dworcowy 4:geo:20.9744639,50.0057629
END:VEVENT
BEGIN:VEVENT
DTSTART;TZID=Europe/Warsaw:20241111T094000
DTEND;TZID=Europe/Warsaw:20241111T120000
DTSTAMP:20260424T225309
CREATED:20241015T075122Z
LAST-MODIFIED:20241015T075122Z
UID:10020647-1731318000-1731326400@kultura.tarnow.pl
SUMMARY:Uroczystości Święta Niepodległości w dzielnicy Mościce
DESCRIPTION:Serdecznie zapraszamy do udziału w uroczystościach patriotycznych upamiętniających Święto Niepodległości\, które odbędą się w Tarnowie\, w dzielnicy Mościce. \nProgram wydarzeń: \n9:40 – Orkiestra Dęta Grupy Azoty S.A. zagra pieśni patriotyczne przed Kościołem pw. Najświętszej Maryi Panny Królowej Polski w Mościcach.\n10:00 – Msza Święta w intencji Ojczyzny oraz bohaterów walk o niepodległość Polski w Kościele pw. Najświętszej Maryi Panny Królowej Polski w Mościcach.\n11:15 – Uroczystości przy Pomniku Ofiar Hitleryzmu na cmentarzu w Mościcach\, z udziałem przedstawicieli władz miasta i regionu. Podczas uroczystości odbędzie się wspólne śpiewanie pieśni patriotycznych przy akompaniamencie Orkiestry Dętej Grupy Azoty S.A. \nZapraszamy wszystkich mieszkańców Tarnowa do wspólnego świętowania odzyskania niepodległości oraz do uczczenia pamięci tych\, którzy poświęcili swoje życie w walce o wolną Polskę.
URL:https://kultura.tarnow.pl/wydarzenie/uroczystosci-swieta-niepodleglosci-w-dzielnicy-moscice/
LOCATION:Kościół NMP w Tarnowie Mościcach\, Tarnów\, małopolskie\, 33-100\, Polska
CATEGORIES:uroczystości patriotyczne
GEO:50.0121011;20.9858407
END:VEVENT
BEGIN:VEVENT
DTSTART;TZID=Europe/Warsaw:20241111T100000
DTEND;TZID=Europe/Warsaw:20241111T180000
DTSTAMP:20260424T225309
CREATED:20240927T102243Z
LAST-MODIFIED:20240927T102243Z
UID:10019493-1731319200-1731348000@kultura.tarnow.pl
SUMMARY:„Koń jaki jest?” - wystawa edukacyjna
DESCRIPTION:7 października – 6 grudnia\, w godzinach otwarcia – wystawa edukacyjna\n \nWystawa „Koń jaki jest?” to pełna uroku podróż przez świat koni przedstawionych w sztuce i kulturze. Zainspirowana książką „Zwierzyniec. Okazy wybrane” (wyd. Międzynarodowe Centrum Kultury w Krakowie i Wydawnictwo Dwie Siostry)\, wystawa prezentuje rozmaite ujęcia tego niezwykłego zwierzęcia – od historycznych ilustracji po ludowe zabawki. \nKonie\, te pracowite\, dumne\, ale i pełne gracji stworzenia\, były i są źródłem inspiracji dla artystów. Na wystawie można zobaczyć różnorodne dzieła: od rysunków i rycin wielkich mistrzów\, takich jak Józef Chełmoński czy Artur Grottger\, po barwne zabawki z drewna\, które bawiły dzieci w dawnych czasach. Wystawa pokazuje\, jak koń był postrzegany na przestrzeni wieków – jako towarzysz w pracy\, wojownik na polu bitwy\, a także obiekt codziennego życia i sztuki ludowej. \nKażdy koń na tej wystawie jest inny: niektóre są spokojne i zadumane\, inne rozbrykane i dzikie jak mustangi. Znajdziemy tu konie z rycin z XIX wieku\, tradycyjne wycinanki ludowe\, a także zabawki z drewna\, które przywodzą na myśl dzieciństwo i dawny świat. \nWystawę w holu Domu Kultury Westerplatte prezentujemy dzięki uprzejmości Międzynarodowego Centrum Kultury w Krakowie. Wstęp bezpłatny.
URL:https://kultura.tarnow.pl/wydarzenie/kon-jaki-jest-wystawa-edukacyjna/2024-11-11/
LOCATION:Dom Kultury Westerplatte 8a\, Westerplatte 8a\, Tarnów\, Polska - małopolskie\, 33-100\, Polska
CATEGORIES:wystawy
ATTACH;FMTTYPE=image/jpeg:https://kultura.tarnow.pl/wp-content/uploads/Kon-jaki-jest_wystawa.jpg
ORGANIZER;CN="Dom Kultury Westerplatte 8a":MAILTO:westerplatte@tck.pl
GEO:50.0273033;21.0087361
X-APPLE-STRUCTURED-LOCATION;VALUE=URI;X-ADDRESS=Dom Kultury Westerplatte 8a Westerplatte 8a Tarnów Polska - małopolskie 33-100 Polska;X-APPLE-RADIUS=500;X-TITLE=Westerplatte 8a:geo:21.0087361,50.0273033
END:VEVENT
BEGIN:VEVENT
DTSTART;TZID=Europe/Warsaw:20241111T150000
DTEND;TZID=Europe/Warsaw:20241111T190000
DTSTAMP:20260424T225309
CREATED:20241021T083159Z
LAST-MODIFIED:20241105T080420Z
UID:10021025-1731337200-1731351600@kultura.tarnow.pl
SUMMARY:106. Rocznica Odzyskania przez Polskę Niepodległości
DESCRIPTION:Program obchodów w dniu 11 listopada: \n9.40: Uroczystości patriotyczne w dzielnicy Mościce. Kościół pw. NMP w Mościcach i Cmentarz Mościce. (Rada Osiedla Mościce) \n15.00: Msza św. w intencji Ojczyzny z udziałem chóru Puellae Orantes. Bazylika Katedralna.\n16.30: Uroczystość rocznicowa. Grób Nieznanego Żołnierza.\n17.30: Złożenie kwiatów przed pomnikiem Józefa Piłsudskiego. Al. Solidarności. \n„Solski Patriotycznie”:\n15.00 i 16.00: Warsztaty szycia flag i kotylionów. W teatrze odbędą warsztaty\, przeznaczone dla wszystkich chętnych\, niezależnie od wieku. Wspólnie uszyte flagi i kotyliony zostaną rozdane uczestnikom koncertu pieśni patriotycznych. Udział w warsztatach jest bezpłatny. Obowiązują zapisy pod numerem tel. 14 6883288\, 784976025; e-mail: organizacja@teatr.tarnow.pl\n17.30: Projekcja filmu „Spacer po Tarnowie szlakiem niepodległości”. Na telebimie przed teatrem oraz na Dużej Scenie odbędzie się pokaz filmu\, który przybliży widzom historię Tarnowa na tle walki o niepodległość.\n18.00: Koncert pieśni patriotycznych. Na schodach przed teatrem mieszkańcy Tarnowa i okolic będą mogli wspólnie z Chórem Solskiego oraz aktorami tarnowskiej sceny zaśpiewać pieśni żołnierskie\, niepodległościowe\, patriotyczne oraz harcerskie.\nTarnowski Teatr \nOrganizatorzy zapraszają całe rodziny do radosnego świętowania oraz do zabrania ze sobą flag. \n12 listopada \n17.00: „Pierwsze lata Tarnowa w odrodzonej Polsce”  – wykład dra Krzysztofa Moskala. Czytelnia Czasopism MBP\,\nul. Krakowska 4. \n  \n  \n 
URL:https://kultura.tarnow.pl/wydarzenie/106-rocznica-odzyskania-przez-polske-niepodleglosci/
LOCATION:Grób Nieznanego Żołnierza\, Pl. Ofiar Katynia\, Tarnów\, małopolskie\, 33-100\, Polska
CATEGORIES:uroczystości patriotyczne
GEO:50.0135389;20.9859993
X-APPLE-STRUCTURED-LOCATION;VALUE=URI;X-ADDRESS=Grób Nieznanego Żołnierza Pl. Ofiar Katynia Tarnów małopolskie 33-100 Polska;X-APPLE-RADIUS=500;X-TITLE=Pl. Ofiar Katynia:geo:20.9859993,50.0135389
END:VEVENT
BEGIN:VEVENT
DTSTART;TZID=Europe/Warsaw:20241111T150000
DTEND;TZID=Europe/Warsaw:20241111T190000
DTSTAMP:20260424T225309
CREATED:20241031T123843Z
LAST-MODIFIED:20241031T123843Z
UID:10022482-1731337200-1731351600@kultura.tarnow.pl
SUMMARY:Solski patriotycznie 2024!
DESCRIPTION:Zapraszamy na Solski patriotycznie 2024!Patriotyczne śpiewanie\, projekcja filmu oraz warsztaty dla mieszkańców Tarnowa i okolic\, to okazja do wspólnego międzypokoleniowego świętowania odzyskania przez Polskę Niepodległości. W tym roku\, Teatr im. Ludwika Solskiego w partnerstwie z Fundacją Szopa Sztuki\, zapraszają do włączenia się w obchody Święta Niepodległości.Bardzo się cieszymy z zaproszenia do współorganizacji wydarzenia\, które od 12 lat cieszy się coraz większym zainteresowaniem mieszkańców Tarnowa i okolic – mówi Jerzy Pilch wiceprezes Fundacji Szopa Sztuki.A już w tygodniu poprzedzającym w szkołach i przedszkolach odbędą się warsztaty szycia flag i kotylionów. Powstałe na nich symbole zostaną rozdane uczestnikom koncertu pieśni patriotycznych. Organizatorzy zapraszają cały rodziny do radosnego świętowania poprzez uczestnictwo w przygotowanych wydarzeniach.Program wydarzeń:11 listopada 2024 roku\, Teatr im. Ludwika Solskiego w Tarnowie\, ul. Mickiewicza 4:godz. 15.00 i 16.00 – warsztaty szycia flag i kotylionów. W teatrze odbędą warsztaty\, przeznaczone dla wszystkich chętnych\, niezależnie od wieku. Wspólnie uszyte flagi i kotyliony zostaną rozdane uczestnikom koncertu pieśni patriotycznychUdział w warsztatach jest bezpłatny. Obowiązują zapisy pod numerem tel. 14 6883288\, 784976025; e-mail: organizacja@teatr.tarnow.plgodz. 17.30 – projekcja filmu „Spacer po Tarnowie szlakiem niepodległości”. Na telebimie przed teatrem oraz na Dużej Scenie odbędzie się pokaz filmu\, który przybliży widzom historię Tarnowa na tle walki o niepodległość.Wstęp bezpłatny. Film został udostępniony przez Tarnowską Organizację Turystyczną.godz. 18.00 – koncert pieśni patriotycznych. Na schodach przed teatrem mieszkańcy Tarnowa i okolic będą mogli wspólnie z Chórem Solskiego oraz aktorami tarnowskiej sceny zaśpiewać pieśni żołnierskie\, niepodległościowe\, patriotyczne oraz harcerskie.Organizatorzy zapraszają całe rodziny do radosnego świętowania oraz do zabrania ze sobą flag.Projekt „Solski patriotycznie” zrealizowano przy wsparciu finansowym Województwa Małopolskiego.Fundacja Szopa Sztuki wspierana jest przez UPM Serwis Stanisław Ślaga oraz Fundację Młodzi Młodym
URL:https://kultura.tarnow.pl/wydarzenie/solski-patriotycznie-2024/
LOCATION:Teatr im. L.Solskiego\, Mickiewicza 4\, Tarnów\, małopolskie\, 33-100\, Polska
CATEGORIES:koncerty
ATTACH;FMTTYPE=image/jpeg:https://kultura.tarnow.pl/wp-content/uploads/465135921_982650390559970_5270929298306399812_n.jpg
GEO:50.0159214;20.987504
X-APPLE-STRUCTURED-LOCATION;VALUE=URI;X-ADDRESS=Teatr im. L.Solskiego Mickiewicza 4 Tarnów małopolskie 33-100 Polska;X-APPLE-RADIUS=500;X-TITLE=Mickiewicza 4:geo:20.987504,50.0159214
END:VEVENT
END:VCALENDAR