BEGIN:VCALENDAR
VERSION:2.0
PRODID:-//kultura.tarnów - ECPv6.4.0.1//NONSGML v1.0//EN
CALSCALE:GREGORIAN
METHOD:PUBLISH
X-WR-CALNAME:kultura.tarnów
X-ORIGINAL-URL:https://kultura.tarnow.pl
X-WR-CALDESC:Wydarzenia dla
REFRESH-INTERVAL;VALUE=DURATION:PT1H
X-Robots-Tag:noindex
X-PUBLISHED-TTL:PT1H
BEGIN:VTIMEZONE
TZID:Europe/Warsaw
BEGIN:DAYLIGHT
TZOFFSETFROM:+0100
TZOFFSETTO:+0200
TZNAME:CEST
DTSTART:20240331T010000
END:DAYLIGHT
BEGIN:STANDARD
TZOFFSETFROM:+0200
TZOFFSETTO:+0100
TZNAME:CET
DTSTART:20241027T010000
END:STANDARD
END:VTIMEZONE
BEGIN:VEVENT
DTSTART;TZID=Europe/Warsaw:20241109T100000
DTEND;TZID=Europe/Warsaw:20241109T170000
DTSTAMP:20260423T154642
CREATED:20241003T125936Z
LAST-MODIFIED:20241003T125936Z
UID:10020630-1731146400-1731171600@kultura.tarnow.pl
SUMMARY:"Tożsamość" Andrzej Grudzień
DESCRIPTION:Tarnowskie Centrum Kultury serdecznie zaprasza na wystawę fotografii autorstwa Andrzeja Grudnia\, znakomitego artysty fotografa. \nW salach galerii Tarnowskiego Centrum Kultury zaprezentowane zostaną cykle fotografii; Inicjacje\, Symbioza\, Tożsamość\, Depresja\, Embriony\, Przemiany\, Światy widziane\, autorstwa Andrzeja Grudnia. Wspólnym mianownikiem tych cykli jest eksploracja przez autora intymnych obszarów wokół tytułowej TOŻSAMOŚCI. \n„Wystawa zaprezentuje liczne autoportrety\, akty\, analityczne rejestracje obrazu /ruchu/ twarzy i ciała – ujęte zarówno w przestrzeni intymnej\, jak i w obszarze przyrody\, architektury czy zagubionego we masie wielkomiejskiego tłumu dojmującego wrażeniem „stopienia” się jednostki w jego plastycznej masie. To wszystko ma na celu poprowadzenie widza do namysłu nad tytułowym problemem wystawy.”\nJolanta Rycerska – kuratorka wystawy\n \nAndrzej Grudzień\nRocznik 1973\, artysta fotograf.\nJego prace można scharakteryzować jako transgresyjne poszukiwania w fotografii. Stypendysta Ministerstwa Kultury\, Dziedzictwa Narodowego. Organizator licznych warsztatów z fotografii tradycyjnej i cyfrowej. Specjalizuje się w fotografii analogowej\, ciemni negatywowo-pozytywowej oraz artystycznych manipulacjach obrazu łączących różne techniki. Ekspert techniczny i kolekcjoner sprzętu fotograficznego. Kurator wystaw.\nRazem z dr Jolantą Rycerską prowadzi profesjonalną szkołę artystyczną Studium Sztuki. W latach 2020-23 był dyrektorem Studium Fotografii Związku Polskich Artystów Fotografików. Przez 4 lata był tam także wykładowcą. Pracuje na Wydziale Architektury Wnętrz Akademii Sztuk Pięknych w Warszawie. Gościnnie prowadził warsztaty w Warszawskiej Szkole Filmowej.\nVloger\, twórca cyklu rozmów „Fotoforma Live – Z pasji do fotografii – rozmowy Andrzeja Grudnia” oraz kanału YouTube „Gandalf fotografii”.\nAktywnie prezentuje swoje prace na wystawach indywidualnych oraz zbiorowych w Polsce i za granicą. \nWystawa prezentowana w Galerii TCK\, od 12 października do 9 listopada 2024 r.\,\nBilety: 7 zł (normalny) i 5 zł (ulgowy). Ekspozycja czynna od poniedziałku do piątku\, w godz. 10:00-18:00 oraz w soboty w godz. 10:00-17:00.
URL:https://kultura.tarnow.pl/wydarzenie/tozsamosc-andrzej-grudzien-2/2024-11-09/
LOCATION:Tarnowskie Centrum Kultury\, Rynek 5\, Tarnów\, małopolskie\, 33-100\, Polska
CATEGORIES:wystawy
GEO:50.012155;20.9878542
X-APPLE-STRUCTURED-LOCATION;VALUE=URI;X-ADDRESS=Tarnowskie Centrum Kultury Rynek 5 Tarnów małopolskie 33-100 Polska;X-APPLE-RADIUS=500;X-TITLE=Rynek 5:geo:20.9878542,50.012155
END:VEVENT
BEGIN:VEVENT
DTSTART;TZID=Europe/Warsaw:20241109T110000
DTEND;TZID=Europe/Warsaw:20241109T130000
DTSTAMP:20260423T154642
CREATED:20241004T071539Z
LAST-MODIFIED:20241004T071539Z
UID:10020634-1731150000-1731157200@kultura.tarnow.pl
SUMMARY:Sobota w Pałacu
DESCRIPTION:Jak sobota\, to tylko w Pałacu 🙂 \nSobota w Pałacu to nasza nowa propozycja\, która pozwoli na atrakcyjne spędzanie wolnego czasu. Warsztaty zaplanowano na wybrane soboty\, w godzinach 11.00 – 13.00. Spotkania będą cykliczne i obejmą działania z zakresu rzemiosła\, majsterkowania\, upcyklingu\, szycia\, rękodzieła i sztuk plastycznych. Planujemy także warsztaty taneczne\, muzyczne i sportowe. Część warsztatów przyjmie formułę działań rodzinnych. Do wspólnego tworzenia zaprosimy dzieci z rodzicami\, dziadkami lub starszym rodzeństwem. Uczestnicy będą pracować pod okiem wyspecjalizowanej kadry. Wśród sobotnich propozycji znajdą się także wymiany różnych przedmiotów. Będzie to okazja do domowych porządków i podzielenia się rzeczami. Nie wyrzucamy\, uwalniamy – niech cieszą innych! Wszystkim obiecujemy super zabawę\, pełną niekończących się pomysłów i kreatywności. Zapraszamy! \nMiejsce spotkań: Pałac Młodzieży w Tarnowie\, ul. Piłsudskiego 24 \nUWAGA! Warsztaty są bezpłatne\, ilość miejsc ograniczona. \nHarmonogram spotkań: \n12.10.2024  Eko ozdoby z jesiennych darów natury – rodzinne warsztaty plastyczne (dzieci w wieku 6 – 8 lat + osoba dorosła) \nProwadzenie: Maria Mendel \nZgłoszenia do 9.10.2024 lub do wyczerpania miejsc na adres: m.mendel@pm.tarnow.pl \n19.10.2024  Latawce i wiatr – warsztaty modelarskie (wiek uczestników 7 – 14 lat)  \nProwadzenie: Wojciech Brajowski \nZgłoszenia w terminie 1.10 – 16.10.2024 lub do wyczerpania miejsc na adres: w.brajowski@pm.tarnow.pl lub telefonicznie 694 313 571 \n26.10.2024  Pałacowe wymianki\, czyli daj przedmiotom drugie życie – wymiana zabawek\, gier planszowych i książek dla dzieci \nOrganizacja: Joanna Wielgus\, Ewelina Janikowska Zgłoszenia w terminie 1.10 – 18.10.2024 lub do wyczerpania miejsc na adres: mcwtarnow@gmail.com \n16.11.2024  Między dźwiękami – zajęcia umuzykalniające dla dzieci (wiek uczestników 6 – 7 lat) \nProwadzenie: Iwona Kędroń \nZgłoszenia w terminie 4.11 – 14.11.2024 lub do wyczerpania miejsc na adres: i.kedron@pm.tarnow.pl \n23.11.2024  Tańczyć każdy może – warsztaty taneczne/w programie popularne tańce grupowe   (wiek uczestników 10 – 12 lat)    \nProwadzenie: Maria Szydłowska \nZgłoszenia w terminie 8.11 – 20.11.2024 lub do wyczerpania miejsc na adres: m.szydlowska@pm.tarnow.pl lub telefonicznie 505 677 502 \n30.11.2024  Ozdoby choinkowe z banerów. Upcyklingowe warsztaty plastyczne  (wiek uczestników  8 – 15 lat)  \nProwadzenie: Iwona Gąsior \nZgłoszenia w terminie 12.11 – 27.11.2024 lub do wyczerpania miejsc na adres: i.gasior@pm.tarnow.pl \n7.12.2024  Zimowy skrzacik – zawieszka. Warsztaty hande made (wiek uczestników 8 – 10 lat)         \nProwadzenie: Joanna Wielgus \nZgłoszenia w terminie 25.11 – 5.12.2024 lub do wyczerpania miejsc na adres: j.wielgus@pm.tarnow.pl                                                                                                                                 
URL:https://kultura.tarnow.pl/wydarzenie/sobota-w-palacu/2024-11-09/
LOCATION:Pałac Młodzieży\, ul. Piłsudskiego 24\, Tarnów\, małopolskie\, 33-100\, Polska
CATEGORIES:warsztaty
GEO:50.0172246;20.9854709
X-APPLE-STRUCTURED-LOCATION;VALUE=URI;X-ADDRESS=Pałac Młodzieży ul. Piłsudskiego 24 Tarnów małopolskie 33-100 Polska;X-APPLE-RADIUS=500;X-TITLE=ul. Piłsudskiego 24:geo:20.9854709,50.0172246
END:VEVENT
BEGIN:VEVENT
DTSTART;TZID=Europe/Warsaw:20241109T153000
DTEND;TZID=Europe/Warsaw:20241109T170000
DTSTAMP:20260423T154642
CREATED:20241025T093215Z
LAST-MODIFIED:20241025T095919Z
UID:10022038-1731166200-1731171600@kultura.tarnow.pl
SUMMARY:Spacer Historyczny „Tarnowskim Szlakiem Niepodległości”
DESCRIPTION:9 listopada \n15.30: Spacer Historyczny „Tarnowskim Szlakiem Niepodległości” – I część\, oprowadzają: Piotr Dziża i Wojciech Sypek. Kapliczka św. Walentego za Starym Cmentarzem.  \n10 listopada \n15.30: Spacer Historyczny „Tarnowskim Szlakiem Niepodległości” – II część\, oprowadzają: Piotr Dziża i Wojciech Sypek. BWA w Parku Strzeleckim.
URL:https://kultura.tarnow.pl/wydarzenie/spacer-historyczny-tarnowskim-szlakiem-niepodleglosci/2024-11-09/
LOCATION:małopolskie
CATEGORIES:spotkania
ATTACH;FMTTYPE=image/jpeg:https://kultura.tarnow.pl/wp-content/uploads/TPN-slider-1.jpg
END:VEVENT
BEGIN:VEVENT
DTSTART;TZID=Europe/Warsaw:20241109T170000
DTEND;TZID=Europe/Warsaw:20241109T190000
DTSTAMP:20260423T154642
CREATED:20240923T104353Z
LAST-MODIFIED:20240923T104353Z
UID:10019447-1731171600-1731178800@kultura.tarnow.pl
SUMMARY:XI Koncert Zaduszkowy Stowarzyszenie ICH LEPSZE JUTRO
DESCRIPTION:Na XI Koncerty Zaduszkowy zaprasza Stowarzyszenie ICH LEPSZE JUTRO. Wydarzenie odbędzie się w Centrum Sztuki Mościce w Tarnowie\, które jest współorganizatorem koncertu. Bilety są już w sprzedaży. Dochód z tegorocznego koncertu zostanie przeznaczony na zakup specjalistycznych narzędzi diagnostycznych do badania dzieci\, u których podejrzewany jest autyzm. \nKoncert odbędzie się w sobotę\, 9 listopada o godz. 17.00. Na scenie wystąpią artyści\, którzy od ponad dziesięciu lat wspierają podopiecznych Stowarzyszenia: Magdalena Piwowarczyk\, Milena Łącka\, kwartet Con Affetto\, zespół MONK\, Piotr Kita\, Paweł Mazur i Bartłomiej Szułakiewicz. Na gitarze zagrają Stanisław Migała i Grzegorz Nosek\, a na instrumentach perkusyjnych Bartek Roju Rojek. Koncert poprowadzi Krzysztof Borowiec. \nBilety w cenie 60 zł są do kupienia wyłącznie w biurowcu Tarnowskiej Agencji Rozwoju Regionalnego S.A. w Tarnowie przy ul. Józefa Szujskiego 66 na parterze. Kasa jest czynna od poniedziałku do czwartku od 7.00 do 18.30\, a w piątek od 7.00 do 16.30. \nKoncert Zaduszkowy to cykliczne wydarzenie\, podczas którego artyści i publiczność wspierają działalność Stowarzyszenia ICH LEPSZE JUTRO. Od 20 lat organizacja pomaga dzieciom z niepełną sprawnością. Stowarzyszenie prowadzi w Tarnowie przedszkole dla dzieci z niepełnosprawnościami\, poradnię z zespołem wczesnego wspomagania rozwoju\, sieć gabinetów integracji sensorycznej i aktywną świetlicę terapeutyczną oraz poradnię psychologiczno-pedagogiczną w Parkoszu.
URL:https://kultura.tarnow.pl/wydarzenie/xi-koncert-zaduszkowy-stowarzyszenie-ich-lepsze-jutro/
LOCATION:Centrum Sztuki Mościce\, Traugutta 1\, Tarnów\, małopolskie\, 33-101\, Polska
CATEGORIES:koncerty
ATTACH;FMTTYPE=image/png:https://kultura.tarnow.pl/wp-content/uploads/ILJ_plakat_ZADUSZKI_2024_wersja_DIGITAL_08.png
ORGANIZER;CN="Stowarzyszenie 'Ich Lepsze Jutro'":MAILTO:biuro@ichlepszejutro.pl
GEO:50.009833;20.92706
X-APPLE-STRUCTURED-LOCATION;VALUE=URI;X-ADDRESS=Centrum Sztuki Mościce Traugutta 1 Tarnów małopolskie 33-101 Polska;X-APPLE-RADIUS=500;X-TITLE=Traugutta 1:geo:20.92706,50.009833
END:VEVENT
BEGIN:VEVENT
DTSTART;TZID=Europe/Warsaw:20241109T190000
DTEND;TZID=Europe/Warsaw:20241109T210000
DTSTAMP:20260423T154642
CREATED:20241021T111817Z
LAST-MODIFIED:20241021T111817Z
UID:10021026-1731178800-1731186000@kultura.tarnow.pl
SUMMARY:"Mamma Mia"  Tribute to Abba
DESCRIPTION:Zapraszamy na niesamowite\, wielokrotnie nagrodzone Show artystów\, słynącego z wielkich hitów scenicznych Teatru Variete Muza z Koszalina. \nZorganizowane z ogromnym rozmachem widowisko pt. „Mamma Mia” przeniesie nas do lat 70′ i wielkiego triumfu szwedzkiego kwartetu ABBA na Eurowizji. Następnie pobawimy się przy zagranych i zaśpiewanych na żywo największych hitach tego kultowego zespołu!  Przez niemal dwie godziny poznamy całą historię tego fenomenu muzyki rozrywkowej i usłyszymy na żywo między innymi takie przeboje jak: Waterloo\, SOS\, Mamma Mia\, Super Trouper\, Dancing Queen\, I Have A Dream\, Hasta Mañana\, Money Money Money\, Fernando\, Honey\, Honey\, Take a chance on me\, Gimme! Gimme! Gimme!\, Chiquitita\, Voulez-Vous\, I Do\, I Do\, I Do\, I Do\, I Do czy Knowing Me Knowing You. \nArtyści wcielający się w rolę szwedzkich gwiazd\, nie tylko swoją aparycją do złudzenia przypominają Anni-Frid Lyngstad\, Benny’ego Anderssona\, Björna Ulvaeusa i Agnethę Fältskog\, ale i brzmią jak oryginalni wokaliści Abby.  Właśnie z tego względu\, nawet najwięksi sceptycy są oczarowani końcowym efektem ich występu! Spektakl ten starszym słuchaczom odświeży wspomnienia z czasów ich młodości\, szkolnych dyskotek\, zaś tym młodszym przybliży twórczość prawdziwej legendy muzyki jakim była niewątpliwie Abba. Sam koncert będzie swoistym hołdem tej fenomenalnej formacji\, która na zawsze pozostanie w naszych sercach. \nCzytaj więcej na: https://www.kupbilecik.pl/imprezy/130166/tarnow/mamma.mia/
URL:https://kultura.tarnow.pl/wydarzenie/mamma-mia-tribute-to-abba/
LOCATION:Hala Sportowo – Widowiskowa Pałacu Młodzieży\, Gumniska 28\, Tarnów\, małopolskie\, 33-100
CATEGORIES:koncerty
GEO:50.0086904;21.0004286
X-APPLE-STRUCTURED-LOCATION;VALUE=URI;X-ADDRESS=Hala Sportowo – Widowiskowa Pałacu Młodzieży Gumniska 28 Tarnów małopolskie 33-100;X-APPLE-RADIUS=500;X-TITLE=Gumniska 28:geo:21.0004286,50.0086904
END:VEVENT
BEGIN:VEVENT
DTSTART;TZID=Europe/Warsaw:20241109T190000
DTEND;TZID=Europe/Warsaw:20241109T210000
DTSTAMP:20260423T154642
CREATED:20241029T100801Z
LAST-MODIFIED:20241029T100801Z
UID:10022418-1731178800-1731186000@kultura.tarnow.pl
SUMMARY:Gabriel Fauré "Requiem"
DESCRIPTION:
URL:https://kultura.tarnow.pl/wydarzenie/gabriel-faure-requiem/
LOCATION:Bazylika Katedralna w Tarnowie\, ul. Kapitulna 2\, Tarnów\, małopolskie\, 33-100\, Polska
CATEGORIES:koncerty
ATTACH;FMTTYPE=image/jpeg:https://kultura.tarnow.pl/wp-content/uploads/Requiem_202024_20ver.jpg
GEO:50.013388;20.987599
X-APPLE-STRUCTURED-LOCATION;VALUE=URI;X-ADDRESS=Bazylika Katedralna w Tarnowie ul. Kapitulna 2 Tarnów małopolskie 33-100 Polska;X-APPLE-RADIUS=500;X-TITLE=ul. Kapitulna 2:geo:20.987599,50.013388
END:VEVENT
END:VCALENDAR