BEGIN:VCALENDAR
VERSION:2.0
PRODID:-//kultura.tarnów - ECPv6.4.0.1//NONSGML v1.0//EN
CALSCALE:GREGORIAN
METHOD:PUBLISH
X-WR-CALNAME:kultura.tarnów
X-ORIGINAL-URL:https://kultura.tarnow.pl
X-WR-CALDESC:Wydarzenia dla
REFRESH-INTERVAL;VALUE=DURATION:PT1H
X-Robots-Tag:noindex
X-PUBLISHED-TTL:PT1H
BEGIN:VTIMEZONE
TZID:Europe/Warsaw
BEGIN:DAYLIGHT
TZOFFSETFROM:+0100
TZOFFSETTO:+0200
TZNAME:CEST
DTSTART:20240331T010000
END:DAYLIGHT
BEGIN:STANDARD
TZOFFSETFROM:+0200
TZOFFSETTO:+0100
TZNAME:CET
DTSTART:20241027T010000
END:STANDARD
END:VTIMEZONE
BEGIN:VEVENT
DTSTART;TZID=Europe/Warsaw:20241103T090000
DTEND;TZID=Europe/Warsaw:20241103T170000
DTSTAMP:20260423T214215
CREATED:20241029T132032Z
LAST-MODIFIED:20241029T132032Z
UID:10022428-1730624400-1730653200@kultura.tarnow.pl
SUMMARY:Krzysztof Zieliński "Hometown"
DESCRIPTION:Wystawa fotografii Krzysztofa Zielińskiego \nW programie wystawy:\nCzwartek 14.11\, g. 18:00 Rozmowa o „Hometown” z udziałem autora Krzysztofa Zielińskiego oraz Łukasza Gorczycy i Adama Mazura / Prolog 21. Festiwalu Sztuki ArtFest \nOprawa graficzna: Natalia Sikorska \nWystawa czynna:\nPoniedziałek-czwartek 9:00-17:00\nNiedziela 9:00-17:00 \nCykl Hometown był jego pracą dyplomową\, rozwiniętym później w drugiej części (2002). Tematem jest rodzinne Wąbrzeźno i jego małomiasteczkowa rzeczywistość. Autor w paradokumentalny sposób rejestruje motywy ulic\, placów\, ścian budynków\, szyldów – wydobywając i zatrzymując potocznie niedostrzegalne piękno ich przeciętności. W większości tych fotografii nie ma ludzi\, czytelne są natomiast ślady ich obecności i działalności\, przejawiającej się w estetycznej inwencji. Autor respektując tę estetykę\, tworzy w kolejnych kadrach obrazy o porównywalnej z malarstwem kompozycji i kolorystyce. Jednocześnie przekazuje głęboko egzystencjalny wyraz. \nKrzysztof Zieliński – urodzony w 1974 w Wąbrzeźnie. Fotograf sztuk pięknych z prawie trzydziestoletnim doświadczeniem\, mający na koncie międzynarodowe wystawy. Jego prace znajdujące się w publicznych i prywatnych kolekcjach sztuki współczesnej. Doświadczenie akademickie jako wykładowca fotografii dokumentalnej na Wydziale Fotografii Akademii Filmowej (FAMU) w Pradze. \nBWA Tarnów / Dworzec PKP\, Pl. Dworcowy 4\n24.10-19.11.2024\nWstęp wolny
URL:https://kultura.tarnow.pl/wydarzenie/krzysztof-zielinski-hometown/2024-11-03/
LOCATION:BWA na Dworcu PKP\, Plac Dworcowy 4\, Tarnów\, małopolskie\, 33-100\, Polska
CATEGORIES:wystawy
ORGANIZER;CN="Biuro Wystaw Artystycznych":MAILTO:biuro@bwa.tarnow.pl
GEO:50.0057629;20.9744639
X-APPLE-STRUCTURED-LOCATION;VALUE=URI;X-ADDRESS=BWA na Dworcu PKP Plac Dworcowy 4 Tarnów małopolskie 33-100 Polska;X-APPLE-RADIUS=500;X-TITLE=Plac Dworcowy 4:geo:20.9744639,50.0057629
END:VEVENT
BEGIN:VEVENT
DTSTART;TZID=Europe/Warsaw:20241103T110000
DTEND;TZID=Europe/Warsaw:20241103T180000
DTSTAMP:20260423T214215
CREATED:20240927T110028Z
LAST-MODIFIED:20240927T110028Z
UID:10019545-1730631600-1730656800@kultura.tarnow.pl
SUMMARY:Salon Jesienny STAP
DESCRIPTION:W wystawie udział biorą: \nMałgorzata Andrzejewska\, Krystyna Baniowska-Stąsiek-Mejer\, Piotr Franciszek Barszczowski\, Dorota Bernacka\, Robert Bieńkowski\, Piotr Bubak\, Stanisław Chmiel\, Ewa Fleszar\, Roman Fleszar\, Weronika Fleszar\, Piotr Figiel\, Tomasz Głowacz\, Franciszek Kafel\, Kazimierz Klimkiewicz\, Roman Kobylarz\, Stanisław Kucharzyk\, Stefania Mazur\, Marek Niedojadło-Cichoński\, Katarzyna Pabis-Komorowska\, Przemysław Poręba\, Michał Poręba\, Lidia Połeć-Kantor\, Elżbieta Remian\, Jerzy Ruszel\, Wojciech Ruszel\, Elżbieta Sowa\, Anna Iga Skupińska\, Renata Stadler\, Anna Śliwińska\, Anna Świętek\, Kazimierz Twardowski\, Bożena Wojtanowska\, Marta Wojciechowska\, Grzegorz Wójcik\, Aleksandra Zuba-Benn\, Robert Żybura.
URL:https://kultura.tarnow.pl/wydarzenie/salon-jesienny-stap-2/2024-11-03/
LOCATION:Biuro Wystaw Artystycznych\, ul. Słowackiego 1\, Tarnów\, małopolskie\, 33-100\, Polska
CATEGORIES:wystawy
ATTACH;FMTTYPE=image/jpeg:https://kultura.tarnow.pl/wp-content/uploads/salon-jesienny-STAP-2024-plakat-1-scaled.jpg
ORGANIZER;CN="Biuro Wystaw Artystycznych":MAILTO:biuro@bwa.tarnow.pl
GEO:50.0178761;20.9827521
X-APPLE-STRUCTURED-LOCATION;VALUE=URI;X-ADDRESS=Biuro Wystaw Artystycznych ul. Słowackiego 1 Tarnów małopolskie 33-100 Polska;X-APPLE-RADIUS=500;X-TITLE=ul. Słowackiego 1:geo:20.9827521,50.0178761
END:VEVENT
END:VCALENDAR