BEGIN:VCALENDAR
VERSION:2.0
PRODID:-//kultura.tarnów - ECPv6.4.0.1//NONSGML v1.0//EN
CALSCALE:GREGORIAN
METHOD:PUBLISH
X-WR-CALNAME:kultura.tarnów
X-ORIGINAL-URL:https://kultura.tarnow.pl
X-WR-CALDESC:Wydarzenia dla
REFRESH-INTERVAL;VALUE=DURATION:PT1H
X-Robots-Tag:noindex
X-PUBLISHED-TTL:PT1H
BEGIN:VTIMEZONE
TZID:Europe/Warsaw
BEGIN:DAYLIGHT
TZOFFSETFROM:+0100
TZOFFSETTO:+0200
TZNAME:CEST
DTSTART:20240331T010000
END:DAYLIGHT
BEGIN:STANDARD
TZOFFSETFROM:+0200
TZOFFSETTO:+0100
TZNAME:CET
DTSTART:20241027T010000
END:STANDARD
END:VTIMEZONE
BEGIN:VEVENT
DTSTART;TZID=Europe/Warsaw:20241031T090000
DTEND;TZID=Europe/Warsaw:20241031T170000
DTSTAMP:20260423T115558
CREATED:20241029T132032Z
LAST-MODIFIED:20241029T132032Z
UID:10022427-1730365200-1730394000@kultura.tarnow.pl
SUMMARY:Krzysztof Zieliński "Hometown"
DESCRIPTION:Wystawa fotografii Krzysztofa Zielińskiego \nW programie wystawy:\nCzwartek 14.11\, g. 18:00 Rozmowa o „Hometown” z udziałem autora Krzysztofa Zielińskiego oraz Łukasza Gorczycy i Adama Mazura / Prolog 21. Festiwalu Sztuki ArtFest \nOprawa graficzna: Natalia Sikorska \nWystawa czynna:\nPoniedziałek-czwartek 9:00-17:00\nNiedziela 9:00-17:00 \nCykl Hometown był jego pracą dyplomową\, rozwiniętym później w drugiej części (2002). Tematem jest rodzinne Wąbrzeźno i jego małomiasteczkowa rzeczywistość. Autor w paradokumentalny sposób rejestruje motywy ulic\, placów\, ścian budynków\, szyldów – wydobywając i zatrzymując potocznie niedostrzegalne piękno ich przeciętności. W większości tych fotografii nie ma ludzi\, czytelne są natomiast ślady ich obecności i działalności\, przejawiającej się w estetycznej inwencji. Autor respektując tę estetykę\, tworzy w kolejnych kadrach obrazy o porównywalnej z malarstwem kompozycji i kolorystyce. Jednocześnie przekazuje głęboko egzystencjalny wyraz. \nKrzysztof Zieliński – urodzony w 1974 w Wąbrzeźnie. Fotograf sztuk pięknych z prawie trzydziestoletnim doświadczeniem\, mający na koncie międzynarodowe wystawy. Jego prace znajdujące się w publicznych i prywatnych kolekcjach sztuki współczesnej. Doświadczenie akademickie jako wykładowca fotografii dokumentalnej na Wydziale Fotografii Akademii Filmowej (FAMU) w Pradze. \nBWA Tarnów / Dworzec PKP\, Pl. Dworcowy 4\n24.10-19.11.2024\nWstęp wolny
URL:https://kultura.tarnow.pl/wydarzenie/krzysztof-zielinski-hometown/2024-10-31/
LOCATION:BWA na Dworcu PKP\, Plac Dworcowy 4\, Tarnów\, małopolskie\, 33-100\, Polska
CATEGORIES:wystawy
ORGANIZER;CN="Biuro Wystaw Artystycznych":MAILTO:biuro@bwa.tarnow.pl
GEO:50.0057629;20.9744639
X-APPLE-STRUCTURED-LOCATION;VALUE=URI;X-ADDRESS=BWA na Dworcu PKP Plac Dworcowy 4 Tarnów małopolskie 33-100 Polska;X-APPLE-RADIUS=500;X-TITLE=Plac Dworcowy 4:geo:20.9744639,50.0057629
END:VEVENT
BEGIN:VEVENT
DTSTART;TZID=Europe/Warsaw:20241031T100000
DTEND;TZID=Europe/Warsaw:20241031T170000
DTSTAMP:20260423T115558
CREATED:20241003T125936Z
LAST-MODIFIED:20241003T125936Z
UID:10020622-1730368800-1730394000@kultura.tarnow.pl
SUMMARY:"Tożsamość" Andrzej Grudzień
DESCRIPTION:Tarnowskie Centrum Kultury serdecznie zaprasza na wystawę fotografii autorstwa Andrzeja Grudnia\, znakomitego artysty fotografa. \nW salach galerii Tarnowskiego Centrum Kultury zaprezentowane zostaną cykle fotografii; Inicjacje\, Symbioza\, Tożsamość\, Depresja\, Embriony\, Przemiany\, Światy widziane\, autorstwa Andrzeja Grudnia. Wspólnym mianownikiem tych cykli jest eksploracja przez autora intymnych obszarów wokół tytułowej TOŻSAMOŚCI. \n„Wystawa zaprezentuje liczne autoportrety\, akty\, analityczne rejestracje obrazu /ruchu/ twarzy i ciała – ujęte zarówno w przestrzeni intymnej\, jak i w obszarze przyrody\, architektury czy zagubionego we masie wielkomiejskiego tłumu dojmującego wrażeniem „stopienia” się jednostki w jego plastycznej masie. To wszystko ma na celu poprowadzenie widza do namysłu nad tytułowym problemem wystawy.”\nJolanta Rycerska – kuratorka wystawy\n \nAndrzej Grudzień\nRocznik 1973\, artysta fotograf.\nJego prace można scharakteryzować jako transgresyjne poszukiwania w fotografii. Stypendysta Ministerstwa Kultury\, Dziedzictwa Narodowego. Organizator licznych warsztatów z fotografii tradycyjnej i cyfrowej. Specjalizuje się w fotografii analogowej\, ciemni negatywowo-pozytywowej oraz artystycznych manipulacjach obrazu łączących różne techniki. Ekspert techniczny i kolekcjoner sprzętu fotograficznego. Kurator wystaw.\nRazem z dr Jolantą Rycerską prowadzi profesjonalną szkołę artystyczną Studium Sztuki. W latach 2020-23 był dyrektorem Studium Fotografii Związku Polskich Artystów Fotografików. Przez 4 lata był tam także wykładowcą. Pracuje na Wydziale Architektury Wnętrz Akademii Sztuk Pięknych w Warszawie. Gościnnie prowadził warsztaty w Warszawskiej Szkole Filmowej.\nVloger\, twórca cyklu rozmów „Fotoforma Live – Z pasji do fotografii – rozmowy Andrzeja Grudnia” oraz kanału YouTube „Gandalf fotografii”.\nAktywnie prezentuje swoje prace na wystawach indywidualnych oraz zbiorowych w Polsce i za granicą. \nWystawa prezentowana w Galerii TCK\, od 12 października do 9 listopada 2024 r.\,\nBilety: 7 zł (normalny) i 5 zł (ulgowy). Ekspozycja czynna od poniedziałku do piątku\, w godz. 10:00-18:00 oraz w soboty w godz. 10:00-17:00.
URL:https://kultura.tarnow.pl/wydarzenie/tozsamosc-andrzej-grudzien-2/2024-10-31/
LOCATION:Tarnowskie Centrum Kultury\, Rynek 5\, Tarnów\, małopolskie\, 33-100\, Polska
CATEGORIES:wystawy
GEO:50.012155;20.9878542
X-APPLE-STRUCTURED-LOCATION;VALUE=URI;X-ADDRESS=Tarnowskie Centrum Kultury Rynek 5 Tarnów małopolskie 33-100 Polska;X-APPLE-RADIUS=500;X-TITLE=Rynek 5:geo:20.9878542,50.012155
END:VEVENT
BEGIN:VEVENT
DTSTART;TZID=Europe/Warsaw:20241031T100000
DTEND;TZID=Europe/Warsaw:20241031T180000
DTSTAMP:20260423T115558
CREATED:20240927T102243Z
LAST-MODIFIED:20240927T102243Z
UID:10019486-1730368800-1730397600@kultura.tarnow.pl
SUMMARY:„Koń jaki jest?” - wystawa edukacyjna
DESCRIPTION:7 października – 6 grudnia\, w godzinach otwarcia – wystawa edukacyjna\n \nWystawa „Koń jaki jest?” to pełna uroku podróż przez świat koni przedstawionych w sztuce i kulturze. Zainspirowana książką „Zwierzyniec. Okazy wybrane” (wyd. Międzynarodowe Centrum Kultury w Krakowie i Wydawnictwo Dwie Siostry)\, wystawa prezentuje rozmaite ujęcia tego niezwykłego zwierzęcia – od historycznych ilustracji po ludowe zabawki. \nKonie\, te pracowite\, dumne\, ale i pełne gracji stworzenia\, były i są źródłem inspiracji dla artystów. Na wystawie można zobaczyć różnorodne dzieła: od rysunków i rycin wielkich mistrzów\, takich jak Józef Chełmoński czy Artur Grottger\, po barwne zabawki z drewna\, które bawiły dzieci w dawnych czasach. Wystawa pokazuje\, jak koń był postrzegany na przestrzeni wieków – jako towarzysz w pracy\, wojownik na polu bitwy\, a także obiekt codziennego życia i sztuki ludowej. \nKażdy koń na tej wystawie jest inny: niektóre są spokojne i zadumane\, inne rozbrykane i dzikie jak mustangi. Znajdziemy tu konie z rycin z XIX wieku\, tradycyjne wycinanki ludowe\, a także zabawki z drewna\, które przywodzą na myśl dzieciństwo i dawny świat. \nWystawę w holu Domu Kultury Westerplatte prezentujemy dzięki uprzejmości Międzynarodowego Centrum Kultury w Krakowie. Wstęp bezpłatny.
URL:https://kultura.tarnow.pl/wydarzenie/kon-jaki-jest-wystawa-edukacyjna/2024-10-31/
LOCATION:Dom Kultury Westerplatte 8a\, Westerplatte 8a\, Tarnów\, Polska - małopolskie\, 33-100\, Polska
CATEGORIES:wystawy
ATTACH;FMTTYPE=image/jpeg:https://kultura.tarnow.pl/wp-content/uploads/Kon-jaki-jest_wystawa.jpg
ORGANIZER;CN="Dom Kultury Westerplatte 8a":MAILTO:westerplatte@tck.pl
GEO:50.0273033;21.0087361
X-APPLE-STRUCTURED-LOCATION;VALUE=URI;X-ADDRESS=Dom Kultury Westerplatte 8a Westerplatte 8a Tarnów Polska - małopolskie 33-100 Polska;X-APPLE-RADIUS=500;X-TITLE=Westerplatte 8a:geo:21.0087361,50.0273033
END:VEVENT
BEGIN:VEVENT
DTSTART;TZID=Europe/Warsaw:20241031T110000
DTEND;TZID=Europe/Warsaw:20241031T180000
DTSTAMP:20260423T115558
CREATED:20240927T110028Z
LAST-MODIFIED:20240927T110028Z
UID:10019542-1730372400-1730397600@kultura.tarnow.pl
SUMMARY:Salon Jesienny STAP
DESCRIPTION:W wystawie udział biorą: \nMałgorzata Andrzejewska\, Krystyna Baniowska-Stąsiek-Mejer\, Piotr Franciszek Barszczowski\, Dorota Bernacka\, Robert Bieńkowski\, Piotr Bubak\, Stanisław Chmiel\, Ewa Fleszar\, Roman Fleszar\, Weronika Fleszar\, Piotr Figiel\, Tomasz Głowacz\, Franciszek Kafel\, Kazimierz Klimkiewicz\, Roman Kobylarz\, Stanisław Kucharzyk\, Stefania Mazur\, Marek Niedojadło-Cichoński\, Katarzyna Pabis-Komorowska\, Przemysław Poręba\, Michał Poręba\, Lidia Połeć-Kantor\, Elżbieta Remian\, Jerzy Ruszel\, Wojciech Ruszel\, Elżbieta Sowa\, Anna Iga Skupińska\, Renata Stadler\, Anna Śliwińska\, Anna Świętek\, Kazimierz Twardowski\, Bożena Wojtanowska\, Marta Wojciechowska\, Grzegorz Wójcik\, Aleksandra Zuba-Benn\, Robert Żybura.
URL:https://kultura.tarnow.pl/wydarzenie/salon-jesienny-stap-2/2024-10-31/
LOCATION:Biuro Wystaw Artystycznych\, ul. Słowackiego 1\, Tarnów\, małopolskie\, 33-100\, Polska
CATEGORIES:wystawy
ATTACH;FMTTYPE=image/jpeg:https://kultura.tarnow.pl/wp-content/uploads/salon-jesienny-STAP-2024-plakat-1-scaled.jpg
ORGANIZER;CN="Biuro Wystaw Artystycznych":MAILTO:biuro@bwa.tarnow.pl
GEO:50.0178761;20.9827521
X-APPLE-STRUCTURED-LOCATION;VALUE=URI;X-ADDRESS=Biuro Wystaw Artystycznych ul. Słowackiego 1 Tarnów małopolskie 33-100 Polska;X-APPLE-RADIUS=500;X-TITLE=ul. Słowackiego 1:geo:20.9827521,50.0178761
END:VEVENT
BEGIN:VEVENT
DTSTART;TZID=Europe/Warsaw:20241031T150000
DTEND;TZID=Europe/Warsaw:20241031T160000
DTSTAMP:20260423T115558
CREATED:20241029T131105Z
LAST-MODIFIED:20241029T131105Z
UID:10022420-1730386800-1730390400@kultura.tarnow.pl
SUMMARY:Studyjna fotografia portretowa
DESCRIPTION:31.10 (czwartek) \, g.15:00 – wernisaż wystawy \n3.11 (niedziela) – wystawa nieczynna \nGodziny otwarcia ekspozycji:\nponiedziałek\, środa\, czwartek: 10:00-17:00 oraz dodatkowo w piątek 8.11 w g. 10:00-17:00 \nUczniowie klasy 3 TF (klasy o profilu fotograficznym) Szkoły Szczepanika w Tarnowie prezentować będą wystawę fotograficzną „Studyjna fotografia portretowa”\, która jest efektem zajęć w pracowni fotograficznej. Prezentowane prace wykonano z uwzględnieniem różnych technik oświetleniowych w fotografii portretowej\, m.in. schematu wysokiego i niskiego klucza czy schematu wąskiego i szerokiego oświetlenia portretowego. \nAutorzy:\nJulita Augustyn\, Kamil Baran\, Michał Basierak\, Julia Boryczka\, Kinga Dumańska\, Maciej Faliszewski\, Maja Gabiga\, Julia Gebert\, Zuzanna Górka\, Anna Jankowska\, Otylia Kasprzyk\, Mikołaj Koczwara\, Daria Kowalczyk\, Nina Kudroń\, Amelia Kuruc\, Karol Madeja\, Oliwia Malinowska\, Filip Mieluch\, Nikola Nosal\, Kamila Patyk\, Sylwia Snopek\, Patrycja Stachura\, Martyna Tybor\, Emilia Wyszyńska. \n31.10-8.11.2024\nMultimedialne Centrum Artystyczne / Wałowa 25 – oddział BWA Tarnów\nWstęp wolny
URL:https://kultura.tarnow.pl/wydarzenie/studyjna-fotografia-portretowa/
LOCATION:Multimedialne Centrum Artystyczne\, Wałowa 25\, Tarnów\, małopolskie\, 33-100\, Polska
CATEGORIES:wernisaże
ATTACH;FMTTYPE=image/jpeg:https://kultura.tarnow.pl/wp-content/uploads/plakat-wystawa-uczniow-ZSOiT_page-0001-scaled.jpg
ORGANIZER;CN="Biuro Wystaw Artystycznych":MAILTO:biuro@bwa.tarnow.pl
GEO:50.013866931068;20.987989998201
X-APPLE-STRUCTURED-LOCATION;VALUE=URI;X-ADDRESS=Multimedialne Centrum Artystyczne Wałowa 25 Tarnów małopolskie 33-100 Polska;X-APPLE-RADIUS=500;X-TITLE=Wałowa 25:geo:20.987989998201,50.013866931068
END:VEVENT
BEGIN:VEVENT
DTSTART;TZID=Europe/Warsaw:20241031T180000
DTEND;TZID=Europe/Warsaw:20241031T200000
DTSTAMP:20260423T115558
CREATED:20240927T101824Z
LAST-MODIFIED:20240927T101824Z
UID:10019461-1730397600-1730404800@kultura.tarnow.pl
SUMMARY:„Odżywiaj się i żyj zgodnie z porami roku. 5 przemian w pigułce”
DESCRIPTION:Warsztaty zdrowego żywienia „Odżywiaj się i żyj zgodnie z porami roku. 5 przemian w pigułce” \nCykl 10 warsztatów przybliżających zasadę żywienia PIĘCIU PRZEMIAN według medycyny chińskiej\, będącą receptą na długie i zdrowe życie. Dowiecie się o charakterystyce energetycznej poszczególnych produktów i potraw\, które poprzez wybrane przyprawy i smaki (przypisane danej porze roku) wzmacniają poszczególne narządy. Będziemy gotować i smakować jedzenie – kawę i gulasze warzywne. Dostaniecie gotowe przepisy na każdą porę roku. \nDokładne terminy: 3\, 10\, 17\, 24 października\, 7\, 14\, 21\, 28 listopada\, 5\, 12 grudnia. \nOpłata za cały cykl: 270 zł (27 zł za spotkanie). Płatność jednorazowa. \nLiczba miejsc ograniczona\, decyduje kolejność wpłat. Zapisy: 888 655 101 -w informacji telefonicznej lub sms proszę podać imię\, nazwisko i adres mailowy\, na który wyślemy informacje o płatności. Wcześniejsza opłata jest warunkiem rezerwacji miejsca.
URL:https://kultura.tarnow.pl/wydarzenie/odzywiaj-sie-i-zyj-zgodnie-z-porami-roku-5-przemian-w-pigulce/2024-10-31/
LOCATION:Dom Kultury Westerplatte 8a\, Westerplatte 8a\, Tarnów\, Polska - małopolskie\, 33-100\, Polska
CATEGORIES:warsztaty
ATTACH;FMTTYPE=image/jpeg:https://kultura.tarnow.pl/wp-content/uploads/5przemian-w-pigulce-1.jpg
ORGANIZER;CN="Dom Kultury Westerplatte 8a":MAILTO:westerplatte@tck.pl
GEO:50.0273033;21.0087361
X-APPLE-STRUCTURED-LOCATION;VALUE=URI;X-ADDRESS=Dom Kultury Westerplatte 8a Westerplatte 8a Tarnów Polska - małopolskie 33-100 Polska;X-APPLE-RADIUS=500;X-TITLE=Westerplatte 8a:geo:21.0087361,50.0273033
END:VEVENT
END:VCALENDAR