BEGIN:VCALENDAR
VERSION:2.0
PRODID:-//kultura.tarnów - ECPv6.4.0.1//NONSGML v1.0//EN
CALSCALE:GREGORIAN
METHOD:PUBLISH
X-ORIGINAL-URL:https://kultura.tarnow.pl
X-WR-CALDESC:Wydarzenia dla
REFRESH-INTERVAL;VALUE=DURATION:PT1H
X-Robots-Tag:noindex
X-PUBLISHED-TTL:PT1H
BEGIN:VTIMEZONE
TZID:Europe/Warsaw
BEGIN:DAYLIGHT
TZOFFSETFROM:+0100
TZOFFSETTO:+0200
TZNAME:CEST
DTSTART:20240331T010000
END:DAYLIGHT
BEGIN:STANDARD
TZOFFSETFROM:+0200
TZOFFSETTO:+0100
TZNAME:CET
DTSTART:20241027T010000
END:STANDARD
END:VTIMEZONE
BEGIN:VEVENT
DTSTART;TZID=Europe/Warsaw:20241027T110000
DTEND;TZID=Europe/Warsaw:20241027T180000
DTSTAMP:20260423T143620
CREATED:20240927T110028Z
LAST-MODIFIED:20240927T110028Z
UID:10019539-1730026800-1730052000@kultura.tarnow.pl
SUMMARY:Salon Jesienny STAP
DESCRIPTION:W wystawie udział biorą: \nMałgorzata Andrzejewska\, Krystyna Baniowska-Stąsiek-Mejer\, Piotr Franciszek Barszczowski\, Dorota Bernacka\, Robert Bieńkowski\, Piotr Bubak\, Stanisław Chmiel\, Ewa Fleszar\, Roman Fleszar\, Weronika Fleszar\, Piotr Figiel\, Tomasz Głowacz\, Franciszek Kafel\, Kazimierz Klimkiewicz\, Roman Kobylarz\, Stanisław Kucharzyk\, Stefania Mazur\, Marek Niedojadło-Cichoński\, Katarzyna Pabis-Komorowska\, Przemysław Poręba\, Michał Poręba\, Lidia Połeć-Kantor\, Elżbieta Remian\, Jerzy Ruszel\, Wojciech Ruszel\, Elżbieta Sowa\, Anna Iga Skupińska\, Renata Stadler\, Anna Śliwińska\, Anna Świętek\, Kazimierz Twardowski\, Bożena Wojtanowska\, Marta Wojciechowska\, Grzegorz Wójcik\, Aleksandra Zuba-Benn\, Robert Żybura.
URL:https://kultura.tarnow.pl/wydarzenie/salon-jesienny-stap-2/2024-10-27/
LOCATION:Biuro Wystaw Artystycznych\, ul. Słowackiego 1\, Tarnów\, małopolskie\, 33-100\, Polska
CATEGORIES:wystawy
ATTACH;FMTTYPE=image/jpeg:https://kultura.tarnow.pl/wp-content/uploads/salon-jesienny-STAP-2024-plakat-1-scaled.jpg
ORGANIZER;CN="Biuro Wystaw Artystycznych":MAILTO:biuro@bwa.tarnow.pl
GEO:50.0178761;20.9827521
X-APPLE-STRUCTURED-LOCATION;VALUE=URI;X-ADDRESS=Biuro Wystaw Artystycznych ul. Słowackiego 1 Tarnów małopolskie 33-100 Polska;X-APPLE-RADIUS=500;X-TITLE=ul. Słowackiego 1:geo:20.9827521,50.0178761
END:VEVENT
BEGIN:VEVENT
DTSTART;TZID=Europe/Warsaw:20241027T170000
DTEND;TZID=Europe/Warsaw:20241027T170000
DTSTAMP:20260423T143620
CREATED:20241016T112718Z
LAST-MODIFIED:20241016T112718Z
UID:10020651-1730048400-1730048400@kultura.tarnow.pl
SUMMARY:Goście Łukasza Maciejewskiego - Tomasz Włosok
DESCRIPTION:Tomasz Włosok to utalentowany aktor\, znany z ról w filmach i serialach telewizyjnych\, które zdobyły uznanie zarówno widzów\, jak i krytyków. Jego charyzmatyczna osobowość oraz umiejętność wcielania się w różnorodne postaci sprawiają\, że jest jednym z bardziej rozpoznawalnych aktorów swojego pokolenia. \nWłosok ma na swoim koncie wiele znakomitych ról\, które pokazują jego wszechstronność – od dramatów po komedie. Jego naturalny talent oraz pasja do sztuki aktorskiej wciągają widzów w przedstawiane historie\, czyniąc każdą produkcję niezapomnianym przeżyciem. \nSpotkanie z Tomaszem Włosokiem to doskonała okazja\, aby poznać kulisy jego pracy\, dowiedzieć się więcej o jego inspiracjach oraz zadać pytania dotyczące kariery. To szansa na bezpośredni kontakt z utalentowanym artystą\, który z pewnością zainspiruje i zachwyci swoją osobowością! \nPlan wieczoru: \n   * godz. 17:00 – seans filmu „Kulej. Dwie strony medalu”\n* ok. godz. 19:20 – rozmowa Łukasza Maciejewskiego z Tomaszem Włosokiem \nO filmie: \nHistoria Jerzego i Heleny Kulejów – najbardziej barwnego małżeństwa Polski lat 60.\nOn – legendarny polski pięściarz\, podwójny mistrz Europy i ośmiokrotny mistrz Polski\, który jako jedyny wywalczył dwa złota olimpijskie i choć nigdy nie leżał na deskach\, to w życiu upadał nie raz. Ona – silna kobieta\, która niezmiennie stała u jego boku\, ale nie chciała na zawsze pozostać w jego cieniu.\n„Kulej. Dwie strony medalu” koncentruje się na okresie między 1964 a 1968 r.\, kiedy Jerzy Kulej zdobył złoto na igrzyskach olimpijskich w Tokio\, by następnie powtórzyć ten wyczyn w Meksyku. To wielowymiarowa historia sportowca\, jego triumfów na ringu\, kolorytu epoki\, ale także opowieść o burzliwych losach małżeństwa Kulejów\, w którym wielka miłość była wystawiona na próbę radzenia sobie z wielkim sukcesem.
URL:https://kultura.tarnow.pl/wydarzenie/goscie-lukasza-maciejewskiego-tomasz-wlosok/
LOCATION:Centrum Sztuki Mościce\, Traugutta 1\, Tarnów\, małopolskie\, 33-101\, Polska
CATEGORIES:filmy
ATTACH;FMTTYPE=image/jpeg:https://kultura.tarnow.pl/wp-content/uploads/KNG-Tomasz-Wlosok-75841-Zamoyski-66f3e8d308291.jpg
GEO:50.009833;20.92706
X-APPLE-STRUCTURED-LOCATION;VALUE=URI;X-ADDRESS=Centrum Sztuki Mościce Traugutta 1 Tarnów małopolskie 33-101 Polska;X-APPLE-RADIUS=500;X-TITLE=Traugutta 1:geo:20.92706,50.009833
END:VEVENT
BEGIN:VEVENT
DTSTART;TZID=Europe/Warsaw:20241027T170000
DTEND;TZID=Europe/Warsaw:20241027T190000
DTSTAMP:20260423T143620
CREATED:20240926T081102Z
LAST-MODIFIED:20240926T081102Z
UID:10019454-1730048400-1730055600@kultura.tarnow.pl
SUMMARY:Chór SOLski - 5 lecie
DESCRIPTION:SOLski chór ma zaszczyt zaprosić Państwa na swój jubileusz – to już 5 lat odkąd chór działa przy tarnowskim teatrze. Z tej okazji zaprezentuje się w całej okazałości\, wykonując stare przeboje – polskie i światowe hity które ciągle cieszą\, jak również nowe utwory\, które będą miały swoją premierę w wykonaniu chóru. Będzie nostalgicznie\, wesoło i z energią\, która zaprosi widzów do wspólnej zabawy.Chór wystąpi pod egidą Anny Podkościelnej-Cyz\, Marty Półtorak i Agnieszki Stańczyk w aranżacjach Bartłomieja Szułakiewicza przy akompaniamencie Piotra Niedojadły i zespołu muzycznego.Bilety w cenie 55 zł (normalny)\, 45 zł (grupowy tj. 6 osób i więcej) dostępne w Kasie Teatru oraz online pod linkiem:https://tarnowski-teatr.bilety24.pl/…/b24…/langWydarzenie to również realizacja projektu dofinansowanego przez Urząd Marszałkowski Województwa Małopolskiego w ramach programu „Małopolskie Chóry – Małopolska Rozśpiewana”.
URL:https://kultura.tarnow.pl/wydarzenie/chor-solski-5-lecie/
LOCATION:Teatr im. L.Solskiego\, Mickiewicza 4\, Tarnów\, małopolskie\, 33-100\, Polska
CATEGORIES:koncerty
ATTACH;FMTTYPE=image/jpeg:https://kultura.tarnow.pl/wp-content/uploads/461276276_931774785642785_6451322418912802745_n.jpg
GEO:50.0159214;20.987504
X-APPLE-STRUCTURED-LOCATION;VALUE=URI;X-ADDRESS=Teatr im. L.Solskiego Mickiewicza 4 Tarnów małopolskie 33-100 Polska;X-APPLE-RADIUS=500;X-TITLE=Mickiewicza 4:geo:20.987504,50.0159214
END:VEVENT
BEGIN:VEVENT
DTSTART;TZID=Europe/Warsaw:20241027T170000
DTEND;TZID=Europe/Warsaw:20241027T203000
DTSTAMP:20260423T143620
CREATED:20241011T095523Z
LAST-MODIFIED:20241011T095523Z
UID:10020646-1730048400-1730061000@kultura.tarnow.pl
SUMMARY:Polska Noc Kabaretowa 2024
DESCRIPTION:Największe widowisko kabaretowe w Polsce wraca do Tarnowa. \nSą gibcy\, są silni\, są w olimpijskiej formie! Przybywamy do Was z najbardziej wysportowaną kabaretową ekipą wszech czasów. Po miesiącach treningów\, wycieńczających obozów szkoleniowych i niekończących się przygotowań przedstawiamy program pobijający wszystkie rekordy świata. Będziecie śmiać się najgłośniej\, wzdychać z zachwytu niezliczoną liczbę razy\, bawić się do utraty tchu. Mamy zamiar pokazać Wam kabaretowy program na miarę igrzysk olimpijskich. Łucznicza celność żartów. Sprinterska szybkość reakcji. Gimnastyczna elastyczność interakcji z publicznością. Szachowa mądrość puent. Wielobojowy dobór tematów. Jednym słowem mamy wszystko\, aby zdobyć olimpijski szczyt. Przed Wami: Kabaret Skeczów Męczących\, Kabaret K2\, Kabaret Moralnego Niepokoju\, Kabaret Paranienormalni\, Kabaret Smile\, Szymon Łątkowski i w roli prowadzących – Kabaret Nowaki. Sztafeta najlepszych kabaretowych zawodników w największym maratonie śmiechu. A co najlepsze – uczestnicząc w Polskiej Nocy Kabaretowej będziesz śmiać się tak bardzo\, że sam wyjdziesz z niej jak po niezłym treningu! \nCzytaj więcej na: https://www.kupbilecik.pl/imprezy/114508/Tarn%C3%B3w/Polska+Noc+Kabaretowa+2024/ \n 
URL:https://kultura.tarnow.pl/wydarzenie/polska-noc-kabaretowa-2024/
LOCATION:Arena Jaskółka Tarnów\, ul. Traugutta 3B\, Tarnów\, Polska - małopolskie\, 33-101\, Polska
CATEGORIES:kabarety
GEO:50.009086;20.929684
X-APPLE-STRUCTURED-LOCATION;VALUE=URI;X-ADDRESS=Arena Jaskółka Tarnów ul. Traugutta 3B Tarnów Polska - małopolskie 33-101 Polska;X-APPLE-RADIUS=500;X-TITLE=ul. Traugutta 3B:geo:20.929684,50.009086
END:VEVENT
BEGIN:VEVENT
DTSTART;TZID=Europe/Warsaw:20241027T180000
DTEND;TZID=Europe/Warsaw:20241027T200000
DTSTAMP:20260423T143620
CREATED:20241008T130351Z
LAST-MODIFIED:20241008T130351Z
UID:10020643-1730052000-1730059200@kultura.tarnow.pl
SUMMARY:„Umierałem sto razy” Zdzisław Korczak
DESCRIPTION:O autorze wiemy niewiele. Z kart jego książki dowiadujemy się\, że był jednym z nas – ludzi\, nas – Polaków. W czasie II Wojny Światowej walczył w Armii Andersa\, potem wiódł normalne życie przeciętnego Polaka. Normalne… no właśnie. W naszej scenicznej opowieści wojenna czy zawodowa historia bohatera nie jest ważna. On mógłby być każdym. Wykonywać każdy zawód\, mieć każde urodzenie i przeszłość. Z naszej historii wynika jednoznacznie\, że nieważne kim jesteś\, jakie stanowisko piastujesz\, kogo znasz i co posiadasz. Wobec nałogu\, jeśli wpadniesz w jego szpony\, jesteś nikim. Tracisz przyjaciół\, znajomych\, bliskich\, pracę\, majątek\, godność…. a w końcu życie.\nZapraszamy w niezwykłą podróż. Zapraszamy do świata\, w którym bohater „coraz częściej widzi ciemną ścianę\, a potem ciemny tunel i daleki prześwit z makabrycznymi postaciami”. Do świata\, w którym bohater patrząc na upodlonych ludzi mówi\, że „bardziej ludzkie są psie zbliżenia”. To będzie ostra jazda. Na szczęście tylko na scenie. Ale myślimy\, że warto z nami powędrować. Po to\, by przekonać się w jaką pułapkę może wpaść każdy z nas. Ale też\, a może przede wszystkim po to\, by zobaczyć\, że w każdej\, nawet najciemniejszej chwili\, nie pozostajemy bez szans. Mamy NADZIEJĘ. \nANDRZEJ PROKOP\nDramaturg\, reżyser\, uprawia rysunek i malarstwo. Absolwent Wydziału Architektury Politechniki Krakowskiej oraz Podyplomowego Studium Scenografii krakowskiej ASP. W okresie studiów asystent w pracach teatralnych Andrzeja Wajdy oraz Krystiana Lupy\, autor ponad trzydziestu scenografii w polskich teatrach (Warszawa\, Legnica\, Wałbrzych\, Toruń\, Tarnów\, Kraków). Autor i reżyser słuchowisk radiowych\, autor plakatów teatralnych i festiwali muzycznych. \nADRIANNA KIEŚ\nAbsolwentka Akademii Sztuk Teatralnych im. Stanisława Wyspiańskiego w Krakowie na wydziale wokalno-aktorskim. Za rolę Sharon w spektaklu dyplomowym \,\,Popatrz na mnie” otrzymała główną nagrodę aktorską na 39. Festiwalu Szkół Teatralnych w Łodzi. Aktorka Teatru Żydowskiego w Warszawie\, współpracuje również z dwoma krakowskimi teatrami : Teatrem Stu i Teatrem Groteska w Krakowie oraz Teatrem Nowym w Poznaniu. Jest laureatką II nagrody 22. Ogólnopolskiego Festiwalu Pamiętajmy o Osieckiej w Poznaniu oraz\nnagrody publiczności i wyróżnienia na V Ogólnopolskim Festiwalu Twórczości Przemysława Gintrowskiego „PAMIĄTKI”. \nPRZEMYSŁAW TEJKOWSKI\nAbsolwent krakowskiej PWST (1990). Pracował w Teatrze im. Ludwika Solskiego w Tarnowie\, Teatrze Ziemi Lubuskiej w Zielonej Górze\, Teatrze Bagatela w Krakowie i Teatrze im. Wandy Siemaszkowej w Rzeszowie. Autor i reżyser sztuk teatralnych i słuchowisk radiowych. W latach 2007-2011 dyrektor Teatru im. Wandy Siemaszkowej. W latach 2016 -2023 prezes Zarządu Polskiego Radia Rzeszów.
URL:https://kultura.tarnow.pl/wydarzenie/umieralem-sto-razy-zdzislaw-korczak/
LOCATION:Sala Lustrzana\, Wałowa 10\, Tarnów\, małopolskie\, 33-100\, Polska
CATEGORIES:spektakle
ATTACH;FMTTYPE=image/jpeg:https://kultura.tarnow.pl/wp-content/uploads/Pirania_program-3.jpg
GEO:50.0133339;20.9861448
X-APPLE-STRUCTURED-LOCATION;VALUE=URI;X-ADDRESS=Sala Lustrzana Wałowa 10 Tarnów małopolskie 33-100 Polska;X-APPLE-RADIUS=500;X-TITLE=Wałowa 10:geo:20.9861448,50.0133339
END:VEVENT
BEGIN:VEVENT
DTSTART;TZID=Europe/Warsaw:20241027T190000
DTEND;TZID=Europe/Warsaw:20241027T210000
DTSTAMP:20260423T143620
CREATED:20240923T072327Z
LAST-MODIFIED:20240923T072327Z
UID:10019444-1730055600-1730062800@kultura.tarnow.pl
SUMMARY:100-lat Marzenia na Staszica 4
DESCRIPTION:„5 października 1924 roku w niedzielę w nowo wybudowanym przez Towarzystwo Szkoły Ludowej gmachu kina Marzenie odbyła się pierwsza projekcja”. \nR. Włodek 100 lat Marzenia. Historia kina w Tarnowie \nZ okazji 100-lecia powstania siedziby kina Marzenia przy ulicy Staszica 4 zaplanowano szereg wydarzeń: \nBilety: 1 zł \n1 października godz. 19:00  \nMarzenie (nie)oczywiste – wernisaż prac i spotkanie z autorami projektu fotograficznego Tarnowskiego Towarzystwa Fotograficznego \noraz projekcja specjalna Czy widzieliście już mój film? reż. Paul Anton Smith \nKup bilet \n5 października godz. 19:00 \nKoncert z okazji 100-lecia – Kwartet wokalny VoiceBand i Ewelina Flinta \nKup bilet \n6 października godz. 19:00 \nspotkanie i dyskusja z Patrycją Muchą-Smolińską i Sebastianem Smolińskim \nora projekcja filmuDeszczowa piosenka reż. Stanley Donen\, Gene Kelly \nKup bilet \n12 października godz. 19:00 \nspotkanie i dyskusja ze Stanisławem Janickim \nprojekcja filmu Codzienne marzenia reż. Buster Keaton \nKup bilet \n19 października godz. 19:00  \nspotkanie i dyskusja z Dianą Dąbrowską \nprojekcja filmu Chłopcy z ferajny reż. Martin Scorsese \nKup bilet \n27 października godz. 19:00 \nspotkanie i dyskusja z Tomaszem Raczkiem \nprojekcja filmu Co zdarzyło się Baby Jane reż. Robert Aldrich spotkanie i dyskusja z Tomaszem Raczkiem \nKup bilet \nWszystkie wydarzenia zrealizowane są dzięki wsparciu finansowemu Krajowego Planu Odbudowy i Zwiększania Odporności w ramach Europejskiego Planu Odbudowy. \n \n 
URL:https://kultura.tarnow.pl/wydarzenie/100-lat-marzenia-na-staszica-4/2024-10-27/
LOCATION:Kino „Marzenie”\, ul. Staszica 4\, Tarnów\, małopolskie\, 33-100\, Polska
CATEGORIES:filmy,koncerty
ATTACH;FMTTYPE=image/jpeg:https://kultura.tarnow.pl/wp-content/uploads/461104135_1423202821956362_7791282421005312227_n.jpg
GEO:50.011762;20.9833798
X-APPLE-STRUCTURED-LOCATION;VALUE=URI;X-ADDRESS=Kino „Marzenie” ul. Staszica 4 Tarnów małopolskie 33-100 Polska;X-APPLE-RADIUS=500;X-TITLE=ul. Staszica 4:geo:20.9833798,50.011762
END:VEVENT
END:VCALENDAR