BEGIN:VCALENDAR
VERSION:2.0
PRODID:-//kultura.tarnów - ECPv6.4.0.1//NONSGML v1.0//EN
CALSCALE:GREGORIAN
METHOD:PUBLISH
X-WR-CALNAME:kultura.tarnów
X-ORIGINAL-URL:https://kultura.tarnow.pl
X-WR-CALDESC:Wydarzenia dla
REFRESH-INTERVAL;VALUE=DURATION:PT1H
X-Robots-Tag:noindex
X-PUBLISHED-TTL:PT1H
BEGIN:VTIMEZONE
TZID:Europe/Warsaw
BEGIN:DAYLIGHT
TZOFFSETFROM:+0100
TZOFFSETTO:+0200
TZNAME:CEST
DTSTART:20240331T010000
END:DAYLIGHT
BEGIN:STANDARD
TZOFFSETFROM:+0200
TZOFFSETTO:+0100
TZNAME:CET
DTSTART:20241027T010000
END:STANDARD
END:VTIMEZONE
BEGIN:VEVENT
DTSTART;TZID=Europe/Warsaw:20241026T090000
DTEND;TZID=Europe/Warsaw:20241026T200000
DTSTAMP:20260423T073104
CREATED:20240924T113257Z
LAST-MODIFIED:20240924T113904Z
UID:10019450-1729933200-1729972800@kultura.tarnow.pl
SUMMARY:XII FESTIWAL „MIŁOSIERDZIE BOŻE WYŚPIEWAĆ CHCĘ”
DESCRIPTION:
URL:https://kultura.tarnow.pl/wydarzenie/xii-festiwal-milosierdzie-boze-wyspiewac-chce/
LOCATION:Kościół pw. Miłosierdzia Bożego\, ul. Klikowska 21\, Tarnów\, małopolskie\, 33-100\, Polska
CATEGORIES:festiwale
ATTACH;FMTTYPE=image/jpeg:https://kultura.tarnow.pl/wp-content/uploads/11-Ferstiwal-_-Grafika-Glowna-WZOR-i-2048x1229-1.jpg
GEO:50.0192048;20.9755755
X-APPLE-STRUCTURED-LOCATION;VALUE=URI;X-ADDRESS=Kościół pw. Miłosierdzia Bożego ul. Klikowska 21 Tarnów małopolskie 33-100 Polska;X-APPLE-RADIUS=500;X-TITLE=ul. Klikowska 21:geo:20.9755755,50.0192048
END:VEVENT
BEGIN:VEVENT
DTSTART;TZID=Europe/Warsaw:20241026T100000
DTEND;TZID=Europe/Warsaw:20241026T170000
DTSTAMP:20260423T073104
CREATED:20241003T125936Z
LAST-MODIFIED:20241003T125936Z
UID:10020618-1729936800-1729962000@kultura.tarnow.pl
SUMMARY:"Tożsamość" Andrzej Grudzień
DESCRIPTION:Tarnowskie Centrum Kultury serdecznie zaprasza na wystawę fotografii autorstwa Andrzeja Grudnia\, znakomitego artysty fotografa. \nW salach galerii Tarnowskiego Centrum Kultury zaprezentowane zostaną cykle fotografii; Inicjacje\, Symbioza\, Tożsamość\, Depresja\, Embriony\, Przemiany\, Światy widziane\, autorstwa Andrzeja Grudnia. Wspólnym mianownikiem tych cykli jest eksploracja przez autora intymnych obszarów wokół tytułowej TOŻSAMOŚCI. \n„Wystawa zaprezentuje liczne autoportrety\, akty\, analityczne rejestracje obrazu /ruchu/ twarzy i ciała – ujęte zarówno w przestrzeni intymnej\, jak i w obszarze przyrody\, architektury czy zagubionego we masie wielkomiejskiego tłumu dojmującego wrażeniem „stopienia” się jednostki w jego plastycznej masie. To wszystko ma na celu poprowadzenie widza do namysłu nad tytułowym problemem wystawy.”\nJolanta Rycerska – kuratorka wystawy\n \nAndrzej Grudzień\nRocznik 1973\, artysta fotograf.\nJego prace można scharakteryzować jako transgresyjne poszukiwania w fotografii. Stypendysta Ministerstwa Kultury\, Dziedzictwa Narodowego. Organizator licznych warsztatów z fotografii tradycyjnej i cyfrowej. Specjalizuje się w fotografii analogowej\, ciemni negatywowo-pozytywowej oraz artystycznych manipulacjach obrazu łączących różne techniki. Ekspert techniczny i kolekcjoner sprzętu fotograficznego. Kurator wystaw.\nRazem z dr Jolantą Rycerską prowadzi profesjonalną szkołę artystyczną Studium Sztuki. W latach 2020-23 był dyrektorem Studium Fotografii Związku Polskich Artystów Fotografików. Przez 4 lata był tam także wykładowcą. Pracuje na Wydziale Architektury Wnętrz Akademii Sztuk Pięknych w Warszawie. Gościnnie prowadził warsztaty w Warszawskiej Szkole Filmowej.\nVloger\, twórca cyklu rozmów „Fotoforma Live – Z pasji do fotografii – rozmowy Andrzeja Grudnia” oraz kanału YouTube „Gandalf fotografii”.\nAktywnie prezentuje swoje prace na wystawach indywidualnych oraz zbiorowych w Polsce i za granicą. \nWystawa prezentowana w Galerii TCK\, od 12 października do 9 listopada 2024 r.\,\nBilety: 7 zł (normalny) i 5 zł (ulgowy). Ekspozycja czynna od poniedziałku do piątku\, w godz. 10:00-18:00 oraz w soboty w godz. 10:00-17:00.
URL:https://kultura.tarnow.pl/wydarzenie/tozsamosc-andrzej-grudzien-2/2024-10-26/
LOCATION:Tarnowskie Centrum Kultury\, Rynek 5\, Tarnów\, małopolskie\, 33-100\, Polska
CATEGORIES:wystawy
GEO:50.012155;20.9878542
X-APPLE-STRUCTURED-LOCATION;VALUE=URI;X-ADDRESS=Tarnowskie Centrum Kultury Rynek 5 Tarnów małopolskie 33-100 Polska;X-APPLE-RADIUS=500;X-TITLE=Rynek 5:geo:20.9878542,50.012155
END:VEVENT
BEGIN:VEVENT
DTSTART;TZID=Europe/Warsaw:20241026T110000
DTEND;TZID=Europe/Warsaw:20241026T130000
DTSTAMP:20260423T073104
CREATED:20241004T071539Z
LAST-MODIFIED:20241004T071539Z
UID:10020633-1729940400-1729947600@kultura.tarnow.pl
SUMMARY:Sobota w Pałacu
DESCRIPTION:Jak sobota\, to tylko w Pałacu 🙂 \nSobota w Pałacu to nasza nowa propozycja\, która pozwoli na atrakcyjne spędzanie wolnego czasu. Warsztaty zaplanowano na wybrane soboty\, w godzinach 11.00 – 13.00. Spotkania będą cykliczne i obejmą działania z zakresu rzemiosła\, majsterkowania\, upcyklingu\, szycia\, rękodzieła i sztuk plastycznych. Planujemy także warsztaty taneczne\, muzyczne i sportowe. Część warsztatów przyjmie formułę działań rodzinnych. Do wspólnego tworzenia zaprosimy dzieci z rodzicami\, dziadkami lub starszym rodzeństwem. Uczestnicy będą pracować pod okiem wyspecjalizowanej kadry. Wśród sobotnich propozycji znajdą się także wymiany różnych przedmiotów. Będzie to okazja do domowych porządków i podzielenia się rzeczami. Nie wyrzucamy\, uwalniamy – niech cieszą innych! Wszystkim obiecujemy super zabawę\, pełną niekończących się pomysłów i kreatywności. Zapraszamy! \nMiejsce spotkań: Pałac Młodzieży w Tarnowie\, ul. Piłsudskiego 24 \nUWAGA! Warsztaty są bezpłatne\, ilość miejsc ograniczona. \nHarmonogram spotkań: \n12.10.2024  Eko ozdoby z jesiennych darów natury – rodzinne warsztaty plastyczne (dzieci w wieku 6 – 8 lat + osoba dorosła) \nProwadzenie: Maria Mendel \nZgłoszenia do 9.10.2024 lub do wyczerpania miejsc na adres: m.mendel@pm.tarnow.pl \n19.10.2024  Latawce i wiatr – warsztaty modelarskie (wiek uczestników 7 – 14 lat)  \nProwadzenie: Wojciech Brajowski \nZgłoszenia w terminie 1.10 – 16.10.2024 lub do wyczerpania miejsc na adres: w.brajowski@pm.tarnow.pl lub telefonicznie 694 313 571 \n26.10.2024  Pałacowe wymianki\, czyli daj przedmiotom drugie życie – wymiana zabawek\, gier planszowych i książek dla dzieci \nOrganizacja: Joanna Wielgus\, Ewelina Janikowska Zgłoszenia w terminie 1.10 – 18.10.2024 lub do wyczerpania miejsc na adres: mcwtarnow@gmail.com \n16.11.2024  Między dźwiękami – zajęcia umuzykalniające dla dzieci (wiek uczestników 6 – 7 lat) \nProwadzenie: Iwona Kędroń \nZgłoszenia w terminie 4.11 – 14.11.2024 lub do wyczerpania miejsc na adres: i.kedron@pm.tarnow.pl \n23.11.2024  Tańczyć każdy może – warsztaty taneczne/w programie popularne tańce grupowe   (wiek uczestników 10 – 12 lat)    \nProwadzenie: Maria Szydłowska \nZgłoszenia w terminie 8.11 – 20.11.2024 lub do wyczerpania miejsc na adres: m.szydlowska@pm.tarnow.pl lub telefonicznie 505 677 502 \n30.11.2024  Ozdoby choinkowe z banerów. Upcyklingowe warsztaty plastyczne  (wiek uczestników  8 – 15 lat)  \nProwadzenie: Iwona Gąsior \nZgłoszenia w terminie 12.11 – 27.11.2024 lub do wyczerpania miejsc na adres: i.gasior@pm.tarnow.pl \n7.12.2024  Zimowy skrzacik – zawieszka. Warsztaty hande made (wiek uczestników 8 – 10 lat)         \nProwadzenie: Joanna Wielgus \nZgłoszenia w terminie 25.11 – 5.12.2024 lub do wyczerpania miejsc na adres: j.wielgus@pm.tarnow.pl                                                                                                                                 
URL:https://kultura.tarnow.pl/wydarzenie/sobota-w-palacu/2024-10-26/
LOCATION:Pałac Młodzieży\, ul. Piłsudskiego 24\, Tarnów\, małopolskie\, 33-100\, Polska
CATEGORIES:warsztaty
GEO:50.0172246;20.9854709
X-APPLE-STRUCTURED-LOCATION;VALUE=URI;X-ADDRESS=Pałac Młodzieży ul. Piłsudskiego 24 Tarnów małopolskie 33-100 Polska;X-APPLE-RADIUS=500;X-TITLE=ul. Piłsudskiego 24:geo:20.9854709,50.0172246
END:VEVENT
BEGIN:VEVENT
DTSTART;TZID=Europe/Warsaw:20241026T110000
DTEND;TZID=Europe/Warsaw:20241026T180000
DTSTAMP:20260423T073104
CREATED:20240927T110028Z
LAST-MODIFIED:20240927T110028Z
UID:10019538-1729940400-1729965600@kultura.tarnow.pl
SUMMARY:Salon Jesienny STAP
DESCRIPTION:W wystawie udział biorą: \nMałgorzata Andrzejewska\, Krystyna Baniowska-Stąsiek-Mejer\, Piotr Franciszek Barszczowski\, Dorota Bernacka\, Robert Bieńkowski\, Piotr Bubak\, Stanisław Chmiel\, Ewa Fleszar\, Roman Fleszar\, Weronika Fleszar\, Piotr Figiel\, Tomasz Głowacz\, Franciszek Kafel\, Kazimierz Klimkiewicz\, Roman Kobylarz\, Stanisław Kucharzyk\, Stefania Mazur\, Marek Niedojadło-Cichoński\, Katarzyna Pabis-Komorowska\, Przemysław Poręba\, Michał Poręba\, Lidia Połeć-Kantor\, Elżbieta Remian\, Jerzy Ruszel\, Wojciech Ruszel\, Elżbieta Sowa\, Anna Iga Skupińska\, Renata Stadler\, Anna Śliwińska\, Anna Świętek\, Kazimierz Twardowski\, Bożena Wojtanowska\, Marta Wojciechowska\, Grzegorz Wójcik\, Aleksandra Zuba-Benn\, Robert Żybura.
URL:https://kultura.tarnow.pl/wydarzenie/salon-jesienny-stap-2/2024-10-26/
LOCATION:Biuro Wystaw Artystycznych\, ul. Słowackiego 1\, Tarnów\, małopolskie\, 33-100\, Polska
CATEGORIES:wystawy
ATTACH;FMTTYPE=image/jpeg:https://kultura.tarnow.pl/wp-content/uploads/salon-jesienny-STAP-2024-plakat-1-scaled.jpg
ORGANIZER;CN="Biuro Wystaw Artystycznych":MAILTO:biuro@bwa.tarnow.pl
GEO:50.0178761;20.9827521
X-APPLE-STRUCTURED-LOCATION;VALUE=URI;X-ADDRESS=Biuro Wystaw Artystycznych ul. Słowackiego 1 Tarnów małopolskie 33-100 Polska;X-APPLE-RADIUS=500;X-TITLE=ul. Słowackiego 1:geo:20.9827521,50.0178761
END:VEVENT
BEGIN:VEVENT
DTSTART;TZID=Europe/Warsaw:20241026T180000
DTEND;TZID=Europe/Warsaw:20241026T193000
DTSTAMP:20260423T073104
CREATED:20241018T104328Z
LAST-MODIFIED:20241018T104328Z
UID:10020652-1729965600-1729971000@kultura.tarnow.pl
SUMMARY:„W głowie się nie mieści”
DESCRIPTION:Nowy program iluzjonisty Marka Polaka \n26 października 2024\, godz. 18:00 \nSztukę iluzji można określić jako efekt umiejętnego oszukiwania zmysłów widza. Polega na wywoływaniu zjawisk\, które pozornie są sprzeczne z prawami fizyki. Zadaniem iluzji jest zadziwienie i zaskoczenie widza\, który z jednej strony zdaje sobie sprawę\, że to\, co widzi\, nie może być możliwe\, a z drugiej właśnie ulega tej iluzji. \nJeśli chcecie Państwo zobaczyć na własne oczy lewitujący stolik\, znikające i mnożące się przedmioty\, uwalnianie z kajdan i wiele innych nieprawdopodobnych sztuczek to jedyna okazja. \nIluzjonista Marek Polak przeniesie nas w świat magii. Pokaże coś\, co po prostu w głowie się nie mieści. \nNa pokaz magii zapraszamy całe rodziny – dzieci i dorosłych / wydarzenie bez ograniczeń wiekowych. \nBilety: 60 zł (normalny)\, 50 zł (ulgowy) \n 
URL:https://kultura.tarnow.pl/wydarzenie/w-glowie-sie-nie-miesci/
LOCATION:Centrum Sztuki Mościce\, Traugutta 1\, Tarnów\, małopolskie\, 33-101\, Polska
CATEGORIES:spektakle
GEO:50.009833;20.92706
X-APPLE-STRUCTURED-LOCATION;VALUE=URI;X-ADDRESS=Centrum Sztuki Mościce Traugutta 1 Tarnów małopolskie 33-101 Polska;X-APPLE-RADIUS=500;X-TITLE=Traugutta 1:geo:20.92706,50.009833
END:VEVENT
BEGIN:VEVENT
DTSTART;TZID=Europe/Warsaw:20241026T180000
DTEND;TZID=Europe/Warsaw:20241026T200000
DTSTAMP:20260423T073104
CREATED:20241004T080259Z
LAST-MODIFIED:20241004T080259Z
UID:10020639-1729965600-1729972800@kultura.tarnow.pl
SUMMARY:Rock Montownia - part 7.
DESCRIPTION:Koncert Rockowy w Sali Koncertowej Zespołu Szkół Muzycznych\, w Tarnowie\, ul. Lippóczyego 4.Wystąpią uczniowie Szkoły Gitarowej Piotra Smolenia i zaproszeni Goście.Hity sceny rockowej we własnych aranżacjach\, m.in. Cranberries\, Aerosmith\, Måneskin\, Led Zeppelin \, Katy Perry\nGoście specjalni:Magdalena Stalmach (wokal)\, Marek Ostrowski (wokal)\, Jerzy Drobot (bas)\, Mariusz Dziekan (instr.klawiszowe)\, Mariusz Bieniasz (bębny)\, Konrad Molczyk (gitara/voc.)\, Piotr Kumor (bas)\, Alan Piekarz (bębny).\nBilety można także kupić w sklepie muzycznym SONIC
URL:https://kultura.tarnow.pl/wydarzenie/rock-montownia-part-7/
LOCATION:Sala Koncertowa Zespołu Szkół Muzycznych\, Lippóczy’ego 4\, Tarnów\, małopolskie\, 33-100\, Polska
CATEGORIES:koncerty
ATTACH;FMTTYPE=image/jpeg:https://kultura.tarnow.pl/wp-content/uploads/461983040_1050890146727610_3724773563711467046_n.jpg
GEO:50.0205582;20.9801972
X-APPLE-STRUCTURED-LOCATION;VALUE=URI;X-ADDRESS=Sala Koncertowa Zespołu Szkół Muzycznych Lippóczy’ego 4 Tarnów małopolskie 33-100 Polska;X-APPLE-RADIUS=500;X-TITLE=Lippóczy’ego 4:geo:20.9801972,50.0205582
END:VEVENT
BEGIN:VEVENT
DTSTART;TZID=Europe/Warsaw:20241026T190000
DTEND;TZID=Europe/Warsaw:20241026T210000
DTSTAMP:20260423T073104
CREATED:20240213T072910Z
LAST-MODIFIED:20240517T134524Z
UID:10015462-1729969200-1729976400@kultura.tarnow.pl
SUMMARY:Koncert: Kasia Lins
DESCRIPTION:Kasia Lins to wokalistka\, pianistka\, kompozytorka i autorka tekstów. Popularność przyniosła jej pierwsza wydana w Polsce w 2018 roku płyta pt. „Wiersz ostatni”\, którą również promowała w 2019 roku koncertując w tarnowskim  Amfiteatrze Letnim (3.05.2019). \nW 2020 roku ukazał się drugi równie udany album pt. „Moja Wina”\, czyli zbiór opowiadań o piekle i raju\, niemocy i pragnieniu\, upadkach i uniesieniach. „Moja Wina” to odurzająca warstwa instrumentalna\, wsparta niepokojącymi wokalizami i chórami. Kasia Lins wykorzystując niekiedy liturgiczny dialekt\, obserwuje manię kultu\, dzieli się wątpliwościami\, snuje opowieść o mocach i słabościach. Mszalny charakter muzyki toczy walkę ze świeckim wydźwiękiem treści. \nW lipcu 2020 roku Kasia Lins opublikowała w Internecie nowatorskie przedstawienie „Czego dusza pragnie” [live show]. Materiał zdobył świetne recenzje i został bardzo dobrze\nprzyjęty przez publiczność i dziennikarzy. „Czego dusza pragnie”to pierwsze tego typu wydarzenie koncertowo-teatralno-filmowe.\nAudiowizualne doświadczenie\, świeże podejście do komunikacji z widzami i formy\, jaką może przybrać koncert grany na żywo. \nNa swoim koncie Kasia Lins ma nominacje do Fryderyków (2019 i 2021)\, Nagrody Kulturalnej Onetu i Miasta Kraków – O!Lśnienia. Jest również laureatką Nagrody im. Grzegorza Ciechowskiego (2020).\nPo trzyletniej przerwie wydawniczej\, Kasia Lins powraca z singlem „Po trupach do Ciebie”. W klimatycznym klipie\, rodem z kina akcji\, artystce partneruje Szczyl. W drugim singlu „Do śmierci mamy czas”\, Kasia uraczyła nas nieoczywistym duetem z silnym i szczerym głosem polskiej sceny niezależnej\, najgłośniejszym rockowym debiutem ostatnich lat – WalusiemKraksąKryzys. \nBardziej romantycznej polskiej płyty w tym roku jeszcze nie było. I chyba już nie będzie. Miłość w piosenkach Kasi Lins ma siłę zbawczą i potępieńczą\, porywa do nieba i strąca do czeluści piekielnych. Artystka\, choć opowiada o miłości na najwyższych rejestrach\, unika egzaltacji\, omija banał\, stroni od ironii\, za to mistrzowsko posługuje się zagadką\, sekretem. We wrażliwości odnajduje siłę\, ale też źródło kruchości serca. Jest w jej tekstach coś urokliwie i poetyckiego \nRedaktor Łukasz Kamiński o albumie „Omen” (GW 23.11.2023)\n \nPomimo\, że Artystka pozostaje wierna muzycznej stylistyce\, za którą pokochali ją zarówno fani jak i środowisko muzyczne\, to wyraźnie da się też odczuć\, że to nowy etap na jej muzycznej drodze.\nTym razem wychodzi z mroku i pokazuje kobiecość w wydaniu femme fatale. Trzecia płyta artystki „Omen” ukazała się jesienią 2023 roku nakładem Universal Music Polska.\nPo jej wydaniu Kasia Lins wyruszyła w jesienną trasę koncertową\, prezentując utwory z trzeciego studyjnego albumu  w 12 polskich miastach. Zimą i wiosną 2024 roku Artystka trasę kontynuuje\, odwiedzając m.in. Tarnów! \nMiejsce koncertu: Kino Marzenie (Tarnów\, ul. Staszica 4)\nData i godzina: 26.10.2024 r.\, godz. 19.00\nBilety: przedsprzedaż od 9 lutego 2024 r. od 14:00 on-line oraz w kinie Marzenie.\nCeny biletów: 1. pula biletów – 69 zł / 2. pula biletów – 79 zł
URL:https://kultura.tarnow.pl/wydarzenie/koncert-kasia-lins/
LOCATION:Kino „Marzenie”\, ul. Staszica 4\, Tarnów\, małopolskie\, 33-100\, Polska
CATEGORIES:koncerty
ATTACH;FMTTYPE=image/jpeg:https://kultura.tarnow.pl/wp-content/uploads/f10e557432fb4a0c40fee6fa38847080.jpeg
GEO:50.011762;20.9833798
X-APPLE-STRUCTURED-LOCATION;VALUE=URI;X-ADDRESS=Kino „Marzenie” ul. Staszica 4 Tarnów małopolskie 33-100 Polska;X-APPLE-RADIUS=500;X-TITLE=ul. Staszica 4:geo:20.9833798,50.011762
END:VEVENT
END:VCALENDAR