BEGIN:VCALENDAR
VERSION:2.0
PRODID:-//kultura.tarnów - ECPv6.4.0.1//NONSGML v1.0//EN
CALSCALE:GREGORIAN
METHOD:PUBLISH
X-WR-CALNAME:kultura.tarnów
X-ORIGINAL-URL:https://kultura.tarnow.pl
X-WR-CALDESC:Wydarzenia dla
REFRESH-INTERVAL;VALUE=DURATION:PT1H
X-Robots-Tag:noindex
X-PUBLISHED-TTL:PT1H
BEGIN:VTIMEZONE
TZID:Europe/Warsaw
BEGIN:DAYLIGHT
TZOFFSETFROM:+0100
TZOFFSETTO:+0200
TZNAME:CEST
DTSTART:20240331T010000
END:DAYLIGHT
BEGIN:STANDARD
TZOFFSETFROM:+0200
TZOFFSETTO:+0100
TZNAME:CET
DTSTART:20241027T010000
END:STANDARD
END:VTIMEZONE
BEGIN:VEVENT
DTSTART;TZID=Europe/Warsaw:20241019T100000
DTEND;TZID=Europe/Warsaw:20241019T170000
DTSTAMP:20260423T042112
CREATED:20241003T125936Z
LAST-MODIFIED:20241003T125936Z
UID:10020612-1729332000-1729357200@kultura.tarnow.pl
SUMMARY:"Tożsamość" Andrzej Grudzień
DESCRIPTION:Tarnowskie Centrum Kultury serdecznie zaprasza na wystawę fotografii autorstwa Andrzeja Grudnia\, znakomitego artysty fotografa. \nW salach galerii Tarnowskiego Centrum Kultury zaprezentowane zostaną cykle fotografii; Inicjacje\, Symbioza\, Tożsamość\, Depresja\, Embriony\, Przemiany\, Światy widziane\, autorstwa Andrzeja Grudnia. Wspólnym mianownikiem tych cykli jest eksploracja przez autora intymnych obszarów wokół tytułowej TOŻSAMOŚCI. \n„Wystawa zaprezentuje liczne autoportrety\, akty\, analityczne rejestracje obrazu /ruchu/ twarzy i ciała – ujęte zarówno w przestrzeni intymnej\, jak i w obszarze przyrody\, architektury czy zagubionego we masie wielkomiejskiego tłumu dojmującego wrażeniem „stopienia” się jednostki w jego plastycznej masie. To wszystko ma na celu poprowadzenie widza do namysłu nad tytułowym problemem wystawy.”\nJolanta Rycerska – kuratorka wystawy\n \nAndrzej Grudzień\nRocznik 1973\, artysta fotograf.\nJego prace można scharakteryzować jako transgresyjne poszukiwania w fotografii. Stypendysta Ministerstwa Kultury\, Dziedzictwa Narodowego. Organizator licznych warsztatów z fotografii tradycyjnej i cyfrowej. Specjalizuje się w fotografii analogowej\, ciemni negatywowo-pozytywowej oraz artystycznych manipulacjach obrazu łączących różne techniki. Ekspert techniczny i kolekcjoner sprzętu fotograficznego. Kurator wystaw.\nRazem z dr Jolantą Rycerską prowadzi profesjonalną szkołę artystyczną Studium Sztuki. W latach 2020-23 był dyrektorem Studium Fotografii Związku Polskich Artystów Fotografików. Przez 4 lata był tam także wykładowcą. Pracuje na Wydziale Architektury Wnętrz Akademii Sztuk Pięknych w Warszawie. Gościnnie prowadził warsztaty w Warszawskiej Szkole Filmowej.\nVloger\, twórca cyklu rozmów „Fotoforma Live – Z pasji do fotografii – rozmowy Andrzeja Grudnia” oraz kanału YouTube „Gandalf fotografii”.\nAktywnie prezentuje swoje prace na wystawach indywidualnych oraz zbiorowych w Polsce i za granicą. \nWystawa prezentowana w Galerii TCK\, od 12 października do 9 listopada 2024 r.\,\nBilety: 7 zł (normalny) i 5 zł (ulgowy). Ekspozycja czynna od poniedziałku do piątku\, w godz. 10:00-18:00 oraz w soboty w godz. 10:00-17:00.
URL:https://kultura.tarnow.pl/wydarzenie/tozsamosc-andrzej-grudzien-2/2024-10-19/
LOCATION:Tarnowskie Centrum Kultury\, Rynek 5\, Tarnów\, małopolskie\, 33-100\, Polska
CATEGORIES:wystawy
GEO:50.012155;20.9878542
X-APPLE-STRUCTURED-LOCATION;VALUE=URI;X-ADDRESS=Tarnowskie Centrum Kultury Rynek 5 Tarnów małopolskie 33-100 Polska;X-APPLE-RADIUS=500;X-TITLE=Rynek 5:geo:20.9878542,50.012155
END:VEVENT
BEGIN:VEVENT
DTSTART;TZID=Europe/Warsaw:20241019T110000
DTEND;TZID=Europe/Warsaw:20241019T130000
DTSTAMP:20260423T042112
CREATED:20241004T071539Z
LAST-MODIFIED:20241004T071539Z
UID:10020632-1729335600-1729342800@kultura.tarnow.pl
SUMMARY:Sobota w Pałacu
DESCRIPTION:Jak sobota\, to tylko w Pałacu 🙂 \nSobota w Pałacu to nasza nowa propozycja\, która pozwoli na atrakcyjne spędzanie wolnego czasu. Warsztaty zaplanowano na wybrane soboty\, w godzinach 11.00 – 13.00. Spotkania będą cykliczne i obejmą działania z zakresu rzemiosła\, majsterkowania\, upcyklingu\, szycia\, rękodzieła i sztuk plastycznych. Planujemy także warsztaty taneczne\, muzyczne i sportowe. Część warsztatów przyjmie formułę działań rodzinnych. Do wspólnego tworzenia zaprosimy dzieci z rodzicami\, dziadkami lub starszym rodzeństwem. Uczestnicy będą pracować pod okiem wyspecjalizowanej kadry. Wśród sobotnich propozycji znajdą się także wymiany różnych przedmiotów. Będzie to okazja do domowych porządków i podzielenia się rzeczami. Nie wyrzucamy\, uwalniamy – niech cieszą innych! Wszystkim obiecujemy super zabawę\, pełną niekończących się pomysłów i kreatywności. Zapraszamy! \nMiejsce spotkań: Pałac Młodzieży w Tarnowie\, ul. Piłsudskiego 24 \nUWAGA! Warsztaty są bezpłatne\, ilość miejsc ograniczona. \nHarmonogram spotkań: \n12.10.2024  Eko ozdoby z jesiennych darów natury – rodzinne warsztaty plastyczne (dzieci w wieku 6 – 8 lat + osoba dorosła) \nProwadzenie: Maria Mendel \nZgłoszenia do 9.10.2024 lub do wyczerpania miejsc na adres: m.mendel@pm.tarnow.pl \n19.10.2024  Latawce i wiatr – warsztaty modelarskie (wiek uczestników 7 – 14 lat)  \nProwadzenie: Wojciech Brajowski \nZgłoszenia w terminie 1.10 – 16.10.2024 lub do wyczerpania miejsc na adres: w.brajowski@pm.tarnow.pl lub telefonicznie 694 313 571 \n26.10.2024  Pałacowe wymianki\, czyli daj przedmiotom drugie życie – wymiana zabawek\, gier planszowych i książek dla dzieci \nOrganizacja: Joanna Wielgus\, Ewelina Janikowska Zgłoszenia w terminie 1.10 – 18.10.2024 lub do wyczerpania miejsc na adres: mcwtarnow@gmail.com \n16.11.2024  Między dźwiękami – zajęcia umuzykalniające dla dzieci (wiek uczestników 6 – 7 lat) \nProwadzenie: Iwona Kędroń \nZgłoszenia w terminie 4.11 – 14.11.2024 lub do wyczerpania miejsc na adres: i.kedron@pm.tarnow.pl \n23.11.2024  Tańczyć każdy może – warsztaty taneczne/w programie popularne tańce grupowe   (wiek uczestników 10 – 12 lat)    \nProwadzenie: Maria Szydłowska \nZgłoszenia w terminie 8.11 – 20.11.2024 lub do wyczerpania miejsc na adres: m.szydlowska@pm.tarnow.pl lub telefonicznie 505 677 502 \n30.11.2024  Ozdoby choinkowe z banerów. Upcyklingowe warsztaty plastyczne  (wiek uczestników  8 – 15 lat)  \nProwadzenie: Iwona Gąsior \nZgłoszenia w terminie 12.11 – 27.11.2024 lub do wyczerpania miejsc na adres: i.gasior@pm.tarnow.pl \n7.12.2024  Zimowy skrzacik – zawieszka. Warsztaty hande made (wiek uczestników 8 – 10 lat)         \nProwadzenie: Joanna Wielgus \nZgłoszenia w terminie 25.11 – 5.12.2024 lub do wyczerpania miejsc na adres: j.wielgus@pm.tarnow.pl                                                                                                                                 
URL:https://kultura.tarnow.pl/wydarzenie/sobota-w-palacu/2024-10-19/
LOCATION:Pałac Młodzieży\, ul. Piłsudskiego 24\, Tarnów\, małopolskie\, 33-100\, Polska
CATEGORIES:warsztaty
GEO:50.0172246;20.9854709
X-APPLE-STRUCTURED-LOCATION;VALUE=URI;X-ADDRESS=Pałac Młodzieży ul. Piłsudskiego 24 Tarnów małopolskie 33-100 Polska;X-APPLE-RADIUS=500;X-TITLE=ul. Piłsudskiego 24:geo:20.9854709,50.0172246
END:VEVENT
BEGIN:VEVENT
DTSTART;TZID=Europe/Warsaw:20241019T110000
DTEND;TZID=Europe/Warsaw:20241019T180000
DTSTAMP:20260423T042112
CREATED:20240927T110028Z
LAST-MODIFIED:20240927T110028Z
UID:10019532-1729335600-1729360800@kultura.tarnow.pl
SUMMARY:Salon Jesienny STAP
DESCRIPTION:W wystawie udział biorą: \nMałgorzata Andrzejewska\, Krystyna Baniowska-Stąsiek-Mejer\, Piotr Franciszek Barszczowski\, Dorota Bernacka\, Robert Bieńkowski\, Piotr Bubak\, Stanisław Chmiel\, Ewa Fleszar\, Roman Fleszar\, Weronika Fleszar\, Piotr Figiel\, Tomasz Głowacz\, Franciszek Kafel\, Kazimierz Klimkiewicz\, Roman Kobylarz\, Stanisław Kucharzyk\, Stefania Mazur\, Marek Niedojadło-Cichoński\, Katarzyna Pabis-Komorowska\, Przemysław Poręba\, Michał Poręba\, Lidia Połeć-Kantor\, Elżbieta Remian\, Jerzy Ruszel\, Wojciech Ruszel\, Elżbieta Sowa\, Anna Iga Skupińska\, Renata Stadler\, Anna Śliwińska\, Anna Świętek\, Kazimierz Twardowski\, Bożena Wojtanowska\, Marta Wojciechowska\, Grzegorz Wójcik\, Aleksandra Zuba-Benn\, Robert Żybura.
URL:https://kultura.tarnow.pl/wydarzenie/salon-jesienny-stap-2/2024-10-19/
LOCATION:Biuro Wystaw Artystycznych\, ul. Słowackiego 1\, Tarnów\, małopolskie\, 33-100\, Polska
CATEGORIES:wystawy
ATTACH;FMTTYPE=image/jpeg:https://kultura.tarnow.pl/wp-content/uploads/salon-jesienny-STAP-2024-plakat-1-scaled.jpg
ORGANIZER;CN="Biuro Wystaw Artystycznych":MAILTO:biuro@bwa.tarnow.pl
GEO:50.0178761;20.9827521
X-APPLE-STRUCTURED-LOCATION;VALUE=URI;X-ADDRESS=Biuro Wystaw Artystycznych ul. Słowackiego 1 Tarnów małopolskie 33-100 Polska;X-APPLE-RADIUS=500;X-TITLE=ul. Słowackiego 1:geo:20.9827521,50.0178761
END:VEVENT
BEGIN:VEVENT
DTSTART;TZID=Europe/Warsaw:20241019T180000
DTEND;TZID=Europe/Warsaw:20241019T200000
DTSTAMP:20260423T042112
CREATED:20241008T065903Z
LAST-MODIFIED:20241008T065903Z
UID:10020642-1729360800-1729368000@kultura.tarnow.pl
SUMMARY:Wieczór pianistyczny
DESCRIPTION:Zapraszamy na koncert muzyki fortepianowej pod znakiem Stowarzyszenia Animato. Profesor Marian Rybicki zaprezentuje tym razem studentów Ecole Normale de Musique w Paryżu oraz podopiecznych Stowarzyszenia Animato. Poznamy pianistów z różnych stron świata: Madagaskaru\, Brazylii\, Chin\, Kanady\, Portugalii i Ukrainy. Wspólnym mianownikiem całego koncertu będą dwaj kompozytorzy: Fryderyk Chopin i Franciszek Liszt. Każdy z pianistów wykona utwory obu tych kompozytorów. \nKoncert współorganizuje Zespół Szkół Muzycznych w Tarnowie oraz Urząd Miasta Tarnowa. Prezydent Jakub Kwaśny objął honorowy patronat nad wydarzeniem\, które odbędzie się 19 października o godz. 18.00 w sali koncertowej przy ul. Lippóczy’ego 4. Bilety w cenie 30 zł do nabycia w ZSM w Tarnowie od 14 października.
URL:https://kultura.tarnow.pl/wydarzenie/wieczor-pianistyczny/
LOCATION:Sala Koncertowa Zespołu Szkół Muzycznych\, Lippóczy’ego 4\, Tarnów\, małopolskie\, 33-100\, Polska
CATEGORIES:koncerty
ATTACH;FMTTYPE=image/jpeg:https://kultura.tarnow.pl/wp-content/uploads/plakat_wieczor-pianistyczny-1-scaled.jpg
ORGANIZER;CN="Zesp%C3%B3%C5%82 Szk%C3%B3%C5%82 Muzycznych":MAILTO:szkola@zsmuz.tarnow.pl
GEO:50.0205582;20.9801972
X-APPLE-STRUCTURED-LOCATION;VALUE=URI;X-ADDRESS=Sala Koncertowa Zespołu Szkół Muzycznych Lippóczy’ego 4 Tarnów małopolskie 33-100 Polska;X-APPLE-RADIUS=500;X-TITLE=Lippóczy’ego 4:geo:20.9801972,50.0205582
END:VEVENT
BEGIN:VEVENT
DTSTART;TZID=Europe/Warsaw:20241019T180000
DTEND;TZID=Europe/Warsaw:20241019T210000
DTSTAMP:20260423T042112
CREATED:20240913T093436Z
LAST-MODIFIED:20240913T093436Z
UID:10019430-1729360800-1729371600@kultura.tarnow.pl
SUMMARY:XIII Międzynarodowy Festiwal Teatrów Tańca "Scena Otwarta"
DESCRIPTION:5 – 20 października 2024 \nHasło przewodnie XIII edycji będzie brzmieć „Głos Twojego życia”. Język tanecznych narracji i impresji wyrazi te momenty ludzkiego życia\, które znacząco odkrywają jego prawdę. Odwołujemy się do wybitnych dokonań teatru tańca określających nasze ludzkie uniwersum. \n\nProgram XII Międzynarodowego Festiwalu Teatrów Tańca Scena Otwarta: \n5 października\, godz. 18:00 – „Nowe Szaty Króla” – Teatr Avatar / Polska \nBarwny\, dynamiczny i przewrotny spektakl łączy klasyczne teksty Andersena ze swingowymi choreografiami. Widowisko skomponowane z kontrastujących sobie smaków wzmacniających doznania widza – od słodkiej miłości\, przez gorzkie oblicze władzy oraz pikantne walki po słone łzy. Całość okraszona akrobatyką i popisami tanecznymi\, czule objęta magiczną oprawą z udziałem fantastycznych stworów.\nReżyseria i adaptacja: Kamil J. Przyboś\, choreografia: Ada Pankowska-Michalczyk\nCzas trwania: 80 minut (bez przerwy) \n6 października\, godz. 18:00 – „Aire Sakona” i „Hondo” – Dantzaz / Hiszpania \n„Aire Sakona” koncentruje się na wzajemnym połączeniu ruchu ciała\, mikrospołeczności i zbiorowej ekspresji artystycznej. To dzieło jest wynikiem głębokiego procesu twórczego\, w którym każdy ruch\, każdy gest i każda interakcja między tancerzami mają na celu uchwycenie istoty człowieczeństwa w ruchu. Tytuł „Aire Sakona” pochodzi z poematu „Lo profundo es el aire” Jorge Guilléna\, który również zainspirował serię rzeźb Chillidy. Poemat ten podkreśla znaczenie powietrza jako symbolu egzystencji i wolności\, które są kluczowymi elementami w tej choreograficznej pracy.\nchoreografia: Jacek Przybyłowicz \nSpektakl „Hondo” skupia się na pojęciach takich jak otchłań\, tajemnica\, ewolucja i ponadczasowość\, eksplorując bezmiar morza jako źródło inspiracji. Paolo Mohovich chce przekazać emocje i tajemnicę poprzez ten artystyczny akcent w „Hondo”.\nchoreografia: Paolo Mohovich – Hiszpania\nCzas trwania: 65 minut z przerwą \n11 października\, godz. 18:00 – „Syrenka Ariel”\, Kielecki Teatr Tańca / Polska \nJęzykiem tańca opowiadana jest historia wzajemnej miłości syreny – Ariel i człowieka – Księcia Eryka. Dzięki miłości przezwyciężają oni przeciwności losu i działania podstępnej Wiedźmy morskiej Ursuli. Król Tryton po wielu perypetiach\, przekonując się o sile uczuć zakochanych\, ostatecznie ofiaruje syreniej córce ludzką postać i zgadza się na poślubienie przez nią Księcia Eryka. Ariel i Eryk pozostają na zawsze razem. Akcja rozgrywa się w podwodnym świecie\, w którym spotykamy oprócz tytułowej Ariel\, jej przyjaciółkę Rybkę Florkę\, Kraba Sebastiana oraz wiele podwodnych postaci. Spektakl ukazuje żywotność oraz piękno podwodnego świata dzięki zastosowaniu ciekawych kompozycji choreograficznych\, hybrydowych kostiumów\, wielowymiarowych projekcji\, dynamicznej scenografii oraz kolorowych świateł. Sceny taneczne zrealizowane są w stylu tańca jazzowego\, współczesnego i klasycznego. Postaci morskie tańczą np. swing\, charleston\, mambo\, jazz\, modern jazz wykazują się głębią różnych interpretacji i wprawną techniką wykonania. \nchoreografia: Elżbieta Pańtak\, Grzegorz Pańtak\nCzas trwania: 120 minut z przerwą \n 12 październik\, godz. 18:00 – „Wiosenna podróż”\, Roman Komassa / Niemcy \nProjekt inspirowany jest muzyką i tekstem Franza Schuberta do utworu „Die Winterreise”. Choreograf Roman Komassa porusza sferę najbliższą człowiekowi\, jego osobiste marzenia i tęsknoty – w wiosennej podróży pomimo chwili zadumy można będzie odnaleźć optymizm i nadzieję. W obecnej chwili problemów ogólnoświatowych każdy z nas oczekuje chwili odpoczynku – refleksji. Poprzez technikę tańca klasycznego i współczesnego. Roman Komassa pragnie uruchomić wyobraźnię widza\, gdzie estetyka ciała i harmonia muzyki\, pozwolą oderwać się od codziennych spraw.\nChoreografia i reżyseria projektu: Roman Komassa\nWystępują: Alina Umbach\, Nora Ebeling\, Vanessa Schmidt\, Sina Sinatra\, Roman Komassa\nCzas trwania: 60 minut bez przerwy \n 19 października 2024 – konkurs choreograficzny „My Dance” i gala finałowa \nKonkurs Choreograficzny to działanie\, które sprawdziło się w poprzednich latach jako skuteczna forma promowania szczególnie zdolnych choreografów młodego pokolenia. Możliwość zaprezentowania swojego projektu w otoczeniu profesjonalnej sceny jest wysoko oceniana przez uczestników Konkursu. Konkurs Choreograficzny zaplanowany jest na 19 października. Gala finałowa zaplanowana jest na godzinę 18.00 również 19 października. \n 5 – 20 października – wystawa „Source of Dance” \nWystawa prezentująca taniec jako żywą\, znaczącą i różnorodną formę ekspresji kulturowej. Muzyka i taniec zawsze były niezbędne w życiu duchowym i kulturalnym wielu społeczności. Unikalne formy tańca rytualnego i ceremonialnego przekazywane z pokolenia na pokolenie stanowią dziś istotną częścią życia mieszkańców wielu rejonów świata. Bogate tradycje muzyczne i taneczne tworzą silne więzi\, które łączą społeczności mieszkańców ze wszystkimi żywymi istotami\, z ziemią\, światem duchów i z przeszłością. Wystawa prezentować będzie fotografie i filmy\, stanowiące przykłady tańców ceremonialnych z wybranych zakątków świata\, m.in. z Japonii\, Ameryki Południowej\, Afryki\, Oceanii. \n„Dofinansowano ze środków Ministra Kultury i Dziedzictwa Narodowego pochodzących z Funduszu Promocji Kultury – państwowego funduszu celowego\, w ramach programu „Taniec”\, realizowanego przez Narodowy Instytut Muzyki i Tańca” \n 
URL:https://kultura.tarnow.pl/wydarzenie/xiii-miedzynarodowy-festiwal-teatrow-tanca-scena-otwarta/2024-10-19/
LOCATION:Centrum Sztuki Mościce\, Traugutta 1\, Tarnów\, małopolskie\, 33-101\, Polska
CATEGORIES:festiwale
ATTACH;FMTTYPE=image/jpeg:https://kultura.tarnow.pl/wp-content/uploads/zdjecie-wydarzenia.jpg
GEO:50.009833;20.92706
X-APPLE-STRUCTURED-LOCATION;VALUE=URI;X-ADDRESS=Centrum Sztuki Mościce Traugutta 1 Tarnów małopolskie 33-101 Polska;X-APPLE-RADIUS=500;X-TITLE=Traugutta 1:geo:20.92706,50.009833
END:VEVENT
BEGIN:VEVENT
DTSTART;TZID=Europe/Warsaw:20241019T190000
DTEND;TZID=Europe/Warsaw:20241019T190000
DTSTAMP:20260423T042112
CREATED:20241010T103735Z
LAST-MODIFIED:20241010T103820Z
UID:10020645-1729364400-1729364400@kultura.tarnow.pl
SUMMARY:Reqiem\, Msza Żałobna Wł. Krogulskiego
DESCRIPTION:Serdecznie zapraszamy na \nREQUIEM najwybitniejszego muzyka miasta Tarnowa Józefa Wł. Krogulskiego (1815-1842)\, odczytanego z rękopisu\, które po raz pierwszy w historii zabrzmi w Tarnowie w tarnowskiej katedrze już w sobotę\, 19 października 2024 roku o godz. 19.00. \nJózef Wł. Krogulski to postać niezwykła w historii miasta Tarnowa. \nJuż w wieku 10 lat zachwycał swą grą na fortepianie i dziecięcymi kompozycjami melomanów najważniejszych scen muzycznych w Warszawie\, Poznaniu Wrocławiu\, Dreźnie\, Berlinie\, Lwowie czy Kijowie. \nPo przeprowadzeniu do Warszawy kształcił się pod okiem nauczyciela Chopina Józefa Elsnera\, pod którego wpływem prawdopodobnie poświęcił swój talent muzyce sakralnej. Mimo krótkiego życia\, pośród stu kompozycji\, które napisał\, znajduje się 10 mszy\, z których większość jest nieznana. \nREQUIEM to Msza żałobna d-moll nr VIII przeznaczona jest na chór mieszany\, solistów i organy. \nZostała ona odczytana z rękopisu i wydana przez Wydział Muzyki Kościelnej Kurii Tarnowskiej pod redakcją ks. Grzegorz Piekarza w 2024 r. wydawnictwie Bilblos \nPo raz pierwszy usłyszymy ją w Tarnowie 19 października 2024 roku w Bazylice Katedralnej w interpretacji solistów Filharmonii Karkowskiej\, Chłopięcego Chóru katedralnego PUERI CANTORES TARNOVIENSES pod dyrekcja ks. Grzegorz Piekarz. \nMecenat i patronat nad wydarzeniem objęli: Biskup Tarnowski Andrzej Jeż\, Województwo Małopolskie\, Gmina Miasta Tarnów\, Tarnowskie Centrum Kultury\, Rad Osiedla nr 1 Starówka Tarnów oraz Muzeum Diecezjalne. \nPatronat medialny: RDN Małopolska\, Gość Niedzielny oraz TCK. \nZapraszają: Chłopięcy Chór Katedralny PUERI CANTORES TARNOVIENSES\, Tarnowskie Centrum Kultury oraz Rad Osiedla nr 1 Starówka. \n \n 
URL:https://kultura.tarnow.pl/wydarzenie/reqiem/
LOCATION:Bazylika Katedralna w Tarnowie\, ul. Kapitulna 2\, Tarnów\, małopolskie\, 33-100\, Polska
CATEGORIES:koncerty
GEO:50.013388;20.987599
X-APPLE-STRUCTURED-LOCATION;VALUE=URI;X-ADDRESS=Bazylika Katedralna w Tarnowie ul. Kapitulna 2 Tarnów małopolskie 33-100 Polska;X-APPLE-RADIUS=500;X-TITLE=ul. Kapitulna 2:geo:20.987599,50.013388
END:VEVENT
BEGIN:VEVENT
DTSTART;TZID=Europe/Warsaw:20241019T190000
DTEND;TZID=Europe/Warsaw:20241019T210000
DTSTAMP:20260423T042112
CREATED:20240923T072327Z
LAST-MODIFIED:20240923T072327Z
UID:10019443-1729364400-1729371600@kultura.tarnow.pl
SUMMARY:100-lat Marzenia na Staszica 4
DESCRIPTION:„5 października 1924 roku w niedzielę w nowo wybudowanym przez Towarzystwo Szkoły Ludowej gmachu kina Marzenie odbyła się pierwsza projekcja”. \nR. Włodek 100 lat Marzenia. Historia kina w Tarnowie \nZ okazji 100-lecia powstania siedziby kina Marzenia przy ulicy Staszica 4 zaplanowano szereg wydarzeń: \nBilety: 1 zł \n1 października godz. 19:00  \nMarzenie (nie)oczywiste – wernisaż prac i spotkanie z autorami projektu fotograficznego Tarnowskiego Towarzystwa Fotograficznego \noraz projekcja specjalna Czy widzieliście już mój film? reż. Paul Anton Smith \nKup bilet \n5 października godz. 19:00 \nKoncert z okazji 100-lecia – Kwartet wokalny VoiceBand i Ewelina Flinta \nKup bilet \n6 października godz. 19:00 \nspotkanie i dyskusja z Patrycją Muchą-Smolińską i Sebastianem Smolińskim \nora projekcja filmuDeszczowa piosenka reż. Stanley Donen\, Gene Kelly \nKup bilet \n12 października godz. 19:00 \nspotkanie i dyskusja ze Stanisławem Janickim \nprojekcja filmu Codzienne marzenia reż. Buster Keaton \nKup bilet \n19 października godz. 19:00  \nspotkanie i dyskusja z Dianą Dąbrowską \nprojekcja filmu Chłopcy z ferajny reż. Martin Scorsese \nKup bilet \n27 października godz. 19:00 \nspotkanie i dyskusja z Tomaszem Raczkiem \nprojekcja filmu Co zdarzyło się Baby Jane reż. Robert Aldrich spotkanie i dyskusja z Tomaszem Raczkiem \nKup bilet \nWszystkie wydarzenia zrealizowane są dzięki wsparciu finansowemu Krajowego Planu Odbudowy i Zwiększania Odporności w ramach Europejskiego Planu Odbudowy. \n \n 
URL:https://kultura.tarnow.pl/wydarzenie/100-lat-marzenia-na-staszica-4/2024-10-19/
LOCATION:Kino „Marzenie”\, ul. Staszica 4\, Tarnów\, małopolskie\, 33-100\, Polska
CATEGORIES:filmy,koncerty
ATTACH;FMTTYPE=image/jpeg:https://kultura.tarnow.pl/wp-content/uploads/461104135_1423202821956362_7791282421005312227_n.jpg
GEO:50.011762;20.9833798
X-APPLE-STRUCTURED-LOCATION;VALUE=URI;X-ADDRESS=Kino „Marzenie” ul. Staszica 4 Tarnów małopolskie 33-100 Polska;X-APPLE-RADIUS=500;X-TITLE=ul. Staszica 4:geo:20.9833798,50.011762
END:VEVENT
END:VCALENDAR