BEGIN:VCALENDAR
VERSION:2.0
PRODID:-//kultura.tarnów - ECPv6.4.0.1//NONSGML v1.0//EN
CALSCALE:GREGORIAN
METHOD:PUBLISH
X-WR-CALNAME:kultura.tarnów
X-ORIGINAL-URL:https://kultura.tarnow.pl
X-WR-CALDESC:Wydarzenia dla
REFRESH-INTERVAL;VALUE=DURATION:PT1H
X-Robots-Tag:noindex
X-PUBLISHED-TTL:PT1H
BEGIN:VTIMEZONE
TZID:Europe/Warsaw
BEGIN:DAYLIGHT
TZOFFSETFROM:+0100
TZOFFSETTO:+0200
TZNAME:CEST
DTSTART:20240331T010000
END:DAYLIGHT
BEGIN:STANDARD
TZOFFSETFROM:+0200
TZOFFSETTO:+0100
TZNAME:CET
DTSTART:20241027T010000
END:STANDARD
END:VTIMEZONE
BEGIN:VEVENT
DTSTART;TZID=Europe/Warsaw:20241018T090000
DTEND;TZID=Europe/Warsaw:20241018T113000
DTSTAMP:20260423T115544
CREATED:20241015T095243Z
LAST-MODIFIED:20241015T095243Z
UID:10020649-1729242000-1729251000@kultura.tarnow.pl
SUMMARY:Monika Borkowska-Szmit - spotkanie autorskie
DESCRIPTION:Spotkania autorskie dla dzieci w wieku 10-12 lat z udziałem Agnieszki Nowickiej – tłumaczki polskiego języka migowego. \nDział dla Dzieci i Młodzieży\, ul. Staszica 6\, 18 października 2024 r.\,  godz. 9:00-10:00 oraz 10:30-11:30 \nMonika Borkowska-Szmit jest autorką detektywistyczno-ekologicznych książek dla dzieci “Stach i śmieci” oraz “Stach i smog”. \nNa spotkaniach poruszony zostanie m.in. temat hejtu w Internecie. Uczestnicy poznają sposoby zapobiegania i radzenia sobie z hejtem. Dowiedzą się\, gdzie można uzyskać pomoc\, kiedy padamy ofiarą prześladowań. \nPodczas spotkań będzie można zakupić książki Autorki (30 zł) i otrzymać autograf. \nWydarzenie w ramach projektu “Biblioteka dla Młodych” – cykl spotkań dla dzieci i młodzieży “Z myślą o sobie” \nDofinansowano ze środków Ministra Kultury i Dziedzictwa Narodowego pochodzących z Funduszu Promocji Kultury – państwowego funduszu celowego.
URL:https://kultura.tarnow.pl/wydarzenie/monika-borkowska-szmit-spotkanie-autorskie/
LOCATION:Miejska Biblioteka Publiczna im. J. Słowackiego\, Staszica 6\, Tarnów\, małopolskie\, 33-100\, Polska
CATEGORIES:wieczory autorskie
ATTACH;FMTTYPE=image/jpeg:https://kultura.tarnow.pl/wp-content/uploads/Borkowska_slide.jpg
GEO:50.0118763;20.9833075
X-APPLE-STRUCTURED-LOCATION;VALUE=URI;X-ADDRESS=Miejska Biblioteka Publiczna im. J. Słowackiego Staszica 6 Tarnów małopolskie 33-100 Polska;X-APPLE-RADIUS=500;X-TITLE=Staszica 6:geo:20.9833075,50.0118763
END:VEVENT
BEGIN:VEVENT
DTSTART;TZID=Europe/Warsaw:20241018T100000
DTEND;TZID=Europe/Warsaw:20241018T170000
DTSTAMP:20260423T115544
CREATED:20241003T125936Z
LAST-MODIFIED:20241003T125936Z
UID:10020611-1729245600-1729270800@kultura.tarnow.pl
SUMMARY:"Tożsamość" Andrzej Grudzień
DESCRIPTION:Tarnowskie Centrum Kultury serdecznie zaprasza na wystawę fotografii autorstwa Andrzeja Grudnia\, znakomitego artysty fotografa. \nW salach galerii Tarnowskiego Centrum Kultury zaprezentowane zostaną cykle fotografii; Inicjacje\, Symbioza\, Tożsamość\, Depresja\, Embriony\, Przemiany\, Światy widziane\, autorstwa Andrzeja Grudnia. Wspólnym mianownikiem tych cykli jest eksploracja przez autora intymnych obszarów wokół tytułowej TOŻSAMOŚCI. \n„Wystawa zaprezentuje liczne autoportrety\, akty\, analityczne rejestracje obrazu /ruchu/ twarzy i ciała – ujęte zarówno w przestrzeni intymnej\, jak i w obszarze przyrody\, architektury czy zagubionego we masie wielkomiejskiego tłumu dojmującego wrażeniem „stopienia” się jednostki w jego plastycznej masie. To wszystko ma na celu poprowadzenie widza do namysłu nad tytułowym problemem wystawy.”\nJolanta Rycerska – kuratorka wystawy\n \nAndrzej Grudzień\nRocznik 1973\, artysta fotograf.\nJego prace można scharakteryzować jako transgresyjne poszukiwania w fotografii. Stypendysta Ministerstwa Kultury\, Dziedzictwa Narodowego. Organizator licznych warsztatów z fotografii tradycyjnej i cyfrowej. Specjalizuje się w fotografii analogowej\, ciemni negatywowo-pozytywowej oraz artystycznych manipulacjach obrazu łączących różne techniki. Ekspert techniczny i kolekcjoner sprzętu fotograficznego. Kurator wystaw.\nRazem z dr Jolantą Rycerską prowadzi profesjonalną szkołę artystyczną Studium Sztuki. W latach 2020-23 był dyrektorem Studium Fotografii Związku Polskich Artystów Fotografików. Przez 4 lata był tam także wykładowcą. Pracuje na Wydziale Architektury Wnętrz Akademii Sztuk Pięknych w Warszawie. Gościnnie prowadził warsztaty w Warszawskiej Szkole Filmowej.\nVloger\, twórca cyklu rozmów „Fotoforma Live – Z pasji do fotografii – rozmowy Andrzeja Grudnia” oraz kanału YouTube „Gandalf fotografii”.\nAktywnie prezentuje swoje prace na wystawach indywidualnych oraz zbiorowych w Polsce i za granicą. \nWystawa prezentowana w Galerii TCK\, od 12 października do 9 listopada 2024 r.\,\nBilety: 7 zł (normalny) i 5 zł (ulgowy). Ekspozycja czynna od poniedziałku do piątku\, w godz. 10:00-18:00 oraz w soboty w godz. 10:00-17:00.
URL:https://kultura.tarnow.pl/wydarzenie/tozsamosc-andrzej-grudzien-2/2024-10-18/
LOCATION:Tarnowskie Centrum Kultury\, Rynek 5\, Tarnów\, małopolskie\, 33-100\, Polska
CATEGORIES:wystawy
GEO:50.012155;20.9878542
X-APPLE-STRUCTURED-LOCATION;VALUE=URI;X-ADDRESS=Tarnowskie Centrum Kultury Rynek 5 Tarnów małopolskie 33-100 Polska;X-APPLE-RADIUS=500;X-TITLE=Rynek 5:geo:20.9878542,50.012155
END:VEVENT
BEGIN:VEVENT
DTSTART;TZID=Europe/Warsaw:20241018T100000
DTEND;TZID=Europe/Warsaw:20241018T180000
DTSTAMP:20260423T115544
CREATED:20240927T102243Z
LAST-MODIFIED:20240927T102243Z
UID:10019477-1729245600-1729274400@kultura.tarnow.pl
SUMMARY:„Koń jaki jest?” - wystawa edukacyjna
DESCRIPTION:7 października – 6 grudnia\, w godzinach otwarcia – wystawa edukacyjna\n \nWystawa „Koń jaki jest?” to pełna uroku podróż przez świat koni przedstawionych w sztuce i kulturze. Zainspirowana książką „Zwierzyniec. Okazy wybrane” (wyd. Międzynarodowe Centrum Kultury w Krakowie i Wydawnictwo Dwie Siostry)\, wystawa prezentuje rozmaite ujęcia tego niezwykłego zwierzęcia – od historycznych ilustracji po ludowe zabawki. \nKonie\, te pracowite\, dumne\, ale i pełne gracji stworzenia\, były i są źródłem inspiracji dla artystów. Na wystawie można zobaczyć różnorodne dzieła: od rysunków i rycin wielkich mistrzów\, takich jak Józef Chełmoński czy Artur Grottger\, po barwne zabawki z drewna\, które bawiły dzieci w dawnych czasach. Wystawa pokazuje\, jak koń był postrzegany na przestrzeni wieków – jako towarzysz w pracy\, wojownik na polu bitwy\, a także obiekt codziennego życia i sztuki ludowej. \nKażdy koń na tej wystawie jest inny: niektóre są spokojne i zadumane\, inne rozbrykane i dzikie jak mustangi. Znajdziemy tu konie z rycin z XIX wieku\, tradycyjne wycinanki ludowe\, a także zabawki z drewna\, które przywodzą na myśl dzieciństwo i dawny świat. \nWystawę w holu Domu Kultury Westerplatte prezentujemy dzięki uprzejmości Międzynarodowego Centrum Kultury w Krakowie. Wstęp bezpłatny.
URL:https://kultura.tarnow.pl/wydarzenie/kon-jaki-jest-wystawa-edukacyjna/2024-10-18/
LOCATION:Dom Kultury Westerplatte 8a\, Westerplatte 8a\, Tarnów\, Polska - małopolskie\, 33-100\, Polska
CATEGORIES:wystawy
ATTACH;FMTTYPE=image/jpeg:https://kultura.tarnow.pl/wp-content/uploads/Kon-jaki-jest_wystawa.jpg
ORGANIZER;CN="Dom Kultury Westerplatte 8a":MAILTO:westerplatte@tck.pl
GEO:50.0273033;21.0087361
X-APPLE-STRUCTURED-LOCATION;VALUE=URI;X-ADDRESS=Dom Kultury Westerplatte 8a Westerplatte 8a Tarnów Polska - małopolskie 33-100 Polska;X-APPLE-RADIUS=500;X-TITLE=Westerplatte 8a:geo:21.0087361,50.0273033
END:VEVENT
BEGIN:VEVENT
DTSTART;TZID=Europe/Warsaw:20241018T110000
DTEND;TZID=Europe/Warsaw:20241018T180000
DTSTAMP:20260423T115544
CREATED:20240927T110028Z
LAST-MODIFIED:20240927T110028Z
UID:10019531-1729249200-1729274400@kultura.tarnow.pl
SUMMARY:Salon Jesienny STAP
DESCRIPTION:W wystawie udział biorą: \nMałgorzata Andrzejewska\, Krystyna Baniowska-Stąsiek-Mejer\, Piotr Franciszek Barszczowski\, Dorota Bernacka\, Robert Bieńkowski\, Piotr Bubak\, Stanisław Chmiel\, Ewa Fleszar\, Roman Fleszar\, Weronika Fleszar\, Piotr Figiel\, Tomasz Głowacz\, Franciszek Kafel\, Kazimierz Klimkiewicz\, Roman Kobylarz\, Stanisław Kucharzyk\, Stefania Mazur\, Marek Niedojadło-Cichoński\, Katarzyna Pabis-Komorowska\, Przemysław Poręba\, Michał Poręba\, Lidia Połeć-Kantor\, Elżbieta Remian\, Jerzy Ruszel\, Wojciech Ruszel\, Elżbieta Sowa\, Anna Iga Skupińska\, Renata Stadler\, Anna Śliwińska\, Anna Świętek\, Kazimierz Twardowski\, Bożena Wojtanowska\, Marta Wojciechowska\, Grzegorz Wójcik\, Aleksandra Zuba-Benn\, Robert Żybura.
URL:https://kultura.tarnow.pl/wydarzenie/salon-jesienny-stap-2/2024-10-18/
LOCATION:Biuro Wystaw Artystycznych\, ul. Słowackiego 1\, Tarnów\, małopolskie\, 33-100\, Polska
CATEGORIES:wystawy
ATTACH;FMTTYPE=image/jpeg:https://kultura.tarnow.pl/wp-content/uploads/salon-jesienny-STAP-2024-plakat-1-scaled.jpg
ORGANIZER;CN="Biuro Wystaw Artystycznych":MAILTO:biuro@bwa.tarnow.pl
GEO:50.0178761;20.9827521
X-APPLE-STRUCTURED-LOCATION;VALUE=URI;X-ADDRESS=Biuro Wystaw Artystycznych ul. Słowackiego 1 Tarnów małopolskie 33-100 Polska;X-APPLE-RADIUS=500;X-TITLE=ul. Słowackiego 1:geo:20.9827521,50.0178761
END:VEVENT
BEGIN:VEVENT
DTSTART;TZID=Europe/Warsaw:20241018T190000
DTEND;TZID=Europe/Warsaw:20241018T233000
DTSTAMP:20260423T115544
CREATED:20240927T104435Z
LAST-MODIFIED:20240927T104435Z
UID:10019516-1729278000-1729294200@kultura.tarnow.pl
SUMMARY:Planszówki młodzieżówki – nocne spotkanie
DESCRIPTION:18 października (piątek)\, godz. 19:00 – 23:59 \nOdkryj nowe tytuły\, zaskocz swoich przyjaciół nietypowymi taktykami i spędź niezapomnianą noc pełną emocji i śmiechu! Nie ma lepszej zabawy niż nocne granie w gry planszowe – dołącz do nas i poczuj magię światów\, które ożywają na planszy! Możesz skorzystać z bogatych zbiorów naszego games roomu\, możesz też przynieść własne gry – może zaskoczysz nas nowymi tytułami? \nDla bardziej wymagających graczy zapewniamy pomieszczenie do cichego grania. Przy okazji przypominamy\, że wiek nie zależy od peselu\, tylko od stanu ducha. 🙂
URL:https://kultura.tarnow.pl/wydarzenie/planszowki-mlodziezowki-nocne-spotkanie/
LOCATION:Dom Kultury Westerplatte 8a\, Westerplatte 8a\, Tarnów\, Polska - małopolskie\, 33-100\, Polska
CATEGORIES:spotkania
ATTACH;FMTTYPE=image/jpeg:https://kultura.tarnow.pl/wp-content/uploads/planszowki_mlodziezowki.jpg
ORGANIZER;CN="Dom Kultury Westerplatte 8a":MAILTO:westerplatte@tck.pl
GEO:50.0273033;21.0087361
X-APPLE-STRUCTURED-LOCATION;VALUE=URI;X-ADDRESS=Dom Kultury Westerplatte 8a Westerplatte 8a Tarnów Polska - małopolskie 33-100 Polska;X-APPLE-RADIUS=500;X-TITLE=Westerplatte 8a:geo:21.0087361,50.0273033
END:VEVENT
END:VCALENDAR