BEGIN:VCALENDAR
VERSION:2.0
PRODID:-//kultura.tarnów - ECPv6.4.0.1//NONSGML v1.0//EN
CALSCALE:GREGORIAN
METHOD:PUBLISH
X-WR-CALNAME:kultura.tarnów
X-ORIGINAL-URL:https://kultura.tarnow.pl
X-WR-CALDESC:Wydarzenia dla
REFRESH-INTERVAL;VALUE=DURATION:PT1H
X-Robots-Tag:noindex
X-PUBLISHED-TTL:PT1H
BEGIN:VTIMEZONE
TZID:Europe/Warsaw
BEGIN:DAYLIGHT
TZOFFSETFROM:+0100
TZOFFSETTO:+0200
TZNAME:CEST
DTSTART:20240331T010000
END:DAYLIGHT
BEGIN:STANDARD
TZOFFSETFROM:+0200
TZOFFSETTO:+0100
TZNAME:CET
DTSTART:20241027T010000
END:STANDARD
END:VTIMEZONE
BEGIN:VEVENT
DTSTART;TZID=Europe/Warsaw:20241012T100000
DTEND;TZID=Europe/Warsaw:20241012T170000
DTSTAMP:20260423T115542
CREATED:20241003T125936Z
LAST-MODIFIED:20241003T125936Z
UID:10020606-1728727200-1728752400@kultura.tarnow.pl
SUMMARY:"Tożsamość" Andrzej Grudzień
DESCRIPTION:Tarnowskie Centrum Kultury serdecznie zaprasza na wystawę fotografii autorstwa Andrzeja Grudnia\, znakomitego artysty fotografa. \nW salach galerii Tarnowskiego Centrum Kultury zaprezentowane zostaną cykle fotografii; Inicjacje\, Symbioza\, Tożsamość\, Depresja\, Embriony\, Przemiany\, Światy widziane\, autorstwa Andrzeja Grudnia. Wspólnym mianownikiem tych cykli jest eksploracja przez autora intymnych obszarów wokół tytułowej TOŻSAMOŚCI. \n„Wystawa zaprezentuje liczne autoportrety\, akty\, analityczne rejestracje obrazu /ruchu/ twarzy i ciała – ujęte zarówno w przestrzeni intymnej\, jak i w obszarze przyrody\, architektury czy zagubionego we masie wielkomiejskiego tłumu dojmującego wrażeniem „stopienia” się jednostki w jego plastycznej masie. To wszystko ma na celu poprowadzenie widza do namysłu nad tytułowym problemem wystawy.”\nJolanta Rycerska – kuratorka wystawy\n \nAndrzej Grudzień\nRocznik 1973\, artysta fotograf.\nJego prace można scharakteryzować jako transgresyjne poszukiwania w fotografii. Stypendysta Ministerstwa Kultury\, Dziedzictwa Narodowego. Organizator licznych warsztatów z fotografii tradycyjnej i cyfrowej. Specjalizuje się w fotografii analogowej\, ciemni negatywowo-pozytywowej oraz artystycznych manipulacjach obrazu łączących różne techniki. Ekspert techniczny i kolekcjoner sprzętu fotograficznego. Kurator wystaw.\nRazem z dr Jolantą Rycerską prowadzi profesjonalną szkołę artystyczną Studium Sztuki. W latach 2020-23 był dyrektorem Studium Fotografii Związku Polskich Artystów Fotografików. Przez 4 lata był tam także wykładowcą. Pracuje na Wydziale Architektury Wnętrz Akademii Sztuk Pięknych w Warszawie. Gościnnie prowadził warsztaty w Warszawskiej Szkole Filmowej.\nVloger\, twórca cyklu rozmów „Fotoforma Live – Z pasji do fotografii – rozmowy Andrzeja Grudnia” oraz kanału YouTube „Gandalf fotografii”.\nAktywnie prezentuje swoje prace na wystawach indywidualnych oraz zbiorowych w Polsce i za granicą. \nWystawa prezentowana w Galerii TCK\, od 12 października do 9 listopada 2024 r.\,\nBilety: 7 zł (normalny) i 5 zł (ulgowy). Ekspozycja czynna od poniedziałku do piątku\, w godz. 10:00-18:00 oraz w soboty w godz. 10:00-17:00.
URL:https://kultura.tarnow.pl/wydarzenie/tozsamosc-andrzej-grudzien-2/2024-10-12/
LOCATION:Tarnowskie Centrum Kultury\, Rynek 5\, Tarnów\, małopolskie\, 33-100\, Polska
CATEGORIES:wystawy
GEO:50.012155;20.9878542
X-APPLE-STRUCTURED-LOCATION;VALUE=URI;X-ADDRESS=Tarnowskie Centrum Kultury Rynek 5 Tarnów małopolskie 33-100 Polska;X-APPLE-RADIUS=500;X-TITLE=Rynek 5:geo:20.9878542,50.012155
END:VEVENT
BEGIN:VEVENT
DTSTART;TZID=Europe/Warsaw:20241012T110000
DTEND;TZID=Europe/Warsaw:20241012T130000
DTSTAMP:20260423T115542
CREATED:20241004T071539Z
LAST-MODIFIED:20241004T071539Z
UID:10020631-1728730800-1728738000@kultura.tarnow.pl
SUMMARY:Sobota w Pałacu
DESCRIPTION:Jak sobota\, to tylko w Pałacu 🙂 \nSobota w Pałacu to nasza nowa propozycja\, która pozwoli na atrakcyjne spędzanie wolnego czasu. Warsztaty zaplanowano na wybrane soboty\, w godzinach 11.00 – 13.00. Spotkania będą cykliczne i obejmą działania z zakresu rzemiosła\, majsterkowania\, upcyklingu\, szycia\, rękodzieła i sztuk plastycznych. Planujemy także warsztaty taneczne\, muzyczne i sportowe. Część warsztatów przyjmie formułę działań rodzinnych. Do wspólnego tworzenia zaprosimy dzieci z rodzicami\, dziadkami lub starszym rodzeństwem. Uczestnicy będą pracować pod okiem wyspecjalizowanej kadry. Wśród sobotnich propozycji znajdą się także wymiany różnych przedmiotów. Będzie to okazja do domowych porządków i podzielenia się rzeczami. Nie wyrzucamy\, uwalniamy – niech cieszą innych! Wszystkim obiecujemy super zabawę\, pełną niekończących się pomysłów i kreatywności. Zapraszamy! \nMiejsce spotkań: Pałac Młodzieży w Tarnowie\, ul. Piłsudskiego 24 \nUWAGA! Warsztaty są bezpłatne\, ilość miejsc ograniczona. \nHarmonogram spotkań: \n12.10.2024  Eko ozdoby z jesiennych darów natury – rodzinne warsztaty plastyczne (dzieci w wieku 6 – 8 lat + osoba dorosła) \nProwadzenie: Maria Mendel \nZgłoszenia do 9.10.2024 lub do wyczerpania miejsc na adres: m.mendel@pm.tarnow.pl \n19.10.2024  Latawce i wiatr – warsztaty modelarskie (wiek uczestników 7 – 14 lat)  \nProwadzenie: Wojciech Brajowski \nZgłoszenia w terminie 1.10 – 16.10.2024 lub do wyczerpania miejsc na adres: w.brajowski@pm.tarnow.pl lub telefonicznie 694 313 571 \n26.10.2024  Pałacowe wymianki\, czyli daj przedmiotom drugie życie – wymiana zabawek\, gier planszowych i książek dla dzieci \nOrganizacja: Joanna Wielgus\, Ewelina Janikowska Zgłoszenia w terminie 1.10 – 18.10.2024 lub do wyczerpania miejsc na adres: mcwtarnow@gmail.com \n16.11.2024  Między dźwiękami – zajęcia umuzykalniające dla dzieci (wiek uczestników 6 – 7 lat) \nProwadzenie: Iwona Kędroń \nZgłoszenia w terminie 4.11 – 14.11.2024 lub do wyczerpania miejsc na adres: i.kedron@pm.tarnow.pl \n23.11.2024  Tańczyć każdy może – warsztaty taneczne/w programie popularne tańce grupowe   (wiek uczestników 10 – 12 lat)    \nProwadzenie: Maria Szydłowska \nZgłoszenia w terminie 8.11 – 20.11.2024 lub do wyczerpania miejsc na adres: m.szydlowska@pm.tarnow.pl lub telefonicznie 505 677 502 \n30.11.2024  Ozdoby choinkowe z banerów. Upcyklingowe warsztaty plastyczne  (wiek uczestników  8 – 15 lat)  \nProwadzenie: Iwona Gąsior \nZgłoszenia w terminie 12.11 – 27.11.2024 lub do wyczerpania miejsc na adres: i.gasior@pm.tarnow.pl \n7.12.2024  Zimowy skrzacik – zawieszka. Warsztaty hande made (wiek uczestników 8 – 10 lat)         \nProwadzenie: Joanna Wielgus \nZgłoszenia w terminie 25.11 – 5.12.2024 lub do wyczerpania miejsc na adres: j.wielgus@pm.tarnow.pl                                                                                                                                 
URL:https://kultura.tarnow.pl/wydarzenie/sobota-w-palacu/2024-10-12/
LOCATION:Pałac Młodzieży\, ul. Piłsudskiego 24\, Tarnów\, małopolskie\, 33-100\, Polska
CATEGORIES:warsztaty
GEO:50.0172246;20.9854709
X-APPLE-STRUCTURED-LOCATION;VALUE=URI;X-ADDRESS=Pałac Młodzieży ul. Piłsudskiego 24 Tarnów małopolskie 33-100 Polska;X-APPLE-RADIUS=500;X-TITLE=ul. Piłsudskiego 24:geo:20.9854709,50.0172246
END:VEVENT
BEGIN:VEVENT
DTSTART;TZID=Europe/Warsaw:20241012T110000
DTEND;TZID=Europe/Warsaw:20241012T180000
DTSTAMP:20260423T115543
CREATED:20240927T110028Z
LAST-MODIFIED:20240927T110028Z
UID:10019526-1728730800-1728756000@kultura.tarnow.pl
SUMMARY:Salon Jesienny STAP
DESCRIPTION:W wystawie udział biorą: \nMałgorzata Andrzejewska\, Krystyna Baniowska-Stąsiek-Mejer\, Piotr Franciszek Barszczowski\, Dorota Bernacka\, Robert Bieńkowski\, Piotr Bubak\, Stanisław Chmiel\, Ewa Fleszar\, Roman Fleszar\, Weronika Fleszar\, Piotr Figiel\, Tomasz Głowacz\, Franciszek Kafel\, Kazimierz Klimkiewicz\, Roman Kobylarz\, Stanisław Kucharzyk\, Stefania Mazur\, Marek Niedojadło-Cichoński\, Katarzyna Pabis-Komorowska\, Przemysław Poręba\, Michał Poręba\, Lidia Połeć-Kantor\, Elżbieta Remian\, Jerzy Ruszel\, Wojciech Ruszel\, Elżbieta Sowa\, Anna Iga Skupińska\, Renata Stadler\, Anna Śliwińska\, Anna Świętek\, Kazimierz Twardowski\, Bożena Wojtanowska\, Marta Wojciechowska\, Grzegorz Wójcik\, Aleksandra Zuba-Benn\, Robert Żybura.
URL:https://kultura.tarnow.pl/wydarzenie/salon-jesienny-stap-2/2024-10-12/
LOCATION:Biuro Wystaw Artystycznych\, ul. Słowackiego 1\, Tarnów\, małopolskie\, 33-100\, Polska
CATEGORIES:wystawy
ATTACH;FMTTYPE=image/jpeg:https://kultura.tarnow.pl/wp-content/uploads/salon-jesienny-STAP-2024-plakat-1-scaled.jpg
ORGANIZER;CN="Biuro Wystaw Artystycznych":MAILTO:biuro@bwa.tarnow.pl
GEO:50.0178761;20.9827521
X-APPLE-STRUCTURED-LOCATION;VALUE=URI;X-ADDRESS=Biuro Wystaw Artystycznych ul. Słowackiego 1 Tarnów małopolskie 33-100 Polska;X-APPLE-RADIUS=500;X-TITLE=ul. Słowackiego 1:geo:20.9827521,50.0178761
END:VEVENT
BEGIN:VEVENT
DTSTART;TZID=Europe/Warsaw:20241012T160000
DTEND;TZID=Europe/Warsaw:20241012T173000
DTSTAMP:20260423T115543
CREATED:20241001T124540Z
LAST-MODIFIED:20241001T124540Z
UID:10020600-1728748800-1728754200@kultura.tarnow.pl
SUMMARY:Spotkanie z Andrzejem Graniakiem
DESCRIPTION:Spotkanie z Andrzejem Graniakiem współautorem komiksu o łuczniku Goranie \n12 października 2024 r. (sobota)\, godzina 16:00 \nCzytelnia Czasopism MBP\, ul. Krakowska 4 (parter) \n  \nWydarzenie to skierowane jest zarówno do fanów komiksu\, jak i miłośników literatury fantasy. Będzie doskonała okazją do poznania kulis powstawania komiksu „Goran”. Wstęp wolny. \n \nANDRZEJ GRANIAK\nConcept art jest jego wielką pasja. Ilustrator\, rysownik\, łucznik. Sprawował funkcję prezesa w Stowarzyszeniu Polskich Artystów Karykatury. Jako rysownik satyryczny zdobył wiele nagród w prestiżowych konkursach organizowanych Polsce i na świecie. Publikował swoje prace w prasie. Ilustrował książki i publikacje współpracując z wieloma instytucjami. Stworzył program edukacyjny w ramach Potęgi Obrazu – pierwszej w Polsce szkoły concept artu. Prowadził szkolenia z digital paintingu pod kątem przygotowania concept artystów do projektowania na potrzeby gier komputerowych. Zrealizował wiele odcinków komiksów publikowanych w magazynie „Tak Rodzinie” jak również pełne albumy komiksowe („Mistral – opowieść o dzielnym rybaku z Ustki”\, „Zbuntowani. Ursus’76”\, „Goran”).\nŹródło: https://szkolafilmowa.pl/pl/wsf/C_WSFO.WSF.KTG
URL:https://kultura.tarnow.pl/wydarzenie/spotkanie-z-andrzejem-graniakiem/
LOCATION:Czytelnia Czasopism Bieżących\, ul. Krakowska 4 (parter)\, Tarnów\, 33-100\, Polska
CATEGORIES:spotkania
ATTACH;FMTTYPE=image/jpeg:https://kultura.tarnow.pl/wp-content/uploads/Graniak_slider.jpg
END:VEVENT
BEGIN:VEVENT
DTSTART;TZID=Europe/Warsaw:20241012T180000
DTEND;TZID=Europe/Warsaw:20241012T210000
DTSTAMP:20260423T115543
CREATED:20240913T093436Z
LAST-MODIFIED:20240913T093436Z
UID:10019429-1728756000-1728766800@kultura.tarnow.pl
SUMMARY:XIII Międzynarodowy Festiwal Teatrów Tańca "Scena Otwarta"
DESCRIPTION:5 – 20 października 2024 \nHasło przewodnie XIII edycji będzie brzmieć „Głos Twojego życia”. Język tanecznych narracji i impresji wyrazi te momenty ludzkiego życia\, które znacząco odkrywają jego prawdę. Odwołujemy się do wybitnych dokonań teatru tańca określających nasze ludzkie uniwersum. \n\nProgram XII Międzynarodowego Festiwalu Teatrów Tańca Scena Otwarta: \n5 października\, godz. 18:00 – „Nowe Szaty Króla” – Teatr Avatar / Polska \nBarwny\, dynamiczny i przewrotny spektakl łączy klasyczne teksty Andersena ze swingowymi choreografiami. Widowisko skomponowane z kontrastujących sobie smaków wzmacniających doznania widza – od słodkiej miłości\, przez gorzkie oblicze władzy oraz pikantne walki po słone łzy. Całość okraszona akrobatyką i popisami tanecznymi\, czule objęta magiczną oprawą z udziałem fantastycznych stworów.\nReżyseria i adaptacja: Kamil J. Przyboś\, choreografia: Ada Pankowska-Michalczyk\nCzas trwania: 80 minut (bez przerwy) \n6 października\, godz. 18:00 – „Aire Sakona” i „Hondo” – Dantzaz / Hiszpania \n„Aire Sakona” koncentruje się na wzajemnym połączeniu ruchu ciała\, mikrospołeczności i zbiorowej ekspresji artystycznej. To dzieło jest wynikiem głębokiego procesu twórczego\, w którym każdy ruch\, każdy gest i każda interakcja między tancerzami mają na celu uchwycenie istoty człowieczeństwa w ruchu. Tytuł „Aire Sakona” pochodzi z poematu „Lo profundo es el aire” Jorge Guilléna\, który również zainspirował serię rzeźb Chillidy. Poemat ten podkreśla znaczenie powietrza jako symbolu egzystencji i wolności\, które są kluczowymi elementami w tej choreograficznej pracy.\nchoreografia: Jacek Przybyłowicz \nSpektakl „Hondo” skupia się na pojęciach takich jak otchłań\, tajemnica\, ewolucja i ponadczasowość\, eksplorując bezmiar morza jako źródło inspiracji. Paolo Mohovich chce przekazać emocje i tajemnicę poprzez ten artystyczny akcent w „Hondo”.\nchoreografia: Paolo Mohovich – Hiszpania\nCzas trwania: 65 minut z przerwą \n11 października\, godz. 18:00 – „Syrenka Ariel”\, Kielecki Teatr Tańca / Polska \nJęzykiem tańca opowiadana jest historia wzajemnej miłości syreny – Ariel i człowieka – Księcia Eryka. Dzięki miłości przezwyciężają oni przeciwności losu i działania podstępnej Wiedźmy morskiej Ursuli. Król Tryton po wielu perypetiach\, przekonując się o sile uczuć zakochanych\, ostatecznie ofiaruje syreniej córce ludzką postać i zgadza się na poślubienie przez nią Księcia Eryka. Ariel i Eryk pozostają na zawsze razem. Akcja rozgrywa się w podwodnym świecie\, w którym spotykamy oprócz tytułowej Ariel\, jej przyjaciółkę Rybkę Florkę\, Kraba Sebastiana oraz wiele podwodnych postaci. Spektakl ukazuje żywotność oraz piękno podwodnego świata dzięki zastosowaniu ciekawych kompozycji choreograficznych\, hybrydowych kostiumów\, wielowymiarowych projekcji\, dynamicznej scenografii oraz kolorowych świateł. Sceny taneczne zrealizowane są w stylu tańca jazzowego\, współczesnego i klasycznego. Postaci morskie tańczą np. swing\, charleston\, mambo\, jazz\, modern jazz wykazują się głębią różnych interpretacji i wprawną techniką wykonania. \nchoreografia: Elżbieta Pańtak\, Grzegorz Pańtak\nCzas trwania: 120 minut z przerwą \n 12 październik\, godz. 18:00 – „Wiosenna podróż”\, Roman Komassa / Niemcy \nProjekt inspirowany jest muzyką i tekstem Franza Schuberta do utworu „Die Winterreise”. Choreograf Roman Komassa porusza sferę najbliższą człowiekowi\, jego osobiste marzenia i tęsknoty – w wiosennej podróży pomimo chwili zadumy można będzie odnaleźć optymizm i nadzieję. W obecnej chwili problemów ogólnoświatowych każdy z nas oczekuje chwili odpoczynku – refleksji. Poprzez technikę tańca klasycznego i współczesnego. Roman Komassa pragnie uruchomić wyobraźnię widza\, gdzie estetyka ciała i harmonia muzyki\, pozwolą oderwać się od codziennych spraw.\nChoreografia i reżyseria projektu: Roman Komassa\nWystępują: Alina Umbach\, Nora Ebeling\, Vanessa Schmidt\, Sina Sinatra\, Roman Komassa\nCzas trwania: 60 minut bez przerwy \n 19 października 2024 – konkurs choreograficzny „My Dance” i gala finałowa \nKonkurs Choreograficzny to działanie\, które sprawdziło się w poprzednich latach jako skuteczna forma promowania szczególnie zdolnych choreografów młodego pokolenia. Możliwość zaprezentowania swojego projektu w otoczeniu profesjonalnej sceny jest wysoko oceniana przez uczestników Konkursu. Konkurs Choreograficzny zaplanowany jest na 19 października. Gala finałowa zaplanowana jest na godzinę 18.00 również 19 października. \n 5 – 20 października – wystawa „Source of Dance” \nWystawa prezentująca taniec jako żywą\, znaczącą i różnorodną formę ekspresji kulturowej. Muzyka i taniec zawsze były niezbędne w życiu duchowym i kulturalnym wielu społeczności. Unikalne formy tańca rytualnego i ceremonialnego przekazywane z pokolenia na pokolenie stanowią dziś istotną częścią życia mieszkańców wielu rejonów świata. Bogate tradycje muzyczne i taneczne tworzą silne więzi\, które łączą społeczności mieszkańców ze wszystkimi żywymi istotami\, z ziemią\, światem duchów i z przeszłością. Wystawa prezentować będzie fotografie i filmy\, stanowiące przykłady tańców ceremonialnych z wybranych zakątków świata\, m.in. z Japonii\, Ameryki Południowej\, Afryki\, Oceanii. \n„Dofinansowano ze środków Ministra Kultury i Dziedzictwa Narodowego pochodzących z Funduszu Promocji Kultury – państwowego funduszu celowego\, w ramach programu „Taniec”\, realizowanego przez Narodowy Instytut Muzyki i Tańca” \n 
URL:https://kultura.tarnow.pl/wydarzenie/xiii-miedzynarodowy-festiwal-teatrow-tanca-scena-otwarta/2024-10-12/
LOCATION:Centrum Sztuki Mościce\, Traugutta 1\, Tarnów\, małopolskie\, 33-101\, Polska
CATEGORIES:festiwale
ATTACH;FMTTYPE=image/jpeg:https://kultura.tarnow.pl/wp-content/uploads/zdjecie-wydarzenia.jpg
GEO:50.009833;20.92706
X-APPLE-STRUCTURED-LOCATION;VALUE=URI;X-ADDRESS=Centrum Sztuki Mościce Traugutta 1 Tarnów małopolskie 33-101 Polska;X-APPLE-RADIUS=500;X-TITLE=Traugutta 1:geo:20.92706,50.009833
END:VEVENT
BEGIN:VEVENT
DTSTART;TZID=Europe/Warsaw:20241012T190000
DTEND;TZID=Europe/Warsaw:20241012T210000
DTSTAMP:20260423T115543
CREATED:20240923T072327Z
LAST-MODIFIED:20240923T072327Z
UID:10019442-1728759600-1728766800@kultura.tarnow.pl
SUMMARY:100-lat Marzenia na Staszica 4
DESCRIPTION:„5 października 1924 roku w niedzielę w nowo wybudowanym przez Towarzystwo Szkoły Ludowej gmachu kina Marzenie odbyła się pierwsza projekcja”. \nR. Włodek 100 lat Marzenia. Historia kina w Tarnowie \nZ okazji 100-lecia powstania siedziby kina Marzenia przy ulicy Staszica 4 zaplanowano szereg wydarzeń: \nBilety: 1 zł \n1 października godz. 19:00  \nMarzenie (nie)oczywiste – wernisaż prac i spotkanie z autorami projektu fotograficznego Tarnowskiego Towarzystwa Fotograficznego \noraz projekcja specjalna Czy widzieliście już mój film? reż. Paul Anton Smith \nKup bilet \n5 października godz. 19:00 \nKoncert z okazji 100-lecia – Kwartet wokalny VoiceBand i Ewelina Flinta \nKup bilet \n6 października godz. 19:00 \nspotkanie i dyskusja z Patrycją Muchą-Smolińską i Sebastianem Smolińskim \nora projekcja filmuDeszczowa piosenka reż. Stanley Donen\, Gene Kelly \nKup bilet \n12 października godz. 19:00 \nspotkanie i dyskusja ze Stanisławem Janickim \nprojekcja filmu Codzienne marzenia reż. Buster Keaton \nKup bilet \n19 października godz. 19:00  \nspotkanie i dyskusja z Dianą Dąbrowską \nprojekcja filmu Chłopcy z ferajny reż. Martin Scorsese \nKup bilet \n27 października godz. 19:00 \nspotkanie i dyskusja z Tomaszem Raczkiem \nprojekcja filmu Co zdarzyło się Baby Jane reż. Robert Aldrich spotkanie i dyskusja z Tomaszem Raczkiem \nKup bilet \nWszystkie wydarzenia zrealizowane są dzięki wsparciu finansowemu Krajowego Planu Odbudowy i Zwiększania Odporności w ramach Europejskiego Planu Odbudowy. \n \n 
URL:https://kultura.tarnow.pl/wydarzenie/100-lat-marzenia-na-staszica-4/2024-10-12/
LOCATION:Kino „Marzenie”\, ul. Staszica 4\, Tarnów\, małopolskie\, 33-100\, Polska
CATEGORIES:filmy,koncerty
ATTACH;FMTTYPE=image/jpeg:https://kultura.tarnow.pl/wp-content/uploads/461104135_1423202821956362_7791282421005312227_n.jpg
GEO:50.011762;20.9833798
X-APPLE-STRUCTURED-LOCATION;VALUE=URI;X-ADDRESS=Kino „Marzenie” ul. Staszica 4 Tarnów małopolskie 33-100 Polska;X-APPLE-RADIUS=500;X-TITLE=ul. Staszica 4:geo:20.9833798,50.011762
END:VEVENT
BEGIN:VEVENT
DTSTART;TZID=Europe/Warsaw:20241012T200000
DTEND;TZID=Europe/Warsaw:20241012T213000
DTSTAMP:20260423T115543
CREATED:20240829T113019Z
LAST-MODIFIED:20240829T113019Z
UID:10019384-1728763200-1728768600@kultura.tarnow.pl
SUMMARY:BIOS "Pierwsze rozdanie"
DESCRIPTION:Grają z największymi gwiazdami\, chcą też tworzyć własne brzmienia. Zespół BIOS z debiutancką płytą wystąpi w Tarnowie.\nTarnowskie Centrum Kultury zaprasza na koncert zespołu BIOS. Muzycy\, którzy na co dzień współpracują z największymi gwiazdami polskiej sceny muzycznej\, zaprezentują w Tarnowie swój debiutancki album zatytułowany „Pierwsze rozdanie”. Smaczku dodaje fakt\, że dwóch członków zespołu BIOS pochodzi właśnie Tarnowa – Daniel Kapustka oraz Kacper Stolarczyk. Koncert grupy BIOS odbędzie się 12 października. \nDoświadczeni muzycy połączyli swoje siły\, tworząc muzykę łączącą pop\, blues i soul. W skład zespołu wchodzą Kamil Bijoś\, Kacper Stolarczyk\, Daniel Kapustka\, Wojtek Famielec\, Artur Michalski. Każdy z nich ma za sobą współpracę z topowymi artystami polskiej estrady m.in. KAYAH\, Darią Zawiałow\, Mrozu\, CLEO czy O.S.T.R. Jako zespół BIOS wystąpili już na takich festiwalach jak Santander Letnie Brzmienia\, czy Next Fest\, gdzie swoją muzyką porwali publiczność. \nFormacja powstała w 2023 roku\, a w kwietniu tego roku wydali debiutancki album „Pierwsze rozdanie”. Tak jak niebanalna jest ich muzyka\, taka jest też ich pierwsza płyta. Została wydana jako talia kart do gry z podobiznami członków zespołu. Na pudełku jest kod QR\, dzięki któremu słuchacz pobierze na własność piosenki zespołu. Do świetnej zabawy kartami i słuchania muzyki jest dodany bonus – live sesja zespołu nieopublikowana nigdzie indziej. \nSingiel promujący album – KLIKNIJ \nData i godzina: 12.10.2024 r.\, godz. 20.00\n Miejsce: Piwnice TCK (Tarnów\, Rynek 5)\n Bilety: 30 zł (do nabycia on-line oraz w TCK od 1 września)\nIlość miejsc ograniczona.
URL:https://kultura.tarnow.pl/wydarzenie/bios-pierwsze-rozdanie/
LOCATION:Tarnowskie Centrum Kultury\, Rynek 5\, Tarnów\, małopolskie\, 33-100\, Polska
CATEGORIES:koncerty
ATTACH;FMTTYPE=image/jpeg:https://kultura.tarnow.pl/wp-content/uploads/31270c439062221a981155eefc82240c.jpeg
GEO:50.012155;20.9878542
X-APPLE-STRUCTURED-LOCATION;VALUE=URI;X-ADDRESS=Tarnowskie Centrum Kultury Rynek 5 Tarnów małopolskie 33-100 Polska;X-APPLE-RADIUS=500;X-TITLE=Rynek 5:geo:20.9878542,50.012155
END:VEVENT
END:VCALENDAR