BEGIN:VCALENDAR
VERSION:2.0
PRODID:-//kultura.tarnów - ECPv6.4.0.1//NONSGML v1.0//EN
CALSCALE:GREGORIAN
METHOD:PUBLISH
X-WR-CALNAME:kultura.tarnów
X-ORIGINAL-URL:https://kultura.tarnow.pl
X-WR-CALDESC:Wydarzenia dla
REFRESH-INTERVAL;VALUE=DURATION:PT1H
X-Robots-Tag:noindex
X-PUBLISHED-TTL:PT1H
BEGIN:VTIMEZONE
TZID:Europe/Warsaw
BEGIN:DAYLIGHT
TZOFFSETFROM:+0100
TZOFFSETTO:+0200
TZNAME:CEST
DTSTART:20240331T010000
END:DAYLIGHT
BEGIN:STANDARD
TZOFFSETFROM:+0200
TZOFFSETTO:+0100
TZNAME:CET
DTSTART:20241027T010000
END:STANDARD
END:VTIMEZONE
BEGIN:VEVENT
DTSTART;TZID=Europe/Warsaw:20241007T100000
DTEND;TZID=Europe/Warsaw:20241007T180000
DTSTAMP:20260423T082257
CREATED:20240927T102243Z
LAST-MODIFIED:20240927T102243Z
UID:10019468-1728295200-1728324000@kultura.tarnow.pl
SUMMARY:„Koń jaki jest?” - wystawa edukacyjna
DESCRIPTION:7 października – 6 grudnia\, w godzinach otwarcia – wystawa edukacyjna\n \nWystawa „Koń jaki jest?” to pełna uroku podróż przez świat koni przedstawionych w sztuce i kulturze. Zainspirowana książką „Zwierzyniec. Okazy wybrane” (wyd. Międzynarodowe Centrum Kultury w Krakowie i Wydawnictwo Dwie Siostry)\, wystawa prezentuje rozmaite ujęcia tego niezwykłego zwierzęcia – od historycznych ilustracji po ludowe zabawki. \nKonie\, te pracowite\, dumne\, ale i pełne gracji stworzenia\, były i są źródłem inspiracji dla artystów. Na wystawie można zobaczyć różnorodne dzieła: od rysunków i rycin wielkich mistrzów\, takich jak Józef Chełmoński czy Artur Grottger\, po barwne zabawki z drewna\, które bawiły dzieci w dawnych czasach. Wystawa pokazuje\, jak koń był postrzegany na przestrzeni wieków – jako towarzysz w pracy\, wojownik na polu bitwy\, a także obiekt codziennego życia i sztuki ludowej. \nKażdy koń na tej wystawie jest inny: niektóre są spokojne i zadumane\, inne rozbrykane i dzikie jak mustangi. Znajdziemy tu konie z rycin z XIX wieku\, tradycyjne wycinanki ludowe\, a także zabawki z drewna\, które przywodzą na myśl dzieciństwo i dawny świat. \nWystawę w holu Domu Kultury Westerplatte prezentujemy dzięki uprzejmości Międzynarodowego Centrum Kultury w Krakowie. Wstęp bezpłatny.
URL:https://kultura.tarnow.pl/wydarzenie/kon-jaki-jest-wystawa-edukacyjna/2024-10-07/
LOCATION:Dom Kultury Westerplatte 8a\, Westerplatte 8a\, Tarnów\, Polska - małopolskie\, 33-100\, Polska
CATEGORIES:wystawy
ATTACH;FMTTYPE=image/jpeg:https://kultura.tarnow.pl/wp-content/uploads/Kon-jaki-jest_wystawa.jpg
ORGANIZER;CN="Dom Kultury Westerplatte 8a":MAILTO:westerplatte@tck.pl
GEO:50.0273033;21.0087361
X-APPLE-STRUCTURED-LOCATION;VALUE=URI;X-ADDRESS=Dom Kultury Westerplatte 8a Westerplatte 8a Tarnów Polska - małopolskie 33-100 Polska;X-APPLE-RADIUS=500;X-TITLE=Westerplatte 8a:geo:21.0087361,50.0273033
END:VEVENT
BEGIN:VEVENT
DTSTART;TZID=Europe/Warsaw:20241007T140000
DTEND;TZID=Europe/Warsaw:20241007T150000
DTSTAMP:20260423T082257
CREATED:20241002T073409Z
LAST-MODIFIED:20241002T073409Z
UID:10020602-1728309600-1728313200@kultura.tarnow.pl
SUMMARY:Jubileusz 40-lecia Muzeum Etnograficznego w Tarnowie.
DESCRIPTION:7 października 2024 roku\, o godzinie 14.00 odbędzie się Jubileusz 40-lecia Muzeum Etnograficznego w Tarnowie. \n Jubileusz ten wiąże się z datą 1984 r.\, kiedy Muzeum Etnograficzne zaczęło funkcjonować w obecnej siedzibie – wyremontowanym\, zabytkowym dworku podmiejskim\, zlokalizowanym przy ulicy Krakowska 10. \nUroczystość będzie okazją do przypomnienia historii oddziału\, spotkania przedstawicieli władz\, środowisk twórców ludowych\, dawnych i obecnych pracowników i uhonorowania najważniejszych osób związanych z Muzeum. W trakcie uroczystości otwarta zostanie kolejna edycja cieszącej się ogromnym zainteresowaniem wystawy czasowej pt. „W babcinej izbie” prezentującej wnętrze chłopskiej chaty z regionu tarnowskiego z przełomu XIX i XX wieku oraz czasowa wystawa fotograficzna „Miejsce\, ludzie\, wspomnienia…Jubileusz 40-lecia Muzeum Etnograficznego w Tarnowie”. \nPatronat Honorowy: Iwona Gibas – Członek Zarządu Województwa Małopolskiego
URL:https://kultura.tarnow.pl/wydarzenie/jubileusz-40-lecia-muzeum-etnograficznego-w-tarnowie/
LOCATION:Muzeum Etnograficzne\, ul. krakowska 10\, Tarnów\, małopolskie\, 33-100\, Polska
CATEGORIES:wernisaże
GEO:50.01092;20.98332
X-APPLE-STRUCTURED-LOCATION;VALUE=URI;X-ADDRESS=Muzeum Etnograficzne ul. krakowska 10 Tarnów małopolskie 33-100 Polska;X-APPLE-RADIUS=500;X-TITLE=ul. krakowska 10:geo:20.98332,50.01092
END:VEVENT
BEGIN:VEVENT
DTSTART;TZID=Europe/Warsaw:20241007T143000
DTEND;TZID=Europe/Warsaw:20241007T150000
DTSTAMP:20260423T082257
CREATED:20240923T092551Z
LAST-MODIFIED:20240923T092551Z
UID:10019446-1728311400-1728313200@kultura.tarnow.pl
SUMMARY:Władysław Pluta - "Wystawa Plakatów"
DESCRIPTION:Liceum Sztuk Plastycznych w Tarnowie zaprasza na wernisaż wystawy plakatów Władysława Pluty.\n\nWystawę stanowi wybór niemal trzydziestu prac artysty z ostatnich 20 lat działalności projektowej. Prezentowane plakaty do wystaw\, festiwali czy konkursów pokazują cechy charakterystyczne dla jego twórczości — mistrzostwo w posługiwaniu się typografią\, ograniczenie do absolutnego minimum środków formalnych\, niezwykłą siłę wyrazu\, prowokowanie odbiorcy do gry w skojarzenia…\n\nWładysław Pluta urodził się 28 kwietnia 1949 w Jeleniu\, studiował na Wydziale Form Przemysłowych ASP w Krakowie\, dyplom z medalem w 1974 w Katedrze Komunikacji Wizualnej u doc. Ryszarda Otręby.\nPraca na Wydziale 1974: 1974 asystent stażysta; 1975 asystent; 1977 starszy asystent; 1982 przewód kwalifikacyjny I stopnia i stanowisko adiunkta; 1987 przewód kwalifikacyjny II stopnia; 1988 docent; 1992 stanowisko profesora nadzwyczajnego; 2002 tytuł profesora sztuk plastycznych; 2005 stanowisko profesora zwyczajnego; 1997–2002 kierownik Katedry Komunikacji Wizualnej; 1987–1990 prodziekan WFP\, 1990–1993 dziekan WFP.\nDziałalność twórcza: grafika i projektowanie.\nDziałalność poza Wydziałem: 1993–1996 prorektor; 2009–2012 profesor na Wydziale Sztuki Uniwersytetu Technicznego w Koszycach; prowadził zajęcia w uczelniach w Lublanie\, Maidstone\, Tuluzie\, Mediolanie\, Bratysławie\, Santiago\, Antofagaście\, Viña del Mar\, Montrealu\, Zlínie\, oraz Budapeszcie; członek ZPAP\, członek SPFP\, członek honorowy Stowarzyszenia Twórców Grafiki Użytkowej\, członek Komisji Ergonomicznej Oddz. PAN w Krakowie.\nNagrody: w dziedzinie plakatu: Biennale Plakatu Polskiego w Katowicach – 1977\, 1987 Brązowy Medal\, 1985 Grand Prix\, 1997\, 2003 Złoty Medal; Międzynarodowe Biennale Plakatu w Warszawie – 1986 dwie nagrody fundowane; Międzynarodowa Wystawa Projektowania Graficznego Zgraf  w Zagrzebiu – 1987 nagroda równorzędna; Międzynarodowe Biennale Wzornictwa Przemysłowego Bio w Lublanie – 1988 dwa wyróżnienia; Międzynarodowe Triennale Plakatu w Trnawie – 1994 Master’s Eye Award; Międzynarodowe Triennale Plakatu Scenicznego w Sofii – 1998 I nagroda; Międzynarodowe Biennale Plakatu Społeczno-Politycznego w Oświęcimiu  – 2010 II Nagroda; inne: 1994–2014 w konkursie PTWK „Najpiękniejsze książki roku” 11 nagród i 34 wyróżnienia; 2002 nagroda honorowa PTWK za osiągnięcia w projektowaniu książek; 2004 nagroda indywidualna Ministra Kultury; 2007 Nagroda Głównego Inspektora Pracy im. Haliny Krahelskiej.\nOdznaczenia: 2007 Srebrny Krzyż Zasługi; 2008 Srebrny Medal Zasłużony Kulturze Gloria Artis; 2013 Krzyż Oficerski Orderu Odrodzenia Polski.\nInne: 2013 tytuł Doktora Honoris Causa Uniwersytetu Technicznego w Koszycach.\n\n7 października 2024\n\ng. 14.30\n\nGALERIA LSP / parter / ul. Westwalewicza 6\n\n__
URL:https://kultura.tarnow.pl/wydarzenie/wladyslaw-pluta-wystawa-plakatow/
LOCATION:Zespół Szkół Plastycznych\, ul. Westwalewicza 6\, Tarnów\, małopolskie\, 33-100\, Polska
CATEGORIES:wernisaże
GEO:50.011545;20.994775
X-APPLE-STRUCTURED-LOCATION;VALUE=URI;X-ADDRESS=Zespół Szkół Plastycznych ul. Westwalewicza 6 Tarnów małopolskie 33-100 Polska;X-APPLE-RADIUS=500;X-TITLE=ul. Westwalewicza 6:geo:20.994775,50.011545
END:VEVENT
END:VCALENDAR