BEGIN:VCALENDAR
VERSION:2.0
PRODID:-//kultura.tarnów - ECPv6.4.0.1//NONSGML v1.0//EN
CALSCALE:GREGORIAN
METHOD:PUBLISH
X-WR-CALNAME:kultura.tarnów
X-ORIGINAL-URL:https://kultura.tarnow.pl
X-WR-CALDESC:Wydarzenia dla
REFRESH-INTERVAL;VALUE=DURATION:PT1H
X-Robots-Tag:noindex
X-PUBLISHED-TTL:PT1H
BEGIN:VTIMEZONE
TZID:Europe/Warsaw
BEGIN:DAYLIGHT
TZOFFSETFROM:+0100
TZOFFSETTO:+0200
TZNAME:CEST
DTSTART:20240331T010000
END:DAYLIGHT
BEGIN:STANDARD
TZOFFSETFROM:+0200
TZOFFSETTO:+0100
TZNAME:CET
DTSTART:20241027T010000
END:STANDARD
END:VTIMEZONE
BEGIN:VEVENT
DTSTART;TZID=Europe/Warsaw:20241004T090000
DTEND;TZID=Europe/Warsaw:20241004T170000
DTSTAMP:20260423T082309
CREATED:20241001T085800Z
LAST-MODIFIED:20241001T085800Z
UID:10020597-1728032400-1728061200@kultura.tarnow.pl
SUMMARY:XXV Międzynarodowy Tabor Pamięci Romów i VI Konferencja Taborowa
DESCRIPTION:Tarnów 4-6 października 2024 \n80. rocznica likwidacji Zigeunerlager w Auschwitz-Birkenau \n60. rocznica akcji przymusowego osiedlania Romów \nNawiązując do realizowanego przez tarnowskie Muzeum przez wiele lat (od 1996 r.) projektu Międzynarodowy Tabor Pamięci Romów\, od roku 2019 formę wędrownego taboru zamieniliśmy na stacjonarne spotkanie naukowców różnych dyscyplin\, zajmujących się tematyką romską. Zachowując pierwotną nazwę – Tabor Pamięci był wszak również swoistym forum\, na którym te osoby się spotykały w bardziej luźnej atmosferze  – rozwinęliśmy nazwę projektu dodając Konferencja Taborowa. Obecna edycja jest szóstą konferencją. Spotkają się w jej trakcie naukowcy z różnych ośrodków\, zajmujący się różnorodną tematyką. W programie wyróżnia się blok trzech wystąpień związujących do 80 rocznicy likwidacji tzw. Cygańskiego Obozu Rodzinnego\, jaki Niemcy utworzyli na terenie obozu Auschwitz II (Birkenau) wiosną roku 1943\, a który zlikwidowali w nocy 2/3 sierpnia 1944 r. mordując w komorach gazowych ostatnich blisko 3000 Romów. \nMiejsce obrad: Tarnowskie Centrum Dialogu\, ul. Gumniska 30\, Tarnów \n PROGRAM VI KONFERENCJI TABOROWEJ \n Piątek 4 października: \n 16:00–17:00 Zwiedzanie ekspozycji „Romowie. Historia i kultura” w Muzeum Etnograficznym\, ul. Krakowska 10 \n18:00–20:30 obrady\, Tarnowskie Centrum Dialogu \n *Adam Bartosz\, Muzeum Ziemi Tarnowskiej (dawne Muzeum Okręgowe w Tarnowie) \nWokół książki dr hab. Emilii Kledzik „Perspektywa poety. Cyganologia Jerzego Ficowskiego” – dyskusja z udziałem Autorki \n*dr Magdalena Machowska\, Akademia Górniczo-Hutnicza\, Kraków \nGenealogia\, typologia\, opis ikonograficznych źródeł w książkowych cyganologicznych publikacjach Jerzego Ficowskiego  \n Sobota 5 października: \n9:30–12:00 obrady\, Tarnowskie Centrum Dialogu \nOficjalne przywitanie uczestników Konferencji: Kazimierz Kurczab\, dyrektor Muzeum Ziemi Tarnowskiej \ndr hab. Marcin Szewczyk\, Wyższa Szkoła Informatyki i Zarzadzania\, Rzeszów \nUnia równości. Między założeniami a rzeczywistością. Prezentacja raportu i warsztaty dotyczące równouprawnienia Romów \nAdam Bartosz\, Natalia Gancarz\, Muzeum Ziemi Tarnowskiej (dawniej Muzeum Okręgowe w Tarnowie) \nWystawa w Muzeum Etnograficznym w Tarnowie „Romowie. Historia i kultura”. Próba modernizacji ekspozycji muzealnej w świetle wyzwań procesów dekolonizacyjnych \n12:00–13:00 przerwa na kawę \n13:00–14:30 obrady \nprof. dr hab. Piotr Krzyżanowski\, Akademia im. Jakuba z Paradyża w Gorzowie Wielkopolskim [zoom] \nLudobójstwo Romów na terenie okupowanej przez Niemców Polski w latach 1939-1945 – stan i perspektywy badań \ndr Aleksandra Szczepan\, Universität Potsdam\, Poczdam [zoom] \nNa uboczu – na widoku. Negocjując romską widzialność w archiwach Holokaustu  \nAlicja Gontarek\, Uniwersytet im. Marii Curie-Skłodowskiej\, Lublin; IPN \nCyganie/Romowie w getcie warszawskim w świetle powojennych relacji romskich \n 15:00–15:30 przerwa obiadowa \n16:00–18:00 obrady \ndr Hubert Tubacki\, Uniwersytet im. A. Mickiewicza w Poznaniu \nPolak katolik Rom \ndr Wojciech Szymański\, Uniwersytet Warszawski\, Uniwersytet Ludwika i Maksymiliana w Monachium \nProjekt Manet. Romowie w polu sztuki na przełomie XIX i XX wieku \ndr. Kamila Fiałkowska\, dr Ignacy Jóźwiak\, dr Ela Mirga-Wójtowicz\, Monika Szewczyk\, Sonia Styrkacz\, Ośrodek Badań nad Migracjami UW \nNierówne obywatelstwo i transnarodowa mobilizacja polskich\, czeskich i ukraińskich Romów w obliczu wojny w Ukrainie (ROCIT) \nKaja Winniczek\, Stowarzyszenie Edukacji Krytycznej\, Wrocław \nProces tworzenia bezpiecznej przestrzeni umożliwiającej emancypację społeczności romskiej we Wrocławiu i Wałbrzychu. Wyzwania i dobre praktyki \n  Niedziela 6 października: \n Wycieczka autobusowa Małopolskim Szlakiem Martyrologii Romów (Tarnów-Żabno-Bielcza-Borzęcin Dolny-Szczurowa-Tarnów) \n10:00 wyjazd sprzed Hotelu Słoneczne Wzgórze\, ul. Sanguszków 28A\, Tarnów \n13:00 spotkanie memorialne przy grobie masowym w Szczurowej (cmentarz parafialny) \n15:00 powrót \n Organizatorzy: Komitet Opieki nad Zabytkami Kultury Żydowskiej w Tarnowie\, Muzeum Ziemi Tarnowskiej (dawniej Muzeum Okręgowe w Tarnowie) \nPartnerzy: Stowarzyszenie Kulturalno-Społeczne Romów „Centrum Kultury Romów w Polsce”\, Gmina Szczurowa\, Tarnowskie Centrum Dialogu \n Kontakt: Adam Bartosz–Kustosz Taborowy\, tel. +48 602 743 631; \nNatalia Czereśnia Gancarz tel. +48 604 781 312 \nProjekt realizowany dzięki dotacji przyznanej przez Ministra Spraw Wewnętrznych i Administracji w ramach Programu integracji społecznej i obywatelskiej Romów w Polsce na lata 2021-2030 \n  \n  \n 
URL:https://kultura.tarnow.pl/wydarzenie/xxv-miedzynarodowy-tabor-pamieci-romow-i-vi-konferencja-taborowa/2024-10-04/
LOCATION:Centrum Dialogu\, ul. Gumniska 30\, Tarnów\, Polska - małopolskie\, 33-100\, Poland
CATEGORIES:spotkania
END:VEVENT
BEGIN:VEVENT
DTSTART;TZID=Europe/Warsaw:20241004T180000
DTEND;TZID=Europe/Warsaw:20241004T190000
DTSTAMP:20260423T082309
CREATED:20240927T105659Z
LAST-MODIFIED:20240927T105659Z
UID:10019519-1728064800-1728068400@kultura.tarnow.pl
SUMMARY:Salon Jesienny Stap
DESCRIPTION:Wernisaż w piątek 4.10\, g. 18:00 \nW wystawie udział biorą: \nMałgorzata Andrzejewska\, Krystyna Baniowska-Stąsiek-Mejer\, Piotr Franciszek Barszczowski\, Dorota Bernacka\, Robert Bieńkowski\, Piotr Bubak\, Stanisław Chmiel\, Ewa Fleszar\, Roman Fleszar\, Weronika Fleszar\, Piotr Figiel\, Tomasz Głowacz\, Franciszek Kafel\, Kazimierz Klimkiewicz\, Roman Kobylarz\, Stanisław Kucharzyk\, Stefania Mazur\, Marek Niedojadło-Cichoński\, Katarzyna Pabis-Komorowska\, Przemysław Poręba\, Michał Poręba\, Lidia Połeć-Kantor\, Elżbieta Remian\, Jerzy Ruszel\, Wojciech Ruszel\, Elżbieta Sowa\, Anna Iga Skupińska\, Renata Stadler\, Anna Śliwińska\, Anna Świętek\, Kazimierz Twardowski\, Bożena Wojtanowska\, Marta Wojciechowska\, Grzegorz Wójcik\, Aleksandra Zuba-Benn\, Robert Żybura.
URL:https://kultura.tarnow.pl/wydarzenie/salon-jesienny-stap/
LOCATION:Biuro Wystaw Artystycznych\, ul. Słowackiego 1\, Tarnów\, małopolskie\, 33-100\, Polska
CATEGORIES:wernisaże
ATTACH;FMTTYPE=image/jpeg:https://kultura.tarnow.pl/wp-content/uploads/salon-jesienny-STAP-2024-plakat-1-scaled.jpg
ORGANIZER;CN="Biuro Wystaw Artystycznych":MAILTO:biuro@bwa.tarnow.pl
GEO:50.0178761;20.9827521
X-APPLE-STRUCTURED-LOCATION;VALUE=URI;X-ADDRESS=Biuro Wystaw Artystycznych ul. Słowackiego 1 Tarnów małopolskie 33-100 Polska;X-APPLE-RADIUS=500;X-TITLE=ul. Słowackiego 1:geo:20.9827521,50.0178761
END:VEVENT
BEGIN:VEVENT
DTSTART;TZID=Europe/Warsaw:20241004T180000
DTEND;TZID=Europe/Warsaw:20241004T193000
DTSTAMP:20260423T082309
CREATED:20240801T121937Z
LAST-MODIFIED:20240812T123823Z
UID:10019361-1728064800-1728070200@kultura.tarnow.pl
SUMMARY:"Kolega Mela Gibsona"
DESCRIPTION:Teatr im. Ludwika Solskiego w Tarnowie zaprasza na bardzo dobry tekst Tomasza Jachimka\, który z rozbrajającą niefrasobliwością i sporą dozą humoru ukazuje w krzywym zwierciadle różne cienie i blaski aktorskiego zawodu.\nLiczymy\, że powrót „Kolegi Mela Gibsona” w reżyserii Tomasza Piaseckiego ponownie spotka się z ciepłym przyjęciem publiczności. Ten spektakl to relacja aktora opowiadającego o swej wyboistej drodze artystycznej i życiowej\, w której otarł się o wielkość (spotkanie Mela Gibsona\, entuzjastycznie przyjęta rola w klasycznej sztuce „Cyrano de Bergerac”)\, ale i doznał bolesnego upadku (nieudany… napad na kantor).\nNa scenie: Jerzy Pal.
URL:https://kultura.tarnow.pl/wydarzenie/kolega-mela-gibsona/2024-10-04/
LOCATION:Teatr im. L.Solskiego\, Mickiewicza 4\, Tarnów\, małopolskie\, 33-100\, Polska
CATEGORIES:spektakle
GEO:50.0159214;20.987504
X-APPLE-STRUCTURED-LOCATION;VALUE=URI;X-ADDRESS=Teatr im. L.Solskiego Mickiewicza 4 Tarnów małopolskie 33-100 Polska;X-APPLE-RADIUS=500;X-TITLE=Mickiewicza 4:geo:20.987504,50.0159214
END:VEVENT
END:VCALENDAR