BEGIN:VCALENDAR
VERSION:2.0
PRODID:-//kultura.tarnów - ECPv6.4.0.1//NONSGML v1.0//EN
CALSCALE:GREGORIAN
METHOD:PUBLISH
X-WR-CALNAME:kultura.tarnów
X-ORIGINAL-URL:https://kultura.tarnow.pl
X-WR-CALDESC:Wydarzenia dla
REFRESH-INTERVAL;VALUE=DURATION:PT1H
X-Robots-Tag:noindex
X-PUBLISHED-TTL:PT1H
BEGIN:VTIMEZONE
TZID:Europe/Warsaw
BEGIN:DAYLIGHT
TZOFFSETFROM:+0100
TZOFFSETTO:+0200
TZNAME:CEST
DTSTART:20240331T010000
END:DAYLIGHT
BEGIN:STANDARD
TZOFFSETFROM:+0200
TZOFFSETTO:+0100
TZNAME:CET
DTSTART:20241027T010000
END:STANDARD
END:VTIMEZONE
BEGIN:VEVENT
DTSTART;TZID=Europe/Warsaw:20241003T090000
DTEND;TZID=Europe/Warsaw:20241003T130000
DTSTAMP:20260423T153956
CREATED:20240319T085535Z
LAST-MODIFIED:20240806T112257Z
UID:10018970-1727946000-1727960400@kultura.tarnow.pl
SUMMARY:"Tajemniczy ogród"
DESCRIPTION:4 i 5 kwietnia (czwartek\, piątek) godz. 9.00 i 11.30 oraz 6 kwietnia sobota godz. 16.00\, Duża Scena \nSceniczna adaptacja klasyki literatury dziecięcej. Osierocona 10-latka\, Mary Lennox\, przybywa do Anglii do swojego jedynego krewnego\, wuja Archibalda. Pojawienie się nowego mieszkańca w ponurym domu na wrzosowisku odmienia życie wielu osób. Magiczna opowieść o potrzebie miłości\, poszukiwaniu przyjaźni i uzdrowicielskiej mocy kontaktu z naturą. \nhttps://teatr.tarnow.pl/spektakle/spektakle-familijne/tajemniczy-ogrod/
URL:https://kultura.tarnow.pl/wydarzenie/tajemniczy-ogrod/2024-10-03/
LOCATION:Teatr im. L.Solskiego\, Mickiewicza 4\, Tarnów\, małopolskie\, 33-100\, Polska
CATEGORIES:spektakle
GEO:50.0159214;20.987504
X-APPLE-STRUCTURED-LOCATION;VALUE=URI;X-ADDRESS=Teatr im. L.Solskiego Mickiewicza 4 Tarnów małopolskie 33-100 Polska;X-APPLE-RADIUS=500;X-TITLE=Mickiewicza 4:geo:20.987504,50.0159214
END:VEVENT
BEGIN:VEVENT
DTSTART;TZID=Europe/Warsaw:20241003T170000
DTEND;TZID=Europe/Warsaw:20241003T180000
DTSTAMP:20260423T153956
CREATED:20240930T083553Z
LAST-MODIFIED:20240930T083553Z
UID:10020596-1727974800-1727978400@kultura.tarnow.pl
SUMMARY:Paweł Mróz "Sacrum Profanum"
DESCRIPTION:Wystawa malarstwa Pawła MrozaGaleria Niebieska MBP\, ul. Krakowska 4\, I piętroWernisaż wystawy w czwartek 3.10.2024\, godz. 17:00\n\nPAWEŁ MRÓZAbsolwent Państwowego Liceum Sztuk Plastycznych. Dyplom technika sztuk plastycznych w specjalizacji meblarstwo artystyczne (1980). Nauka malarstwa pod kierunkiem Piotra Drobieckiego\, Marka Dudka i Teresy Szafrańskiej. Wyobraźnia kształtowana sztuką naiwną\, abstrakcyjną\, realizmem\, fantazją\, popartem czy muralami i graffiti. Fascynacja malarstwem zarówno Nikifora\, jak i Stażewskiego\, Chagalla i Malewicza\, Warhola czy Banksy’ego. Od kilku lat z pasją oddaje się twórczości sakralnej.
URL:https://kultura.tarnow.pl/wydarzenie/pawel-mroz-sacrum-profanum/
LOCATION:Galeria Niebieska Miejskiej Biblioteki Publicznej im. J. Słowackiego w Tarnowie\, ul. Krakowska 4\, Tarnów\, małopolskie\, 33-100\, Polska
CATEGORIES:wernisaże
GEO:50.0114517;20.9842414
X-APPLE-STRUCTURED-LOCATION;VALUE=URI;X-ADDRESS=Galeria Niebieska Miejskiej Biblioteki Publicznej im. J. Słowackiego w Tarnowie ul. Krakowska 4 Tarnów małopolskie 33-100 Polska;X-APPLE-RADIUS=500;X-TITLE=ul. Krakowska 4:geo:20.9842414,50.0114517
END:VEVENT
BEGIN:VEVENT
DTSTART;TZID=Europe/Warsaw:20241003T180000
DTEND;TZID=Europe/Warsaw:20241003T200000
DTSTAMP:20260423T153956
CREATED:20240927T101824Z
LAST-MODIFIED:20240927T101824Z
UID:10019457-1727978400-1727985600@kultura.tarnow.pl
SUMMARY:„Odżywiaj się i żyj zgodnie z porami roku. 5 przemian w pigułce”
DESCRIPTION:Warsztaty zdrowego żywienia „Odżywiaj się i żyj zgodnie z porami roku. 5 przemian w pigułce” \nCykl 10 warsztatów przybliżających zasadę żywienia PIĘCIU PRZEMIAN według medycyny chińskiej\, będącą receptą na długie i zdrowe życie. Dowiecie się o charakterystyce energetycznej poszczególnych produktów i potraw\, które poprzez wybrane przyprawy i smaki (przypisane danej porze roku) wzmacniają poszczególne narządy. Będziemy gotować i smakować jedzenie – kawę i gulasze warzywne. Dostaniecie gotowe przepisy na każdą porę roku. \nDokładne terminy: 3\, 10\, 17\, 24 października\, 7\, 14\, 21\, 28 listopada\, 5\, 12 grudnia. \nOpłata za cały cykl: 270 zł (27 zł za spotkanie). Płatność jednorazowa. \nLiczba miejsc ograniczona\, decyduje kolejność wpłat. Zapisy: 888 655 101 -w informacji telefonicznej lub sms proszę podać imię\, nazwisko i adres mailowy\, na który wyślemy informacje o płatności. Wcześniejsza opłata jest warunkiem rezerwacji miejsca.
URL:https://kultura.tarnow.pl/wydarzenie/odzywiaj-sie-i-zyj-zgodnie-z-porami-roku-5-przemian-w-pigulce/2024-10-03/
LOCATION:Dom Kultury Westerplatte 8a\, Westerplatte 8a\, Tarnów\, Polska - małopolskie\, 33-100\, Polska
CATEGORIES:warsztaty
ATTACH;FMTTYPE=image/jpeg:https://kultura.tarnow.pl/wp-content/uploads/5przemian-w-pigulce-1.jpg
ORGANIZER;CN="Dom Kultury Westerplatte 8a":MAILTO:westerplatte@tck.pl
GEO:50.0273033;21.0087361
X-APPLE-STRUCTURED-LOCATION;VALUE=URI;X-ADDRESS=Dom Kultury Westerplatte 8a Westerplatte 8a Tarnów Polska - małopolskie 33-100 Polska;X-APPLE-RADIUS=500;X-TITLE=Westerplatte 8a:geo:21.0087361,50.0273033
END:VEVENT
END:VCALENDAR