BEGIN:VCALENDAR
VERSION:2.0
PRODID:-//kultura.tarnów - ECPv6.4.0.1//NONSGML v1.0//EN
CALSCALE:GREGORIAN
METHOD:PUBLISH
X-ORIGINAL-URL:https://kultura.tarnow.pl
X-WR-CALDESC:Wydarzenia dla
REFRESH-INTERVAL;VALUE=DURATION:PT1H
X-Robots-Tag:noindex
X-PUBLISHED-TTL:PT1H
BEGIN:VTIMEZONE
TZID:Europe/Warsaw
BEGIN:DAYLIGHT
TZOFFSETFROM:+0100
TZOFFSETTO:+0200
TZNAME:CEST
DTSTART:20240331T010000
END:DAYLIGHT
BEGIN:STANDARD
TZOFFSETFROM:+0200
TZOFFSETTO:+0100
TZNAME:CET
DTSTART:20241027T010000
END:STANDARD
END:VTIMEZONE
BEGIN:VEVENT
DTSTART;TZID=Europe/Warsaw:20241002T090000
DTEND;TZID=Europe/Warsaw:20241002T130000
DTSTAMP:20260423T054858
CREATED:20240319T085535Z
LAST-MODIFIED:20240806T112257Z
UID:10018969-1727859600-1727874000@kultura.tarnow.pl
SUMMARY:"Tajemniczy ogród"
DESCRIPTION:4 i 5 kwietnia (czwartek\, piątek) godz. 9.00 i 11.30 oraz 6 kwietnia sobota godz. 16.00\, Duża Scena \nSceniczna adaptacja klasyki literatury dziecięcej. Osierocona 10-latka\, Mary Lennox\, przybywa do Anglii do swojego jedynego krewnego\, wuja Archibalda. Pojawienie się nowego mieszkańca w ponurym domu na wrzosowisku odmienia życie wielu osób. Magiczna opowieść o potrzebie miłości\, poszukiwaniu przyjaźni i uzdrowicielskiej mocy kontaktu z naturą. \nhttps://teatr.tarnow.pl/spektakle/spektakle-familijne/tajemniczy-ogrod/
URL:https://kultura.tarnow.pl/wydarzenie/tajemniczy-ogrod/2024-10-02/
LOCATION:Teatr im. L.Solskiego\, Mickiewicza 4\, Tarnów\, małopolskie\, 33-100\, Polska
CATEGORIES:spektakle
GEO:50.0159214;20.987504
X-APPLE-STRUCTURED-LOCATION;VALUE=URI;X-ADDRESS=Teatr im. L.Solskiego Mickiewicza 4 Tarnów małopolskie 33-100 Polska;X-APPLE-RADIUS=500;X-TITLE=Mickiewicza 4:geo:20.987504,50.0159214
END:VEVENT
BEGIN:VEVENT
DTSTART;TZID=Europe/Warsaw:20241002T170000
DTEND;TZID=Europe/Warsaw:20241002T180000
DTSTAMP:20260423T054858
CREATED:20240927T101435Z
LAST-MODIFIED:20240927T101435Z
UID:10019456-1727888400-1727892000@kultura.tarnow.pl
SUMMARY:"Sadzimy przyszły cień"
DESCRIPTION:2 października (środa)\, godz. 17:00 – 18:00 \nObcowanie z naturą poprawia zdrowie i wpływa na samopoczucie. Lubimy jak zieleń przy Domu Kultury rośnie bujnie\, szumi i daje cień\, zatem zapraszamy na eko-akcję tuż przed jesienią! Będziemy sadzić winobluszcz\, który mamy nadzieję porośnie bujnie pergolę od strony łąki i będzie dawać przyjemny cień. Winobluszcz rozmnożyła zawodowo Magdalena Bańka – sąsiadka z talentem ogrodniczym. Przy pergoli zamontujemy plecione makramy\, po których będą mogły piąć się rośliny. Wykonała je Agnieszka Szułakiewicz.
URL:https://kultura.tarnow.pl/wydarzenie/sadzimy-przyszly-cien/
LOCATION:Dom Kultury Westerplatte 8a\, Westerplatte 8a\, Tarnów\, Polska - małopolskie\, 33-100\, Polska
CATEGORIES:warsztaty
ATTACH;FMTTYPE=image/jpeg:https://kultura.tarnow.pl/wp-content/uploads/sADZIMY-CIEN.jpg
ORGANIZER;CN="Dom Kultury Westerplatte 8a":MAILTO:westerplatte@tck.pl
GEO:50.0273033;21.0087361
X-APPLE-STRUCTURED-LOCATION;VALUE=URI;X-ADDRESS=Dom Kultury Westerplatte 8a Westerplatte 8a Tarnów Polska - małopolskie 33-100 Polska;X-APPLE-RADIUS=500;X-TITLE=Westerplatte 8a:geo:21.0087361,50.0273033
END:VEVENT
BEGIN:VEVENT
DTSTART;TZID=Europe/Warsaw:20241002T180000
DTEND;TZID=Europe/Warsaw:20241002T200000
DTSTAMP:20260423T054858
CREATED:20240912T102023Z
LAST-MODIFIED:20240912T102023Z
UID:10019423-1727892000-1727899200@kultura.tarnow.pl
SUMMARY:"Krakowskie klimaty" - koncert Beaty Rybotyckiej i Jacka Wójcickiego
DESCRIPTION:Beata Rybotycka i Jacek Wójcicki – artyści z gruntu krakowscy tworzą na scenie prawdziwy teatr! \nZa pomocą rekwizytów\, kostiumów i piosenek przywołują i wchodzą w role ikonicznych dla Krakowa postaci: Piotra Skrzyneckiego\, Marka Grechuty\, Anny Szałapak. Okazuje się\, że sami są takimi krakowskimi ikonami. Oglądamy Kraków w wielu odsłonach\, trochę z Piwnicy pod Baranami\, trochę z „Zielonego balonika”\, trochę z recitalu Zbigniewa Wodeckiego albo Skaldów. Taki\, jakim jest nadal: magiczny\, tradycyjny\, przeniknięty sztuką\, fascynujący. Tworzą teatr\, który jest głębokim oddechem\, wzruszeniem\, wytchnieniem i schronieniem przez agresywną codziennością. \nŚmiech jest najlepszym lekarstwem na wszystkie smutki\, przynosi wytchnienie. Jak mówił Piotr Skrzynecki: „bawcie się\, bo jak się sami nie zabawicie\, nikt was nie zabawi”. \n \nWystapią: Beata Rybotycka – wokal\, Jacek Wójcicki – wokal\, Konrad Mastyło – piano\, Michał Braszak – bas\, Michał Chytrzyński – skrzypce \nSROKA PRZEMYSLAW_TEL:793 333 601
URL:https://kultura.tarnow.pl/wydarzenie/krakowskie-klimaty-koncert-beaty-rybotyckiej-i-jacka-wojcickiego/
LOCATION:Centrum Sztuki Mościce\, Traugutta 1\, Tarnów\, małopolskie\, 33-101\, Polska
CATEGORIES:koncerty
ATTACH;FMTTYPE=image/jpeg:https://kultura.tarnow.pl/wp-content/uploads/img_343c327f2f8d9553e3e1d328851c5760-1.jpeg
GEO:50.009833;20.92706
X-APPLE-STRUCTURED-LOCATION;VALUE=URI;X-ADDRESS=Centrum Sztuki Mościce Traugutta 1 Tarnów małopolskie 33-101 Polska;X-APPLE-RADIUS=500;X-TITLE=Traugutta 1:geo:20.92706,50.009833
END:VEVENT
END:VCALENDAR