BEGIN:VCALENDAR
VERSION:2.0
PRODID:-//kultura.tarnów - ECPv6.4.0.1//NONSGML v1.0//EN
CALSCALE:GREGORIAN
METHOD:PUBLISH
X-ORIGINAL-URL:https://kultura.tarnow.pl
X-WR-CALDESC:Wydarzenia dla
REFRESH-INTERVAL;VALUE=DURATION:PT1H
X-Robots-Tag:noindex
X-PUBLISHED-TTL:PT1H
BEGIN:VTIMEZONE
TZID:Europe/Warsaw
BEGIN:DAYLIGHT
TZOFFSETFROM:+0100
TZOFFSETTO:+0200
TZNAME:CEST
DTSTART:20240331T010000
END:DAYLIGHT
BEGIN:STANDARD
TZOFFSETFROM:+0200
TZOFFSETTO:+0100
TZNAME:CET
DTSTART:20241027T010000
END:STANDARD
END:VTIMEZONE
BEGIN:VEVENT
DTSTART;TZID=Europe/Warsaw:20241001T053000
DTEND;TZID=Europe/Warsaw:20241001T223000
DTSTAMP:20260423T012924
CREATED:20240725T115058Z
LAST-MODIFIED:20240919T113014Z
UID:10018906-1727760600-1727821800@kultura.tarnow.pl
SUMMARY:"Łąka kwietna"
DESCRIPTION:Wystawa plenerowa rzeźb kwiatów wokół Pałacyku Strzeleckiego – siedziby Biura Wystaw Artystycznych w Tarnowie.\n\nRzeźby polskich kwiatów polnych mają ponad metr wysokości\, wykonane są z blachy\, metalowych elementów z recyklingu oraz styropianu. Pomalowane emalią zyskują bajkowy charakter\, a zarazem uderzają sztucznością. Autorki Weronika Krupa i Anna Sudoł myślą o tych rzeźbach jako o pomnikach kwiatów rosnących na dzikich łąkach m.in. maka\, firletki\, maruny. Ich „sztuczne kwiaty” są ustawiane na naturalnej łące\, wysianej z nasion od Łukasza Łuczaja\, botanika zajmującego się zawodowo m.in. etnobotaniką\, autora książek i popularyzatora dzikiej kuchni.\n\nCelem Łukasza Łuczaja jest przywrócenie bioróżnorodności w mieście i zwrócenie uwagi na zubożenie polskiej flory i fauny. Świat nauki i sztuki spotykają się\, łączą siły\, a efektem tej współpracy jest „Łąka kwietna” – wystawa\, która zwraca uwagę na bogactwo naszej przyrody oraz wspiera ideę zachowania i tworzenia nowej dzikiej roślinności na terenach miast. Polska flora i fauna są naszym dziedzictwem\, tak samo jak wielkie dzieła malarstwa i literatury. Dlaczego nie stawiać im pomników?\n\nTo trzeci pokaz plenerowy „Łąki kwietnej”\, rzeźb wykonanych przez Weronikę Krupę i Annę Sudoł. Pierwszy miał miejsce na terenie bulwarów w Rzeszowie i był przygotowany w ramach Europejskiego Stadionu Kultury 2022 organizowanego przez Estradę Rzeszowską. Drugi odbył się w ubiegłym roku podczas Forum Ekonomicznego w Karpaczu.\nRzeźby są instalacją artystyczną. Prosimy traktować je jak dzieła sztuki i nie dotykać. Można do woli fotografować.\n\n\nWernisaż 30 VII (wtorek)\, g. 18.00\, spotkanie przed Pałacykiem StrzeleckimWystawa dostępna w godzinach otwarcia Parku Strzeleckiego do października 2024 r.\n\nAnna Sudoł Absolwentka Akademii Sztuk Pięknych w Warszawie. W 2015 r. na łamach magazynu „Szum” opublikowała w odcinkach kryminał „Jak sztuka krytyczna zniszczyła mi życie”. Laureatka 12. Konkursu Gepperta\, wraz z Weroniką Krupą i Galerią Potencja otrzymała nagrodę główną Cracow Gallery Weekend za najlepszą wystawę „Takie tam z awangardą” w Galerii Potencja (2017). W 2020 r. nakładem Wydawnictwa Ha!art ukazała się jej debiutancka powieść „Projekt”\, opisująca artystyczne środowisko Warszawy\, o książce pisały m.in. „Polityka”\, „Sieci”\, „Dwutygodnik”\, „Culture.pl”\, „Stoner Polski”\, „Przekrój”. Współtworzy zespół Czarodziej i Pan Enigmo\, gdzie pisze teksty\, śpiewa\, rapuje\, tworzy teledyski. W 2020 r. nakładem wydawnictwa Nagrania Somnambuliczne ukazał się debiutancki koncept-album zespołu. W 2025 r. nakładem Wydawnictwa Ha!art ukaże się jej druga książka. Mieszka w Warszawie na Pradze.\n\nWeronika KrupaAbsolwentka Akademii Sztuk Pięknych im. W. Strzemińskiego w Łodzi\, dyplom w Pracowni Kostiumu Teatralnego i Filmowego dr hab. Ewy Bloom-Kwiatkowskiej oraz Pracowni Działań Intermedialnych prof. Przemysława Wachowskiego. Podczas studiów odbyła prestiżowy staż w pracowni kostiumograficznej Karen Young w Nowym Jorku\, gdzie współpracowała z tancerzami z Third Rail Project. Autorka instalacji\, utworów wideo\, kolaży\, plakatów oraz obiektów malarskich i rzeźbiarskich\, pracuje także w teatrze jako projektantka scenografii i kostiumów. Jej etiudy filmowo-kostiumowe nagradzane były w konkursach artystycznych oraz prezentowane na licznych wystawach i pokazach\, m. in. na Festiwalu Nowej Scenografii w Katowicach (wyróżnienie w Konkursie o Nagrodę Scenograficzną im. Jerzego Moskala 2016 za pracę magisterska). Ta sama praca zaprezentowana została podczas PQ – Praskiego Quadriennale 2019 na wystawie organizowanej przez Ośrodek Polski Międzynarodowego Instytutu Teatralnego oraz Muzeum Śląskie\, prezentującej najlepsze prace dyplomowe polskich uczelni artystycznych ostatnich 4 lat. W 2017 r. wraz z Weroniką Krupą i Galerią Potencja otrzymała nagrodę główną Cracow Gallery Weekend za najlepszą wystawę „Takie tam z awangardą” w Galerii Potencja. Stypendystka Ministra Kultury\, Dziedzictwa Narodowego i Sportu (2021). W 2023 r. z grupą aktorów i performerów z Latającego Teatru Kantorowi stworzyła w Tarnowie spektakl w reżyserii Grażyny Tabor na podstawie książki Mikołaja Łozińskiego Stramer\, którego premiera odbyła się w oddziale BWA – MCA Wałowa 25. Mieszka w Rzeszowie.\n\nProjekt powstał w ramach Europejskiego Stadionu Kultury 2022\, organizowanego przez Estradę Rzeszowską.
URL:https://kultura.tarnow.pl/wydarzenie/laka-kwietna-2/2024-10-01/
LOCATION:Biuro Wystaw Artystycznych\, ul. Słowackiego 1\, Tarnów\, małopolskie\, 33-100\, Polska
CATEGORIES:wystawy
ATTACH;FMTTYPE=image/jpeg:https://kultura.tarnow.pl/wp-content/uploads/452936272_1009970607802946_3106473495978847767_n.jpg
ORGANIZER;CN="Biuro Wystaw Artystycznych":MAILTO:biuro@bwa.tarnow.pl
GEO:50.0178761;20.9827521
X-APPLE-STRUCTURED-LOCATION;VALUE=URI;X-ADDRESS=Biuro Wystaw Artystycznych ul. Słowackiego 1 Tarnów małopolskie 33-100 Polska;X-APPLE-RADIUS=500;X-TITLE=ul. Słowackiego 1:geo:20.9827521,50.0178761
END:VEVENT
BEGIN:VEVENT
DTSTART;TZID=Europe/Warsaw:20241001T170000
DTEND;TZID=Europe/Warsaw:20241001T183000
DTSTAMP:20260423T012924
CREATED:20240918T094146Z
LAST-MODIFIED:20240918T094146Z
UID:10019436-1727802000-1727807400@kultura.tarnow.pl
SUMMARY:"Pedagodzy na estradzie" - koncert
DESCRIPTION:Z okazji Międzynarodowego Dnia Muzyki nauczyciele tarnowskiej Szkoły Muzycznej zapraszają na koncert z cyklu „Pedagodzy na estradzie”. Kolejny raz usłyszymy ciekawe propozycje muzyczne\, przeznaczone na rozmaite instrumenty\, będzie również pokaz interpretacji przestrzenno-ruchowej. Koncert odbędzie się w Sali Koncertowej ZSM w Tarnowie 1 października o godz. 17.00. Wstęp wolny.
URL:https://kultura.tarnow.pl/wydarzenie/pedagodzy-na-estradzie-koncert/
LOCATION:Sala Koncertowa Zespołu Szkół Muzycznych\, Lippóczy’ego 4\, Tarnów\, małopolskie\, 33-100\, Polska
CATEGORIES:koncerty
ATTACH;FMTTYPE=image/jpeg:https://kultura.tarnow.pl/wp-content/uploads/plakat_pedagodzy_page-0001-scaled.jpg
ORGANIZER;CN="Zesp%C3%B3%C5%82 Szk%C3%B3%C5%82 Muzycznych":MAILTO:szkola@zsmuz.tarnow.pl
GEO:50.0205582;20.9801972
X-APPLE-STRUCTURED-LOCATION;VALUE=URI;X-ADDRESS=Sala Koncertowa Zespołu Szkół Muzycznych Lippóczy’ego 4 Tarnów małopolskie 33-100 Polska;X-APPLE-RADIUS=500;X-TITLE=Lippóczy’ego 4:geo:20.9801972,50.0205582
END:VEVENT
BEGIN:VEVENT
DTSTART;TZID=Europe/Warsaw:20241001T170000
DTEND;TZID=Europe/Warsaw:20241001T183000
DTSTAMP:20260423T012924
CREATED:20241001T125455Z
LAST-MODIFIED:20241001T125455Z
UID:10020601-1727802000-1727807400@kultura.tarnow.pl
SUMMARY:Marta Odbierzychleb - wystawa z cyklu „Od natury do sacrum”
DESCRIPTION:Wernisaż wystawy Marty Odbierzychleb z cyklu „Od natury do sacrum” \nFilia nr 9 Miejskiej Biblioteki Publicznej im. J. Słowackiego\, ul. Krzyska 116 \n1 października 2024 r.\, godzina 17:00 \nWstęp wolny \n \n  \nMARTA ODBIERZYCHLEB \nAbsolwentka Państwowego Liceum Sztuk Plastycznych w Tarnowie (1978 r.). Naukę kontynuowała na kierunku wychowanie plastyczne (pracownia prof. Wojciecha Kubiczka) w Wyższej Szkole Pedagogicznej w Krakowie (obecnie Uniwersytet Pedagogiczny)\,  którą ukończyła w roku 1990. Uczestniczka studiów podyplomowych plastycznych na Uniwersytecie Marii Curie-Skłodowskiej w Lublinie (1991 r.). \nNależy do Polish Art Club (polsko-amerykańskiej organizacji artystycznej z siedzibą w Chicago\, zajmującej się promowaniem polskiego dziedzictwa sztuki\, muzyki i literatury w Stanach Zjednoczonych). Jest członkiem grupy ArtPo z siedzibą w Chicago\, zrzeszającej polonijnych malarzy\, grafików\, fotografików i rzeźbiarzy. Uczestniczyła w ponad 90. wystawach zarówno w kraju jak i za granicą\, m.in. Ogólnopolskich Konkursach Plastycznych „Konfrontacje”\, Międzynarodowych Biennale Twórczości Nauczycieli\, a także uczestnictwo w wystawach zbiorowych w Polish Museum of America. \nPrzez cały okres pracy zawodowej jako nauczycielka plastyki i pedagog umiejętnie łączyła ją z twórczością artystyczną. Twórczość ta zamyka się w świecie zarówno profanum jak i sacrum. Jej malarstwo oscyluje wokół takich tematów jak: kompozycje kwiatowe\, pejzaże\, portrety oraz ikony. Cechuje ją przede wszystkim realizm\, charakterystyczna\, ekspresyjna kolorystyka\, poprzez którą wyraża swój nastrój i emocje. Najczęściej posługuje się takimi technikami jak: farby olejne\, akwarela\, pastel\, tempera jajowa\, malarstwo na szkle\, rysunek ołówkiem. Jej prace znajdują się w zbiorach prywatnych w Polsce\, Australii\, Francji oraz USA. \nNagrody i wyróżnienia: \nZielona Góra\, Ogólnopolski Konkurs pn.: „Natura moich okolic” (2018\, 2022\, 2023)\nTarnów\, Międzynarodowe Biennale Sztuki Nauczycieli (2000\, 2010\, 2015)\nLeszno\, Ogólnopolski Konkurs Plastyczny pn.: „Konfrontacje” (2001\, 2008\, 2011\, 2012)\nŻory\, I nagroda w Ogólnopolskim Konkursie pn.: „Uroki przydrożnych kapliczek i rodzimych kościołów” (2011)\nPolish Museum of America\, Chicago – Konkurs plastyczny (2005)\nTarnów\, Nagroda Senatora RP w Międzynarodowym Biennale Sztuki Nauczycieli  (2003) \nWażniejsze wystawy:\n„Od natury do sacrum”\, Muzeum Okręgowe w Tarnowie z cyklu Tarnowscy Artyści w Galerii Muzealnej” – 2023 r.\n„Ikony Marty Odbierzychleb”\, Kościół NMP Szkaplerznej\, Dąbrowa Tarnowska – 2022 r.\n„Sercu bliski” – Jan Paweł II w portretach Marty Odbierzychleb\, Goleniów – 2019 r.\n„Ikony”\, Biblioteka Uniwersytetu Papieskiego JPII\, Kraków – 2019 r.\nBliskie obrazy”\, Biuro Wystaw Artystycznych\, Tarnów – 2018 r.\nMiędzynarodowe Biennale Sztuki Nauczycieli\, Tarnów – 2015 r.\n„Portret Świętego”\, Klub Inteligencji Katolickiej\, Tarnów – 2014 r.\nOgólnopolska wystawa „Konfrontacje 2012”\, Leszno – 2012 r.\nOgólnopolska wystawa „Konfrontacje 2011”\, Leszno – 2011 r.\n„Malarstwo”\, Galeria Niebieska Miejska Biblioteka Publiczna\, Tarnów – 2010 r.\nPolish Women’s Alliance of America\, Chicago (USA) – 2009 r.\nOgólnopolska wystawa „ Konfrontacje 2008”\, Leszno – 2008 r.\nPolish Museum of America\, Chicago\, lata 2005-2015 (udział w wystawach zbiorowych)\nOgólnopolska wystawa „Konfrontacje 2001”\, Leszno – 2001 r. \n  \n 
URL:https://kultura.tarnow.pl/wydarzenie/marta-odbierzychleb-wystawa-z-cyklu-od-natury-do-sacrum/
LOCATION:Filia nr 9 Miejskiej Biblioteki Publicznej im. J. Słowackiego\, ul. Krzyska 116\, Tarnów\, małopolskie\, 33-100\, Polska
CATEGORIES:wernisaże
ATTACH;FMTTYPE=image/jpeg:https://kultura.tarnow.pl/wp-content/uploads/Odbierzychleb_wystawa.jpg
GEO:50.043661;20.9924189
X-APPLE-STRUCTURED-LOCATION;VALUE=URI;X-ADDRESS=Filia nr 9 Miejskiej Biblioteki Publicznej im. J. Słowackiego ul. Krzyska 116 Tarnów małopolskie 33-100 Polska;X-APPLE-RADIUS=500;X-TITLE=ul. Krzyska 116:geo:20.9924189,50.043661
END:VEVENT
BEGIN:VEVENT
DTSTART;TZID=Europe/Warsaw:20241001T190000
DTEND;TZID=Europe/Warsaw:20241001T210000
DTSTAMP:20260423T012924
CREATED:20240923T072327Z
LAST-MODIFIED:20240923T072327Z
UID:10019439-1727809200-1727816400@kultura.tarnow.pl
SUMMARY:100-lat Marzenia na Staszica 4
DESCRIPTION:„5 października 1924 roku w niedzielę w nowo wybudowanym przez Towarzystwo Szkoły Ludowej gmachu kina Marzenie odbyła się pierwsza projekcja”. \nR. Włodek 100 lat Marzenia. Historia kina w Tarnowie \nZ okazji 100-lecia powstania siedziby kina Marzenia przy ulicy Staszica 4 zaplanowano szereg wydarzeń: \nBilety: 1 zł \n1 października godz. 19:00  \nMarzenie (nie)oczywiste – wernisaż prac i spotkanie z autorami projektu fotograficznego Tarnowskiego Towarzystwa Fotograficznego \noraz projekcja specjalna Czy widzieliście już mój film? reż. Paul Anton Smith \nKup bilet \n5 października godz. 19:00 \nKoncert z okazji 100-lecia – Kwartet wokalny VoiceBand i Ewelina Flinta \nKup bilet \n6 października godz. 19:00 \nspotkanie i dyskusja z Patrycją Muchą-Smolińską i Sebastianem Smolińskim \nora projekcja filmuDeszczowa piosenka reż. Stanley Donen\, Gene Kelly \nKup bilet \n12 października godz. 19:00 \nspotkanie i dyskusja ze Stanisławem Janickim \nprojekcja filmu Codzienne marzenia reż. Buster Keaton \nKup bilet \n19 października godz. 19:00  \nspotkanie i dyskusja z Dianą Dąbrowską \nprojekcja filmu Chłopcy z ferajny reż. Martin Scorsese \nKup bilet \n27 października godz. 19:00 \nspotkanie i dyskusja z Tomaszem Raczkiem \nprojekcja filmu Co zdarzyło się Baby Jane reż. Robert Aldrich spotkanie i dyskusja z Tomaszem Raczkiem \nKup bilet \nWszystkie wydarzenia zrealizowane są dzięki wsparciu finansowemu Krajowego Planu Odbudowy i Zwiększania Odporności w ramach Europejskiego Planu Odbudowy. \n \n 
URL:https://kultura.tarnow.pl/wydarzenie/100-lat-marzenia-na-staszica-4/2024-10-01/
LOCATION:Kino „Marzenie”\, ul. Staszica 4\, Tarnów\, małopolskie\, 33-100\, Polska
CATEGORIES:filmy,koncerty
ATTACH;FMTTYPE=image/jpeg:https://kultura.tarnow.pl/wp-content/uploads/461104135_1423202821956362_7791282421005312227_n.jpg
GEO:50.011762;20.9833798
X-APPLE-STRUCTURED-LOCATION;VALUE=URI;X-ADDRESS=Kino „Marzenie” ul. Staszica 4 Tarnów małopolskie 33-100 Polska;X-APPLE-RADIUS=500;X-TITLE=ul. Staszica 4:geo:20.9833798,50.011762
END:VEVENT
END:VCALENDAR