BEGIN:VCALENDAR
VERSION:2.0
PRODID:-//kultura.tarnów - ECPv6.4.0.1//NONSGML v1.0//EN
CALSCALE:GREGORIAN
METHOD:PUBLISH
X-ORIGINAL-URL:https://kultura.tarnow.pl
X-WR-CALDESC:Wydarzenia dla
REFRESH-INTERVAL;VALUE=DURATION:PT1H
X-Robots-Tag:noindex
X-PUBLISHED-TTL:PT1H
BEGIN:VTIMEZONE
TZID:Europe/Warsaw
BEGIN:DAYLIGHT
TZOFFSETFROM:+0100
TZOFFSETTO:+0200
TZNAME:CEST
DTSTART:20240331T010000
END:DAYLIGHT
BEGIN:STANDARD
TZOFFSETFROM:+0200
TZOFFSETTO:+0100
TZNAME:CET
DTSTART:20241027T010000
END:STANDARD
END:VTIMEZONE
BEGIN:VEVENT
DTSTART;TZID=Europe/Warsaw:20240917T053000
DTEND;TZID=Europe/Warsaw:20240917T223000
DTSTAMP:20260424T050605
CREATED:20240725T115058Z
LAST-MODIFIED:20240919T113014Z
UID:10018892-1726551000-1726612200@kultura.tarnow.pl
SUMMARY:"Łąka kwietna"
DESCRIPTION:Wystawa plenerowa rzeźb kwiatów wokół Pałacyku Strzeleckiego – siedziby Biura Wystaw Artystycznych w Tarnowie.\n\nRzeźby polskich kwiatów polnych mają ponad metr wysokości\, wykonane są z blachy\, metalowych elementów z recyklingu oraz styropianu. Pomalowane emalią zyskują bajkowy charakter\, a zarazem uderzają sztucznością. Autorki Weronika Krupa i Anna Sudoł myślą o tych rzeźbach jako o pomnikach kwiatów rosnących na dzikich łąkach m.in. maka\, firletki\, maruny. Ich „sztuczne kwiaty” są ustawiane na naturalnej łące\, wysianej z nasion od Łukasza Łuczaja\, botanika zajmującego się zawodowo m.in. etnobotaniką\, autora książek i popularyzatora dzikiej kuchni.\n\nCelem Łukasza Łuczaja jest przywrócenie bioróżnorodności w mieście i zwrócenie uwagi na zubożenie polskiej flory i fauny. Świat nauki i sztuki spotykają się\, łączą siły\, a efektem tej współpracy jest „Łąka kwietna” – wystawa\, która zwraca uwagę na bogactwo naszej przyrody oraz wspiera ideę zachowania i tworzenia nowej dzikiej roślinności na terenach miast. Polska flora i fauna są naszym dziedzictwem\, tak samo jak wielkie dzieła malarstwa i literatury. Dlaczego nie stawiać im pomników?\n\nTo trzeci pokaz plenerowy „Łąki kwietnej”\, rzeźb wykonanych przez Weronikę Krupę i Annę Sudoł. Pierwszy miał miejsce na terenie bulwarów w Rzeszowie i był przygotowany w ramach Europejskiego Stadionu Kultury 2022 organizowanego przez Estradę Rzeszowską. Drugi odbył się w ubiegłym roku podczas Forum Ekonomicznego w Karpaczu.\nRzeźby są instalacją artystyczną. Prosimy traktować je jak dzieła sztuki i nie dotykać. Można do woli fotografować.\n\n\nWernisaż 30 VII (wtorek)\, g. 18.00\, spotkanie przed Pałacykiem StrzeleckimWystawa dostępna w godzinach otwarcia Parku Strzeleckiego do października 2024 r.\n\nAnna Sudoł Absolwentka Akademii Sztuk Pięknych w Warszawie. W 2015 r. na łamach magazynu „Szum” opublikowała w odcinkach kryminał „Jak sztuka krytyczna zniszczyła mi życie”. Laureatka 12. Konkursu Gepperta\, wraz z Weroniką Krupą i Galerią Potencja otrzymała nagrodę główną Cracow Gallery Weekend za najlepszą wystawę „Takie tam z awangardą” w Galerii Potencja (2017). W 2020 r. nakładem Wydawnictwa Ha!art ukazała się jej debiutancka powieść „Projekt”\, opisująca artystyczne środowisko Warszawy\, o książce pisały m.in. „Polityka”\, „Sieci”\, „Dwutygodnik”\, „Culture.pl”\, „Stoner Polski”\, „Przekrój”. Współtworzy zespół Czarodziej i Pan Enigmo\, gdzie pisze teksty\, śpiewa\, rapuje\, tworzy teledyski. W 2020 r. nakładem wydawnictwa Nagrania Somnambuliczne ukazał się debiutancki koncept-album zespołu. W 2025 r. nakładem Wydawnictwa Ha!art ukaże się jej druga książka. Mieszka w Warszawie na Pradze.\n\nWeronika KrupaAbsolwentka Akademii Sztuk Pięknych im. W. Strzemińskiego w Łodzi\, dyplom w Pracowni Kostiumu Teatralnego i Filmowego dr hab. Ewy Bloom-Kwiatkowskiej oraz Pracowni Działań Intermedialnych prof. Przemysława Wachowskiego. Podczas studiów odbyła prestiżowy staż w pracowni kostiumograficznej Karen Young w Nowym Jorku\, gdzie współpracowała z tancerzami z Third Rail Project. Autorka instalacji\, utworów wideo\, kolaży\, plakatów oraz obiektów malarskich i rzeźbiarskich\, pracuje także w teatrze jako projektantka scenografii i kostiumów. Jej etiudy filmowo-kostiumowe nagradzane były w konkursach artystycznych oraz prezentowane na licznych wystawach i pokazach\, m. in. na Festiwalu Nowej Scenografii w Katowicach (wyróżnienie w Konkursie o Nagrodę Scenograficzną im. Jerzego Moskala 2016 za pracę magisterska). Ta sama praca zaprezentowana została podczas PQ – Praskiego Quadriennale 2019 na wystawie organizowanej przez Ośrodek Polski Międzynarodowego Instytutu Teatralnego oraz Muzeum Śląskie\, prezentującej najlepsze prace dyplomowe polskich uczelni artystycznych ostatnich 4 lat. W 2017 r. wraz z Weroniką Krupą i Galerią Potencja otrzymała nagrodę główną Cracow Gallery Weekend za najlepszą wystawę „Takie tam z awangardą” w Galerii Potencja. Stypendystka Ministra Kultury\, Dziedzictwa Narodowego i Sportu (2021). W 2023 r. z grupą aktorów i performerów z Latającego Teatru Kantorowi stworzyła w Tarnowie spektakl w reżyserii Grażyny Tabor na podstawie książki Mikołaja Łozińskiego Stramer\, którego premiera odbyła się w oddziale BWA – MCA Wałowa 25. Mieszka w Rzeszowie.\n\nProjekt powstał w ramach Europejskiego Stadionu Kultury 2022\, organizowanego przez Estradę Rzeszowską.
URL:https://kultura.tarnow.pl/wydarzenie/laka-kwietna-2/2024-09-17/
LOCATION:Biuro Wystaw Artystycznych\, ul. Słowackiego 1\, Tarnów\, małopolskie\, 33-100\, Polska
CATEGORIES:wystawy
ATTACH;FMTTYPE=image/jpeg:https://kultura.tarnow.pl/wp-content/uploads/452936272_1009970607802946_3106473495978847767_n.jpg
ORGANIZER;CN="Biuro Wystaw Artystycznych":MAILTO:biuro@bwa.tarnow.pl
GEO:50.0178761;20.9827521
X-APPLE-STRUCTURED-LOCATION;VALUE=URI;X-ADDRESS=Biuro Wystaw Artystycznych ul. Słowackiego 1 Tarnów małopolskie 33-100 Polska;X-APPLE-RADIUS=500;X-TITLE=ul. Słowackiego 1:geo:20.9827521,50.0178761
END:VEVENT
BEGIN:VEVENT
DTSTART;TZID=Europe/Warsaw:20240917T130000
DTEND;TZID=Europe/Warsaw:20240917T140000
DTSTAMP:20260424T050605
CREATED:20240911T083045Z
LAST-MODIFIED:20240912T102716Z
UID:10019421-1726578000-1726581600@kultura.tarnow.pl
SUMMARY:Dzień Sybiraka
DESCRIPTION:
URL:https://kultura.tarnow.pl/wydarzenie/dzien-sybiraka/
LOCATION:Plac Ofiar Stalinizmu\, Tarnów\, Polska - małopolskie\, 33-100\, Polska
CATEGORIES:uroczystości patriotyczne
ATTACH;FMTTYPE=image/jpeg:https://kultura.tarnow.pl/wp-content/uploads/zaproszenie-Dzien-Sybiraka-2024.jpg
GEO:50.0121011;20.9858407
END:VEVENT
BEGIN:VEVENT
DTSTART;TZID=Europe/Warsaw:20240917T170000
DTEND;TZID=Europe/Warsaw:20240917T183000
DTSTAMP:20260424T050605
CREATED:20240905T063807Z
LAST-MODIFIED:20240905T063807Z
UID:10019402-1726592400-1726597800@kultura.tarnow.pl
SUMMARY:Spotkanie wokół wolontariatu towarzyszącego i wspierania osób starszych
DESCRIPTION:Czasami wystarczy sama obecność\, by pomóc. Zapraszamy osoby gotowe obdarować swoim czasem osoby starsze\, które czują się osamotnione. \nAby zostać wolontariuszem czasu dla osób starszych trzeba mieć ukończone 18 lat\, nie być karanym i najważniejsze – mieć do dyspozycji przynajmniej 2 godziny tygodniowo. Wolontariusze mogą liczyć na szkolenia\, warsztaty\, superwizję oraz spotkania integracyjne. Towarzysząc osobom starszym otrzymuje się dofinansowanie do biletów kulturalnych na wspólne wyjścia (kino\, teatr\, wystawa itp.). \nSpotkanie poprowadzi koordynatorka regionalna Stowarzyszenia Mali Bracia Ubogich – Paulina Augustyniak. Organizacja ta realizuje wolontariat towarzyszący na rzecz samotnych seniorów w 12 miastach w Polsce. W Tarnowie będzie można dołączyć do działającej już grupy 22. wolontariuszy. Górna granica wieku nie ma znaczenia – najstarsza wolontariuszka stowarzyszenia ma 70 lat! \nZainteresowanych tematem prosimy o zgłoszenie uczestnictwa na adres email d.cholewiak@tck.pl
URL:https://kultura.tarnow.pl/wydarzenie/spotkanie-wokol-wolontariatu-towarzyszacego-i-wspierania-osob-starszych/
LOCATION:Dom Kultury Westerplatte 8a\, Westerplatte 8a\, Tarnów\, Polska - małopolskie\, 33-100\, Polska
CATEGORIES:spotkania
ORGANIZER;CN="Dom Kultury Westerplatte 8a":MAILTO:westerplatte@tck.pl
GEO:50.0273033;21.0087361
X-APPLE-STRUCTURED-LOCATION;VALUE=URI;X-ADDRESS=Dom Kultury Westerplatte 8a Westerplatte 8a Tarnów Polska - małopolskie 33-100 Polska;X-APPLE-RADIUS=500;X-TITLE=Westerplatte 8a:geo:21.0087361,50.0273033
END:VEVENT
END:VCALENDAR