BEGIN:VCALENDAR
VERSION:2.0
PRODID:-//kultura.tarnów - ECPv6.4.0.1//NONSGML v1.0//EN
CALSCALE:GREGORIAN
METHOD:PUBLISH
X-WR-CALNAME:kultura.tarnów
X-ORIGINAL-URL:https://kultura.tarnow.pl
X-WR-CALDESC:Wydarzenia dla
REFRESH-INTERVAL;VALUE=DURATION:PT1H
X-Robots-Tag:noindex
X-PUBLISHED-TTL:PT1H
BEGIN:VTIMEZONE
TZID:Europe/Warsaw
BEGIN:DAYLIGHT
TZOFFSETFROM:+0100
TZOFFSETTO:+0200
TZNAME:CEST
DTSTART:20240331T010000
END:DAYLIGHT
BEGIN:STANDARD
TZOFFSETFROM:+0200
TZOFFSETTO:+0100
TZNAME:CET
DTSTART:20241027T010000
END:STANDARD
END:VTIMEZONE
BEGIN:VEVENT
DTSTART;TZID=Europe/Warsaw:20240914T053000
DTEND;TZID=Europe/Warsaw:20240914T223000
DTSTAMP:20260423T042054
CREATED:20240725T115058Z
LAST-MODIFIED:20240919T113014Z
UID:10018889-1726291800-1726353000@kultura.tarnow.pl
SUMMARY:"Łąka kwietna"
DESCRIPTION:Wystawa plenerowa rzeźb kwiatów wokół Pałacyku Strzeleckiego – siedziby Biura Wystaw Artystycznych w Tarnowie.\n\nRzeźby polskich kwiatów polnych mają ponad metr wysokości\, wykonane są z blachy\, metalowych elementów z recyklingu oraz styropianu. Pomalowane emalią zyskują bajkowy charakter\, a zarazem uderzają sztucznością. Autorki Weronika Krupa i Anna Sudoł myślą o tych rzeźbach jako o pomnikach kwiatów rosnących na dzikich łąkach m.in. maka\, firletki\, maruny. Ich „sztuczne kwiaty” są ustawiane na naturalnej łące\, wysianej z nasion od Łukasza Łuczaja\, botanika zajmującego się zawodowo m.in. etnobotaniką\, autora książek i popularyzatora dzikiej kuchni.\n\nCelem Łukasza Łuczaja jest przywrócenie bioróżnorodności w mieście i zwrócenie uwagi na zubożenie polskiej flory i fauny. Świat nauki i sztuki spotykają się\, łączą siły\, a efektem tej współpracy jest „Łąka kwietna” – wystawa\, która zwraca uwagę na bogactwo naszej przyrody oraz wspiera ideę zachowania i tworzenia nowej dzikiej roślinności na terenach miast. Polska flora i fauna są naszym dziedzictwem\, tak samo jak wielkie dzieła malarstwa i literatury. Dlaczego nie stawiać im pomników?\n\nTo trzeci pokaz plenerowy „Łąki kwietnej”\, rzeźb wykonanych przez Weronikę Krupę i Annę Sudoł. Pierwszy miał miejsce na terenie bulwarów w Rzeszowie i był przygotowany w ramach Europejskiego Stadionu Kultury 2022 organizowanego przez Estradę Rzeszowską. Drugi odbył się w ubiegłym roku podczas Forum Ekonomicznego w Karpaczu.\nRzeźby są instalacją artystyczną. Prosimy traktować je jak dzieła sztuki i nie dotykać. Można do woli fotografować.\n\n\nWernisaż 30 VII (wtorek)\, g. 18.00\, spotkanie przed Pałacykiem StrzeleckimWystawa dostępna w godzinach otwarcia Parku Strzeleckiego do października 2024 r.\n\nAnna Sudoł Absolwentka Akademii Sztuk Pięknych w Warszawie. W 2015 r. na łamach magazynu „Szum” opublikowała w odcinkach kryminał „Jak sztuka krytyczna zniszczyła mi życie”. Laureatka 12. Konkursu Gepperta\, wraz z Weroniką Krupą i Galerią Potencja otrzymała nagrodę główną Cracow Gallery Weekend za najlepszą wystawę „Takie tam z awangardą” w Galerii Potencja (2017). W 2020 r. nakładem Wydawnictwa Ha!art ukazała się jej debiutancka powieść „Projekt”\, opisująca artystyczne środowisko Warszawy\, o książce pisały m.in. „Polityka”\, „Sieci”\, „Dwutygodnik”\, „Culture.pl”\, „Stoner Polski”\, „Przekrój”. Współtworzy zespół Czarodziej i Pan Enigmo\, gdzie pisze teksty\, śpiewa\, rapuje\, tworzy teledyski. W 2020 r. nakładem wydawnictwa Nagrania Somnambuliczne ukazał się debiutancki koncept-album zespołu. W 2025 r. nakładem Wydawnictwa Ha!art ukaże się jej druga książka. Mieszka w Warszawie na Pradze.\n\nWeronika KrupaAbsolwentka Akademii Sztuk Pięknych im. W. Strzemińskiego w Łodzi\, dyplom w Pracowni Kostiumu Teatralnego i Filmowego dr hab. Ewy Bloom-Kwiatkowskiej oraz Pracowni Działań Intermedialnych prof. Przemysława Wachowskiego. Podczas studiów odbyła prestiżowy staż w pracowni kostiumograficznej Karen Young w Nowym Jorku\, gdzie współpracowała z tancerzami z Third Rail Project. Autorka instalacji\, utworów wideo\, kolaży\, plakatów oraz obiektów malarskich i rzeźbiarskich\, pracuje także w teatrze jako projektantka scenografii i kostiumów. Jej etiudy filmowo-kostiumowe nagradzane były w konkursach artystycznych oraz prezentowane na licznych wystawach i pokazach\, m. in. na Festiwalu Nowej Scenografii w Katowicach (wyróżnienie w Konkursie o Nagrodę Scenograficzną im. Jerzego Moskala 2016 za pracę magisterska). Ta sama praca zaprezentowana została podczas PQ – Praskiego Quadriennale 2019 na wystawie organizowanej przez Ośrodek Polski Międzynarodowego Instytutu Teatralnego oraz Muzeum Śląskie\, prezentującej najlepsze prace dyplomowe polskich uczelni artystycznych ostatnich 4 lat. W 2017 r. wraz z Weroniką Krupą i Galerią Potencja otrzymała nagrodę główną Cracow Gallery Weekend za najlepszą wystawę „Takie tam z awangardą” w Galerii Potencja. Stypendystka Ministra Kultury\, Dziedzictwa Narodowego i Sportu (2021). W 2023 r. z grupą aktorów i performerów z Latającego Teatru Kantorowi stworzyła w Tarnowie spektakl w reżyserii Grażyny Tabor na podstawie książki Mikołaja Łozińskiego Stramer\, którego premiera odbyła się w oddziale BWA – MCA Wałowa 25. Mieszka w Rzeszowie.\n\nProjekt powstał w ramach Europejskiego Stadionu Kultury 2022\, organizowanego przez Estradę Rzeszowską.
URL:https://kultura.tarnow.pl/wydarzenie/laka-kwietna-2/2024-09-14/
LOCATION:Biuro Wystaw Artystycznych\, ul. Słowackiego 1\, Tarnów\, małopolskie\, 33-100\, Polska
CATEGORIES:wystawy
ATTACH;FMTTYPE=image/jpeg:https://kultura.tarnow.pl/wp-content/uploads/452936272_1009970607802946_3106473495978847767_n.jpg
ORGANIZER;CN="Biuro Wystaw Artystycznych":MAILTO:biuro@bwa.tarnow.pl
GEO:50.0178761;20.9827521
X-APPLE-STRUCTURED-LOCATION;VALUE=URI;X-ADDRESS=Biuro Wystaw Artystycznych ul. Słowackiego 1 Tarnów małopolskie 33-100 Polska;X-APPLE-RADIUS=500;X-TITLE=ul. Słowackiego 1:geo:20.9827521,50.0178761
END:VEVENT
BEGIN:VEVENT
DTSTART;TZID=Europe/Warsaw:20240914T100000
DTEND;TZID=Europe/Warsaw:20240914T170000
DTSTAMP:20260423T042054
CREATED:20240903T101910Z
LAST-MODIFIED:20240903T103804Z
UID:10019396-1726308000-1726333200@kultura.tarnow.pl
SUMMARY:100-lecie zorganizowanej turystyki w Polsce
DESCRIPTION:W dniach od 13-15 września br.\, Oddział PTTK „Ziemi Tarnowskiej” w Tarnowie będzie świętował jubileusz 100-lecia swojego istnienia.\n\n\n\nW piątek\, 13 września 2024 r. w Sali Lustrzanej godz. 13:00 rozpocznie się Uroczysta Konferencja Jubileuszowa – „Tarnowskim szlakiem przez Stulecie” wraz z prelekcjami tematycznymi i wręczeniem odznak i dyplomów. O  godz. 19:00 w Amfiteatrze Letnim przy ul. Kopernika 2 w Tarnowie odbędzie się „Koncert piosenki turystycznej”\, podczas którego wystąpi zespół „Wołosatki”.\n\nW sobotę\, 14 września 2024 o godz. 10:00 rozpocznie się Rajd ścieżkami rowerowymi Tarnowa. Zbiórka przy budynku PTTK – ul. Żydowska 20 w Tarnowie.\n\nW niedzielę\, 15 września 2024 r. o godz 9:00 w Bazylice Katedralnej Narodzenia NMP zostanie odprawiona uroczysta Msza św. Również w niedzielę\, 15 września o godz. 10:30 odbędzie się „Spacer po Tarnowie z przewodnikiem”. Zbiórka przy budynku PTTK – ul. Żydowska 20 w Tarnowie.\n\n\n\nZarząd Oddziału serdecznie zaprasza mieszkańców Tarnowa i Powiatu do uczestnictwa w we wszystkich jubileuszowych imprezach (wstęp wolny).\n\n\n\nTegoroczne uroczystości objęte są patronatem honorowym Łukasza Smółki – Marszałka Województwa Małopolskiego\, Krzysztofa Klęczara – Wojewody Małopolskiego\, Jacka Hudymy – Starosty Powiatu Tarnowskiego oraz Jakuba Kwaśnego – Prezydenta Miasta Tarnowa. Urząd Marszałkowski Województwa Małopolskiego jest Partnerem Głównym Jubileuszu. Patronat medialny nad wydarzeniem sprawują Gazeta Krakowska\, Radio RDN Małopolska oraz Tygodnik TEMI.\n\n\n\nOddział PTTK „Ziemi Tarnowskiej” w Tarnowie organizuje imprezy zbiorowe skupiające szkoły\, przedszkola\, stowarzyszenia\, kluby\, grupy i uczestników indywidualnych\, podczas których propaguje idee patriotyzmu i zamiłowania do turystyki. Oddział posiada bogate tradycje turystyczne\, aktywizuje dzieci\, młodzież\, seniorów i osoby niepełnosprawne. Zrzesza pasjonatów\, krajoznawców\, weryfikuje i przyznaje odznaki turystyczne\, wydaje przewodniki po ziemi tarnowskiej i propaguje ochronę dziedzictwa przyrodniczego.
URL:https://kultura.tarnow.pl/wydarzenie/74472/2024-09-14/
LOCATION:małopolskie
CATEGORIES:festiwale
ATTACH;FMTTYPE=image/jpeg:https://kultura.tarnow.pl/wp-content/uploads/458149636_817384280590998_1470967357486056094_n.jpg
ORGANIZER;CN="Oddzia%C5%82 PTTK w Tarnowie":MAILTO:pttk@is.net.pl
END:VEVENT
BEGIN:VEVENT
DTSTART;TZID=Europe/Warsaw:20240914T100000
DTEND;TZID=Europe/Warsaw:20240914T220000
DTSTAMP:20260423T042054
CREATED:20240806T110411Z
LAST-MODIFIED:20240806T110620Z
UID:10018957-1726308000-1726351200@kultura.tarnow.pl
SUMMARY:IV Festiwal TARNOWIANIE
DESCRIPTION:Festiwal TARNOWIANIE to święto ludzi stąd!\n\nCykl spotkań\, rozmów i inicjatyw\, który łączy ze sobą różne dyscypliny naukowe\, dziedziny sztuki\, aktywności i osobowości. Wspólnym mianownikiem wszystkich działań są LUDZIE. Tarnowianie. Osoby związane z Tarnowem\, pochodzące z Tarnowa lub tacy\, którzy właśnie tutaj znaleźli odpowiednią dla siebie przestrzeń\, przyjaźń czy miłość. I zaznaczyli swój ślad. \nCzasami zdarza się nam zapominać\, że tak wiele już się udało\, że mamy się czym chwalić. Festiwal właśnie nam to zobrazuje. A czasami jeszcze trudniej powiedzieć komuś: robisz świetne rzeczy! Dobrze\, że jesteś! Gratuluję! IV Festiwal właśnie nam to ułatwi! \n  \nProgram Festiwalu:   \n 12 września – czwartek\n \ngodz. 18:00 – wernisaże II Biennale Sztuki i wystawy „Najlepsza praca roku” uczniów Zespołu Szkół Plastycznych w Tarnowie \ngodz. 18:15 – film „Horror Story” i spotkanie z Jakubem Zającem. Prowadzenie: Łukasz Maciejewski \ngodz. 19:30 – spektakl „Bóg mordu” i  spotkanie z reżyserem i aktorami. Prowadzenie: Łukasz Maciejewski / Teatr im. L. Solskiego w Tarnowie \n  \n13 września – piątek \ngodz.10:00 – panel dyskusyjny „Sukces po tarnowsku”. Prowadzenie: Piotr Kopa \ngodz.19:00 – spektakl komediowy „Prawda”  i spotkanie z aktorami. Prowadzenie: Karolina Wójs \n14 września – sobota \ngodz. 10:00 – 14:30 – bezpłatne zwiedzanie wystawy stałej / Regionalne Centrum Edukacji o Pamięci\, oddział Muzeum Ziemi Tarnowskiej\, ul. Mościckiego 27a \ngodz. 11:00 – warsztaty „Z legendą w historię” / Regionalne Centrum Edukacji o Pamięci\, oddział Muzeum Ziemi Tarnowskiej\, ul. Mościckiego 27a \ngodz. 13:00 – warsztaty „Wojenna odyseja” / Regionalne Centrum Edukacji o Pamięci\, oddział Muzeum Ziemi Tarnowskiej\, ul. Mościckiego 27a \ngodz. 17:00 – Salon poezji – Anna Dymna i Józef Baran. Prowadzenie: Łukasz Maciejewski \ngodz. 19:30 – Wieczór wspomnień – Jan Nowicki i Jan Kudelski oraz promocja ksiązki „Szczęśliwy bałagan” Jana Nowickiego. Gość specjalny: Robert Gonera / Restauracja Tatrzańska \n15 września – niedziela\n \ngodz. 11:00 i 13:00 – „Odkryj Mościce” – wycieczki meleksem \ngodz. 17:00 – Gala Festiwalowa i Koncert muzki filmowej w wykonaniu Orkiestry Rondine i tarnowskich artystów.
URL:https://kultura.tarnow.pl/wydarzenie/iv-festiwal-tarnowianie-2/2024-09-14/
LOCATION:małopolskie
CATEGORIES:festiwale
ATTACH;FMTTYPE=image/jpeg:https://kultura.tarnow.pl/wp-content/uploads/img_b28230fe0a1fe8ba4eabe98656cffa2d.jpeg
END:VEVENT
BEGIN:VEVENT
DTSTART;TZID=Europe/Warsaw:20240914T124000
DTEND;TZID=Europe/Warsaw:20240914T130000
DTSTAMP:20260423T042054
CREATED:20240910T082907Z
LAST-MODIFIED:20240910T082907Z
UID:10019419-1726317600-1726318800@kultura.tarnow.pl
SUMMARY:Mateusz Kolano - wernisaż
DESCRIPTION:Zapraszamy na nietypowy wernisaż w zabytkowym budynku Dworca Kolejowego w Tarnowie. Odbędzie się on  w dniu\, kiedy słynna trasa 115 ponownie na swoich torach ugości parowóz.\nOtwarcie zaplanowano  o 12:40 przed odjazdem do miejscowości Żabno. \nMateusz Kolano \nMiejsce: Dworzec PKP w Tarnowie\, hala główna \nData: 14 września 2024 r.\, godz. 12: 40 \nWystawa dostępna w dniach : 14-15 września 2024 \nWystawa tematycznie nawiązuje do przejazdu „Retro pociągu” na trasie Tarnów – Żabno\, oraz tego co pozostało z infrastruktury linii 115 tzw. Szczucince. Celem wystawy jest pokazanie miejsc\, które niegdyś tętniły życiem i były codziennością\, przywołanie pozytywnych skojarzeń oraz wspomnień wielopokoleniowych. Wystawa pokazuje upływający czas\,  będący fundamentem nowych historii\, wydarzeń\, sięgających tradycji kolejarskich i techniki kolejowej – w pełnym jej poszanowaniu.
URL:https://kultura.tarnow.pl/wydarzenie/mateusz-kolano-wernisaz/
LOCATION:Dworzec PKP w Mościcach
CATEGORIES:wernisaże
ATTACH;FMTTYPE=image/jpeg:https://kultura.tarnow.pl/wp-content/uploads/Plakat-wystawa-dzien-po-dniu-Retro-pocia-Nastawnia-03-09-24-Na-strone-2-scaled.jpg
END:VEVENT
END:VCALENDAR