BEGIN:VCALENDAR
VERSION:2.0
PRODID:-//kultura.tarnów - ECPv6.4.0.1//NONSGML v1.0//EN
CALSCALE:GREGORIAN
METHOD:PUBLISH
X-WR-CALNAME:kultura.tarnów
X-ORIGINAL-URL:https://kultura.tarnow.pl
X-WR-CALDESC:Wydarzenia dla
REFRESH-INTERVAL;VALUE=DURATION:PT1H
X-Robots-Tag:noindex
X-PUBLISHED-TTL:PT1H
BEGIN:VTIMEZONE
TZID:Europe/Warsaw
BEGIN:DAYLIGHT
TZOFFSETFROM:+0100
TZOFFSETTO:+0200
TZNAME:CEST
DTSTART:20240331T010000
END:DAYLIGHT
BEGIN:STANDARD
TZOFFSETFROM:+0200
TZOFFSETTO:+0100
TZNAME:CET
DTSTART:20241027T010000
END:STANDARD
END:VTIMEZONE
BEGIN:VEVENT
DTSTART;TZID=Europe/Warsaw:20240829T053000
DTEND;TZID=Europe/Warsaw:20240829T223000
DTSTAMP:20260423T150125
CREATED:20240725T115058Z
LAST-MODIFIED:20240919T113014Z
UID:10018873-1724909400-1724970600@kultura.tarnow.pl
SUMMARY:"Łąka kwietna"
DESCRIPTION:Wystawa plenerowa rzeźb kwiatów wokół Pałacyku Strzeleckiego – siedziby Biura Wystaw Artystycznych w Tarnowie.\n\nRzeźby polskich kwiatów polnych mają ponad metr wysokości\, wykonane są z blachy\, metalowych elementów z recyklingu oraz styropianu. Pomalowane emalią zyskują bajkowy charakter\, a zarazem uderzają sztucznością. Autorki Weronika Krupa i Anna Sudoł myślą o tych rzeźbach jako o pomnikach kwiatów rosnących na dzikich łąkach m.in. maka\, firletki\, maruny. Ich „sztuczne kwiaty” są ustawiane na naturalnej łące\, wysianej z nasion od Łukasza Łuczaja\, botanika zajmującego się zawodowo m.in. etnobotaniką\, autora książek i popularyzatora dzikiej kuchni.\n\nCelem Łukasza Łuczaja jest przywrócenie bioróżnorodności w mieście i zwrócenie uwagi na zubożenie polskiej flory i fauny. Świat nauki i sztuki spotykają się\, łączą siły\, a efektem tej współpracy jest „Łąka kwietna” – wystawa\, która zwraca uwagę na bogactwo naszej przyrody oraz wspiera ideę zachowania i tworzenia nowej dzikiej roślinności na terenach miast. Polska flora i fauna są naszym dziedzictwem\, tak samo jak wielkie dzieła malarstwa i literatury. Dlaczego nie stawiać im pomników?\n\nTo trzeci pokaz plenerowy „Łąki kwietnej”\, rzeźb wykonanych przez Weronikę Krupę i Annę Sudoł. Pierwszy miał miejsce na terenie bulwarów w Rzeszowie i był przygotowany w ramach Europejskiego Stadionu Kultury 2022 organizowanego przez Estradę Rzeszowską. Drugi odbył się w ubiegłym roku podczas Forum Ekonomicznego w Karpaczu.\nRzeźby są instalacją artystyczną. Prosimy traktować je jak dzieła sztuki i nie dotykać. Można do woli fotografować.\n\n\nWernisaż 30 VII (wtorek)\, g. 18.00\, spotkanie przed Pałacykiem StrzeleckimWystawa dostępna w godzinach otwarcia Parku Strzeleckiego do października 2024 r.\n\nAnna Sudoł Absolwentka Akademii Sztuk Pięknych w Warszawie. W 2015 r. na łamach magazynu „Szum” opublikowała w odcinkach kryminał „Jak sztuka krytyczna zniszczyła mi życie”. Laureatka 12. Konkursu Gepperta\, wraz z Weroniką Krupą i Galerią Potencja otrzymała nagrodę główną Cracow Gallery Weekend za najlepszą wystawę „Takie tam z awangardą” w Galerii Potencja (2017). W 2020 r. nakładem Wydawnictwa Ha!art ukazała się jej debiutancka powieść „Projekt”\, opisująca artystyczne środowisko Warszawy\, o książce pisały m.in. „Polityka”\, „Sieci”\, „Dwutygodnik”\, „Culture.pl”\, „Stoner Polski”\, „Przekrój”. Współtworzy zespół Czarodziej i Pan Enigmo\, gdzie pisze teksty\, śpiewa\, rapuje\, tworzy teledyski. W 2020 r. nakładem wydawnictwa Nagrania Somnambuliczne ukazał się debiutancki koncept-album zespołu. W 2025 r. nakładem Wydawnictwa Ha!art ukaże się jej druga książka. Mieszka w Warszawie na Pradze.\n\nWeronika KrupaAbsolwentka Akademii Sztuk Pięknych im. W. Strzemińskiego w Łodzi\, dyplom w Pracowni Kostiumu Teatralnego i Filmowego dr hab. Ewy Bloom-Kwiatkowskiej oraz Pracowni Działań Intermedialnych prof. Przemysława Wachowskiego. Podczas studiów odbyła prestiżowy staż w pracowni kostiumograficznej Karen Young w Nowym Jorku\, gdzie współpracowała z tancerzami z Third Rail Project. Autorka instalacji\, utworów wideo\, kolaży\, plakatów oraz obiektów malarskich i rzeźbiarskich\, pracuje także w teatrze jako projektantka scenografii i kostiumów. Jej etiudy filmowo-kostiumowe nagradzane były w konkursach artystycznych oraz prezentowane na licznych wystawach i pokazach\, m. in. na Festiwalu Nowej Scenografii w Katowicach (wyróżnienie w Konkursie o Nagrodę Scenograficzną im. Jerzego Moskala 2016 za pracę magisterska). Ta sama praca zaprezentowana została podczas PQ – Praskiego Quadriennale 2019 na wystawie organizowanej przez Ośrodek Polski Międzynarodowego Instytutu Teatralnego oraz Muzeum Śląskie\, prezentującej najlepsze prace dyplomowe polskich uczelni artystycznych ostatnich 4 lat. W 2017 r. wraz z Weroniką Krupą i Galerią Potencja otrzymała nagrodę główną Cracow Gallery Weekend za najlepszą wystawę „Takie tam z awangardą” w Galerii Potencja. Stypendystka Ministra Kultury\, Dziedzictwa Narodowego i Sportu (2021). W 2023 r. z grupą aktorów i performerów z Latającego Teatru Kantorowi stworzyła w Tarnowie spektakl w reżyserii Grażyny Tabor na podstawie książki Mikołaja Łozińskiego Stramer\, którego premiera odbyła się w oddziale BWA – MCA Wałowa 25. Mieszka w Rzeszowie.\n\nProjekt powstał w ramach Europejskiego Stadionu Kultury 2022\, organizowanego przez Estradę Rzeszowską.
URL:https://kultura.tarnow.pl/wydarzenie/laka-kwietna-2/2024-08-29/
LOCATION:Biuro Wystaw Artystycznych\, ul. Słowackiego 1\, Tarnów\, małopolskie\, 33-100\, Polska
CATEGORIES:wystawy
ATTACH;FMTTYPE=image/jpeg:https://kultura.tarnow.pl/wp-content/uploads/452936272_1009970607802946_3106473495978847767_n.jpg
ORGANIZER;CN="Biuro Wystaw Artystycznych":MAILTO:biuro@bwa.tarnow.pl
GEO:50.0178761;20.9827521
X-APPLE-STRUCTURED-LOCATION;VALUE=URI;X-ADDRESS=Biuro Wystaw Artystycznych ul. Słowackiego 1 Tarnów małopolskie 33-100 Polska;X-APPLE-RADIUS=500;X-TITLE=ul. Słowackiego 1:geo:20.9827521,50.0178761
END:VEVENT
BEGIN:VEVENT
DTSTART;TZID=Europe/Warsaw:20240829T100000
DTEND;TZID=Europe/Warsaw:20240829T170000
DTSTAMP:20260423T150125
CREATED:20240821T062010Z
LAST-MODIFIED:20240821T062010Z
UID:10019379-1724925600-1724950800@kultura.tarnow.pl
SUMMARY:Krystyna Lipka-Czajkowska „Kapliczka - punkt kontrolny”
DESCRIPTION:W ramach projektu odbędą się dwa spotkania z artystką w formie spacerów – okazje do wspólnego wędrowania po Tarnowie i rozmów: \n21.08 (środa)\, g. 17:00 / zbiórka przy MCA\, Wałowa 25 \n23.08 (piątek)\, g. 17:00 / zbiórka przed budynkiem Liceum Sztuk Plastycznych w Tarnowie\, ul. Westwalewicza 6 \nArtystka będzie w Tarnowie po raz pierwszy. Zaprasza do wspólnego odkrywania Tarnowa i spotkania w formie spaceru. Zapraszamy zarówno tych\, którzy chcieliby podzielić się swoją wiedzą na temat Tarnowa i swoimi wspomnieniami\, jak i tych\, którzy chcieliby takich wspomnień posłuchać. Spotkania są otwarte dla wszystkich grup wiekowych. \nNie obowiązują zapisy. Przewidywany czas trwania: około 60-90 minut. Wstęp wolny. \n*W przypadku niesprzyjającej pogody\, spotkania odbędą się w Multimedialnym Centrum Artystycznym\, Wałowa 25. \nMultimedialne Centrum Artystyczne / Wałowa 25 – oddział BWA Tarnów. \n22.08-1.09.2024 \nWstęp wolny \nWystawa czynna: \nponiedziałek\, środa\, czwartek 10:00-17:00 \nniedziela 11:00-18:00 \n„Kapliczka – punkt kontrolny” to artystyczna koncepcja inspirowana przydrożną architekturą kultową. Jej założeniem jest stworzenie mobilnego obiektu w skali człowieka\, który przemieszczany przez artystkę pozwala na wędrówkę w terenie w poszukiwaniu nowego miejsca mocy. Koncept kapliczki ulega symbolicznej dekonstrukcji. Zostaje wyjęta i pozbawiona stałego miejsca\, dodatkowo często związana z nią figura uwalnia się i staje w nowej relacji wobec elementu architektonicznego. Artystka tworzy machinę łączącą jej ciało z architektoniczną formą i zaprasza do wyemigrowania z dobrze znanych obszarów\, aby wspólnie tworzyć nowe struktury mentalne i wizualne w odniesieniu do drogi i danego miejsca. Poprzez wędrówkę po Tarnowie otwiera się na nowe spotkania z historią miasta i jego aktualną mapą. Artystka „ubrana” w kapliczkę będzie wędrować po śladach\, ale też poszukiwać współczesnych miejsc mocy na przecięciu konkretnych przestrzeni\, wyobrażeń na ich temat\, a także pamięci w nich zawartej. Twórcza wędrówka artystki ma na celu uchwycenie nowych płynnych granic i skrzyżowań\, na styku duchowości i kultury materialnej. \nKrystyna Lipka – Czajkowska – artystka i edukatorka. Absolwentka Akademii Sztuk Pięknych w Poznaniu. Stypendystka Ministra Kultury i Dziedzictwa Narodowego (2007). Autorka cykli malarskich\, szytych obiektów przestrzennych i działań w przestrzeni publicznej. Inicjatorka przedsięwzięć artystycznych integrujących różne grupy społeczne: kobiety\, seniorów oraz młodzież szkolną poprzez twórcze działania przekształcające ich najbliższą przestrzeń. Twórczyni wystaw\, warsztatów tematycznych\, prezentacji i spotkań poświęconych zjawiskom kultury współczesnej. Mieszka w Poznaniu.
URL:https://kultura.tarnow.pl/wydarzenie/krystyna-lipka-czajkowska-kapliczka-punkt-kontrolny/2024-08-29/
LOCATION:Multimedialne Centrum Artystyczne\, Wałowa 25\, Tarnów\, małopolskie\, 33-100\, Polska
CATEGORIES:spotkania
ATTACH;FMTTYPE=image/png:https://kultura.tarnow.pl/wp-content/uploads/Kapliczka.-Punkt-kontrolny.png
ORGANIZER;CN="Biuro Wystaw Artystycznych":MAILTO:biuro@bwa.tarnow.pl
GEO:50.013866931068;20.987989998201
X-APPLE-STRUCTURED-LOCATION;VALUE=URI;X-ADDRESS=Multimedialne Centrum Artystyczne Wałowa 25 Tarnów małopolskie 33-100 Polska;X-APPLE-RADIUS=500;X-TITLE=Wałowa 25:geo:20.987989998201,50.013866931068
END:VEVENT
BEGIN:VEVENT
DTSTART;TZID=Europe/Warsaw:20240829T170000
DTEND;TZID=Europe/Warsaw:20240829T190000
DTSTAMP:20260423T150125
CREATED:20240814T120638Z
LAST-MODIFIED:20240814T120638Z
UID:10019366-1724950800-1724958000@kultura.tarnow.pl
SUMMARY:„Każdy ma prawo do odrobiny szczęścia... kilka słów o kolekcjonowaniu” – wykład
DESCRIPTION:„Każdy ma prawo do odrobiny szczęścia… kilka słów o kolekcjonowaniu” – wykład Elżbiety Kubińskiej o kolekcjonowaniu sztuki \nWykład odbędzie się w przestrzeni wystawy „A co Wy tam macie na ścianie?”\, prezentującej prace z prywatnej kolekcji Kingi i Marcina Mruków oraz prace z publicznej kolekcji Małopolskiej Fundacji Muzeum Sztuki Współczesnej. / finisaż wystawy \nBWA Tarnów\, Dworzec PKP\, Pl. Dworcowy 4 \nWstęp wolny \nWykład wprowadzi słuchaczy w fascynujący świat kolekcjonowania sztuki. Wykład poświęcony głównie kwestii wartości rynkowej kolekcji\, będzie odwoływać się również do wartości emocjonalnych związanych z kolekcjonowaniem. Zostaną poruszone kluczowe aspekty budowania kolekcji\, takie jak wybór tematu\, strategie zbierania\, zarządzanie kolekcją oraz jak te aspekty wpływają na wartość rynkową kolekcji. Kolekcjonowanie może być źródłem szczęścia\, ale także może stać się formą inwestycji. \nElżbieta Kubińska jest zatrudniona na stanowisku profesora nadzwyczajnego Uniwersytetu Ekonomicznego w Krakowie\, od 2021 roku pełni funkcję Kierownika Katedry Zarządzania Ryzykiem i Ubezpieczeń\, od 2020 roku pełni funkcję Dyrektora Instytutu Finansów. Posiada tytuł magistra matematyki finansowej\, doktorat z analizy matematycznej i habilitację z zakresu finansów behawioralnych. Od lat uczestniczy w międzynarodowych konferencjach\, opublikowała wiele artykułów w czasopismach krajowych i międzynarodowych. Jej zainteresowania dydaktyczne i badawcze koncentrują się na ekonomii behawioralnej\, zarządzaniu ryzykiem\, inwestycjach alternatywnych. Odbyła staże naukowe: Department of Mathematics and Computer Sciences\, University of Perugia\, Włochy (2003); Jiangxi University Finance and Economics\, Nanchang\, Chiny (2011); Seidman College of Business – Grand Valley State University\, Grand Rapids\, Stany Zjednoczone (2018); Panthéon Assas University – Sorbone II Paryż\, Francja (2019). W ramach programu Erasmus wielokrotnie prowadziła zajęcia m.in. na University of Athens (Grecja)\, University of Valencia\, (Hiszpania)\, University of Porto (Portugalia)\, Guru Gobind Singh Indraprastha University in New Delhi (India). \nOd lat interesuje się sztuką\, kolekcjonuje sztukę współczesną\, głównie artystów wywodzących się z krakowskiej Akademii Sztuk Pięknych. Jest absolwentką studiów podyplomowych rynek sztuki i antyków na Krakowskiej Akademii im. Andrzeja Frycza Modrzewskiego\, realizowanych przy współpracy z Stowarzyszeniem Antykwariuszy i Marszandów Polskich. Jest koordynatorką projektu Sztuka na UEK w ramach UEK Odpowiedzialny. Z jej inicjatywy powstało Koło Naukowe Art & Finance łączące studentów Uniwersytetu Ekonomicznego w Krakowie oraz Akademii Sztuk Pięknych w Krakowie. Koordynuje także projekt CyberSalon Sztuki\, który ma na celu rozwój rynku sztuki poprzez: zaszczepienie idei kolekcjonowania dzieł sztuki wśród studentów uczelni ekonomicznych\, wsparcie studentów i absolwentów uczelni artystycznych we wprowadzaniu dzieł sztuki na rynek sztuki\, wielowymiarowe działania edukacyjne i naukowe w różnych grupach wiekowych\, współpracę ze środowiskiem przedsiębiorców. \nWięcej o wystawie „A co Wy tam macie na ścianie?”: https://www.bwa.tarnow.pl/1\,1381\,wystawy\,a-co-wy-tam-macie-na-scianie.html \nPartnerem wykładu jest Instytut Finansów Uniwersytetu Ekonomicznego w Krakowie\, wydarzenie jest realizowane w ramach cyklu spotkań „Jak to zrobiłem?” oraz projektu Sztuka na UEK. \nWystawy BWA Tarnów w oddziale na Dworcu PKP i wydarzenia im towarzyszące są realizowane przy wsparciu finansowym Miasta Tarnowa i Województwa Małopolskiego.
URL:https://kultura.tarnow.pl/wydarzenie/kazdy-ma-prawo-do-odrobiny-szczescia-kilka-slow-o-kolekcjonowaniu-wyklad/
LOCATION:BWA na Dworcu PKP\, Plac Dworcowy 4\, Tarnów\, małopolskie\, 33-100\, Polska
CATEGORIES:spotkania
ATTACH;FMTTYPE=image/jpeg:https://kultura.tarnow.pl/wp-content/uploads/MKolekcja-plakat-A3-scaled.jpg
ORGANIZER;CN="Biuro Wystaw Artystycznych":MAILTO:biuro@bwa.tarnow.pl
GEO:50.0057629;20.9744639
X-APPLE-STRUCTURED-LOCATION;VALUE=URI;X-ADDRESS=BWA na Dworcu PKP Plac Dworcowy 4 Tarnów małopolskie 33-100 Polska;X-APPLE-RADIUS=500;X-TITLE=Plac Dworcowy 4:geo:20.9744639,50.0057629
END:VEVENT
END:VCALENDAR