BEGIN:VCALENDAR
VERSION:2.0
PRODID:-//kultura.tarnów - ECPv6.4.0.1//NONSGML v1.0//EN
CALSCALE:GREGORIAN
METHOD:PUBLISH
X-WR-CALNAME:kultura.tarnów
X-ORIGINAL-URL:https://kultura.tarnow.pl
X-WR-CALDESC:Wydarzenia dla
REFRESH-INTERVAL;VALUE=DURATION:PT1H
X-Robots-Tag:noindex
X-PUBLISHED-TTL:PT1H
BEGIN:VTIMEZONE
TZID:Europe/Warsaw
BEGIN:DAYLIGHT
TZOFFSETFROM:+0100
TZOFFSETTO:+0200
TZNAME:CEST
DTSTART:20240331T010000
END:DAYLIGHT
BEGIN:STANDARD
TZOFFSETFROM:+0200
TZOFFSETTO:+0100
TZNAME:CET
DTSTART:20241027T010000
END:STANDARD
END:VTIMEZONE
BEGIN:VEVENT
DTSTART;TZID=Europe/Warsaw:20240821T053000
DTEND;TZID=Europe/Warsaw:20240821T223000
DTSTAMP:20260423T150126
CREATED:20240725T115058Z
LAST-MODIFIED:20240919T113014Z
UID:10018865-1724218200-1724279400@kultura.tarnow.pl
SUMMARY:"Łąka kwietna"
DESCRIPTION:Wystawa plenerowa rzeźb kwiatów wokół Pałacyku Strzeleckiego – siedziby Biura Wystaw Artystycznych w Tarnowie.\n\nRzeźby polskich kwiatów polnych mają ponad metr wysokości\, wykonane są z blachy\, metalowych elementów z recyklingu oraz styropianu. Pomalowane emalią zyskują bajkowy charakter\, a zarazem uderzają sztucznością. Autorki Weronika Krupa i Anna Sudoł myślą o tych rzeźbach jako o pomnikach kwiatów rosnących na dzikich łąkach m.in. maka\, firletki\, maruny. Ich „sztuczne kwiaty” są ustawiane na naturalnej łące\, wysianej z nasion od Łukasza Łuczaja\, botanika zajmującego się zawodowo m.in. etnobotaniką\, autora książek i popularyzatora dzikiej kuchni.\n\nCelem Łukasza Łuczaja jest przywrócenie bioróżnorodności w mieście i zwrócenie uwagi na zubożenie polskiej flory i fauny. Świat nauki i sztuki spotykają się\, łączą siły\, a efektem tej współpracy jest „Łąka kwietna” – wystawa\, która zwraca uwagę na bogactwo naszej przyrody oraz wspiera ideę zachowania i tworzenia nowej dzikiej roślinności na terenach miast. Polska flora i fauna są naszym dziedzictwem\, tak samo jak wielkie dzieła malarstwa i literatury. Dlaczego nie stawiać im pomników?\n\nTo trzeci pokaz plenerowy „Łąki kwietnej”\, rzeźb wykonanych przez Weronikę Krupę i Annę Sudoł. Pierwszy miał miejsce na terenie bulwarów w Rzeszowie i był przygotowany w ramach Europejskiego Stadionu Kultury 2022 organizowanego przez Estradę Rzeszowską. Drugi odbył się w ubiegłym roku podczas Forum Ekonomicznego w Karpaczu.\nRzeźby są instalacją artystyczną. Prosimy traktować je jak dzieła sztuki i nie dotykać. Można do woli fotografować.\n\n\nWernisaż 30 VII (wtorek)\, g. 18.00\, spotkanie przed Pałacykiem StrzeleckimWystawa dostępna w godzinach otwarcia Parku Strzeleckiego do października 2024 r.\n\nAnna Sudoł Absolwentka Akademii Sztuk Pięknych w Warszawie. W 2015 r. na łamach magazynu „Szum” opublikowała w odcinkach kryminał „Jak sztuka krytyczna zniszczyła mi życie”. Laureatka 12. Konkursu Gepperta\, wraz z Weroniką Krupą i Galerią Potencja otrzymała nagrodę główną Cracow Gallery Weekend za najlepszą wystawę „Takie tam z awangardą” w Galerii Potencja (2017). W 2020 r. nakładem Wydawnictwa Ha!art ukazała się jej debiutancka powieść „Projekt”\, opisująca artystyczne środowisko Warszawy\, o książce pisały m.in. „Polityka”\, „Sieci”\, „Dwutygodnik”\, „Culture.pl”\, „Stoner Polski”\, „Przekrój”. Współtworzy zespół Czarodziej i Pan Enigmo\, gdzie pisze teksty\, śpiewa\, rapuje\, tworzy teledyski. W 2020 r. nakładem wydawnictwa Nagrania Somnambuliczne ukazał się debiutancki koncept-album zespołu. W 2025 r. nakładem Wydawnictwa Ha!art ukaże się jej druga książka. Mieszka w Warszawie na Pradze.\n\nWeronika KrupaAbsolwentka Akademii Sztuk Pięknych im. W. Strzemińskiego w Łodzi\, dyplom w Pracowni Kostiumu Teatralnego i Filmowego dr hab. Ewy Bloom-Kwiatkowskiej oraz Pracowni Działań Intermedialnych prof. Przemysława Wachowskiego. Podczas studiów odbyła prestiżowy staż w pracowni kostiumograficznej Karen Young w Nowym Jorku\, gdzie współpracowała z tancerzami z Third Rail Project. Autorka instalacji\, utworów wideo\, kolaży\, plakatów oraz obiektów malarskich i rzeźbiarskich\, pracuje także w teatrze jako projektantka scenografii i kostiumów. Jej etiudy filmowo-kostiumowe nagradzane były w konkursach artystycznych oraz prezentowane na licznych wystawach i pokazach\, m. in. na Festiwalu Nowej Scenografii w Katowicach (wyróżnienie w Konkursie o Nagrodę Scenograficzną im. Jerzego Moskala 2016 za pracę magisterska). Ta sama praca zaprezentowana została podczas PQ – Praskiego Quadriennale 2019 na wystawie organizowanej przez Ośrodek Polski Międzynarodowego Instytutu Teatralnego oraz Muzeum Śląskie\, prezentującej najlepsze prace dyplomowe polskich uczelni artystycznych ostatnich 4 lat. W 2017 r. wraz z Weroniką Krupą i Galerią Potencja otrzymała nagrodę główną Cracow Gallery Weekend za najlepszą wystawę „Takie tam z awangardą” w Galerii Potencja. Stypendystka Ministra Kultury\, Dziedzictwa Narodowego i Sportu (2021). W 2023 r. z grupą aktorów i performerów z Latającego Teatru Kantorowi stworzyła w Tarnowie spektakl w reżyserii Grażyny Tabor na podstawie książki Mikołaja Łozińskiego Stramer\, którego premiera odbyła się w oddziale BWA – MCA Wałowa 25. Mieszka w Rzeszowie.\n\nProjekt powstał w ramach Europejskiego Stadionu Kultury 2022\, organizowanego przez Estradę Rzeszowską.
URL:https://kultura.tarnow.pl/wydarzenie/laka-kwietna-2/2024-08-21/
LOCATION:Biuro Wystaw Artystycznych\, ul. Słowackiego 1\, Tarnów\, małopolskie\, 33-100\, Polska
CATEGORIES:wystawy
ATTACH;FMTTYPE=image/jpeg:https://kultura.tarnow.pl/wp-content/uploads/452936272_1009970607802946_3106473495978847767_n.jpg
ORGANIZER;CN="Biuro Wystaw Artystycznych":MAILTO:biuro@bwa.tarnow.pl
GEO:50.0178761;20.9827521
X-APPLE-STRUCTURED-LOCATION;VALUE=URI;X-ADDRESS=Biuro Wystaw Artystycznych ul. Słowackiego 1 Tarnów małopolskie 33-100 Polska;X-APPLE-RADIUS=500;X-TITLE=ul. Słowackiego 1:geo:20.9827521,50.0178761
END:VEVENT
BEGIN:VEVENT
DTSTART;TZID=Europe/Warsaw:20240821T090000
DTEND;TZID=Europe/Warsaw:20240821T150000
DTSTAMP:20260423T150126
CREATED:20240625T093933Z
LAST-MODIFIED:20240801T092247Z
UID:10017977-1724230800-1724252400@kultura.tarnow.pl
SUMMARY:Warsztaty teatralne – “Do siebie uśmiechnąć się”
DESCRIPTION:W trzecim tygodniu sierpnia Teatr im. Ludwika Solskiego zaprasza wszystkie dzieci w wieku od 8 do 11 lat na wakacyjne warsztaty teatralne połączone z zajęciami muzycznymi i plastycznymi. Jest to gratka dla dzieci\, które lubią ruch\, taniec\, pracę zespołową czy muzykę\, i które chcą kreatywnie spędzić końcówkę wakacji.\n\n\n\nPodczas kilkudniowych zajęć uczestnicy zapoznają się z podstawami improwizacji teatralnej\, roli muzyki i plastyki w teatrze. Dzieci będą mogły szlifować swój talent wokalny i muzyczny\, popracują między innymi nad interpretacją utworów\, czy emisją głosu. W planie zajęć znajdują się także m.in. aktorskie czytanie tekstu\, ćwiczenia rytmiczne\, zabawy aktorskie\, ćwiczenia z ruchu scenicznego\, nauka śpiewania\, praca z akompaniatorem.\n\n\n\nW świecie ogarniętym przez zamęt\, wojny\, wyrachowanie\, konsumpcjonizm\, pośpiech\, jest małe miejsce\, w którym można znaleźć schron: to Kraina Łagodności\, Kraina Poezji. Będziemy wraz z uczestnikami warsztatów podróżować po światach wypełnionych czułością\, miłością i radością\, po światach stworzonych przez wybitnych poetów. Będziemy odkrywać co naprawdę jest ważne\, czym są emocje\, jaki wpływa ma na nas poezja i muzyka. Zapraszamy wszystkich\, którzy mają odwagę i chęć podzielić się z nami swoim talentem\, kreatywnością i marzeniami – mówi Monika Wenta\, prowadząca warsztaty.\n\n\n\nZapraszamy dzieci w wieku 8-11 lat umiejące samodzielnie czytać\, co jest istotne podczas nauki tekstu na pamięć.\n\n\nCzas trwania: 19 – 22 sierpnia (poniedziałek-czwartek)\, w godzinach od 9:00 do 15:00\, a w piątek 23 sierpnia od 10:00 do 17:00.\n\n\nKoszt: 650 zł.\, w tym obiadowy catering + napój\n\n\nIlość uczestników – 20 osób\n\n\n\nProwadzący: Monika Wenta – aktorka\, Piotr Niedojadło – pianista\, kompozytor oraz Agnieszka Jasielec – prowadząca zajęcia plastyczne.\n\n\nZapisy i płatność na warsztaty w Biurze Promocji i Organizacji Widowni\, tel. 14 688-32-87\, 784-976-025\, do piątku 28 czerwca 2024 roku.\n\n\n\nPrzy płatności należy przynieść wypełnioną dokumentację: kwestionariusz osobowy\, zgodę na wykorzystanie wizerunku\, oświadczenie dotyczące powrotu dziecka z warsztatów.\n\n\nProsimy też o zapoznanie się z regulaminem warsztatów (wszystkie dokumenty do pobrania na stronie internetowej teatru).\n\n\nNa zajęcia prosimy o przyniesienie drugiego śniadania\, napojów\, wygodnego stroju i obuwia na zmianę.
URL:https://kultura.tarnow.pl/wydarzenie/warsztaty-teatralne-do-siebie-usmiechnac-sie/2024-08-21/
LOCATION:Teatr im. L.Solskiego\, Mickiewicza 4\, Tarnów\, małopolskie\, 33-100\, Polska
CATEGORIES:warsztaty
GEO:50.0159214;20.987504
X-APPLE-STRUCTURED-LOCATION;VALUE=URI;X-ADDRESS=Teatr im. L.Solskiego Mickiewicza 4 Tarnów małopolskie 33-100 Polska;X-APPLE-RADIUS=500;X-TITLE=Mickiewicza 4:geo:20.987504,50.0159214
END:VEVENT
BEGIN:VEVENT
DTSTART;TZID=Europe/Warsaw:20240821T100000
DTEND;TZID=Europe/Warsaw:20240821T113000
DTSTAMP:20260423T150126
CREATED:20240627T121226Z
LAST-MODIFIED:20240627T121617Z
UID:10018413-1724234400-1724239800@kultura.tarnow.pl
SUMMARY:Lato w BWA
DESCRIPTION:Wakacyjne warsztaty dla dzieci \nNiech (o)żyje abstrakcja! \nUważamy\, że lato i wakacje to doskonały czas na najbardziej abstrakcyjne realizacje! W tym roku stawiamy na kolor (przypominamy\, że czarny i biały to też kolory) zrobimy prace bez sensu i doniczkę. Wykleimy i zakleimy\, zrobimy obraz z nitki – ale bez igły\, użyjemy siatki\, ale nie po to oby odgrodzić się od sąsiada (chyba\, że ktoś będzie chciał)! A to wszystko\, jak zawsze w duchu ekologii! Skorzystamy z materiałów naturalnych i tych z drugiego obiegu! \nTerminy do wyboru: \n8-12.07.2024 / od poniedziałku do piątku \n19.08-23.08.2024/ od poniedziałku do piątku  \ngodz. 10:00-11:30\nwiek uczestników: 6-12 lat\nPałacyk Strzelecki\, ul. Słowackiego 1\nopłata: 100 zł za 5 dni zajęć / uczestnik / płatne z góry przelewem \nMateriały zapewnia organizator.\nLiczba miejsc ograniczona. Obowiązują zapisy: edukacja@bwa.tarnow.pl\, 606 146 520.
URL:https://kultura.tarnow.pl/wydarzenie/lato-w-bwa/2024-08-21/
LOCATION:Biuro Wystaw Artystycznych\, ul. Słowackiego 1\, Tarnów\, małopolskie\, 33-100\, Polska
CATEGORIES:warsztaty
ORGANIZER;CN="Biuro Wystaw Artystycznych":MAILTO:biuro@bwa.tarnow.pl
GEO:50.0178761;20.9827521
X-APPLE-STRUCTURED-LOCATION;VALUE=URI;X-ADDRESS=Biuro Wystaw Artystycznych ul. Słowackiego 1 Tarnów małopolskie 33-100 Polska;X-APPLE-RADIUS=500;X-TITLE=ul. Słowackiego 1:geo:20.9827521,50.0178761
END:VEVENT
BEGIN:VEVENT
DTSTART;TZID=Europe/Warsaw:20240821T100000
DTEND;TZID=Europe/Warsaw:20240821T160000
DTSTAMP:20260423T150126
CREATED:20240801T120936Z
LAST-MODIFIED:20240801T120936Z
UID:10018944-1724234400-1724256000@kultura.tarnow.pl
SUMMARY:Wakacyjne warsztaty teatralne – “Do siebie uśmiechnąć się”
DESCRIPTION:W trzecim tygodniu sierpnia Teatr im. Ludwika Solskiego zaprasza wszystkie dzieci w wieku od 8 do 11 lat na wakacyjne warsztaty teatralne połączone z zajęciami muzycznymi i plastycznymi. Jest to gratka dla dzieci\, które lubią ruch\, taniec\, pracę zespołową czy muzykę\, i które chcą kreatywnie spędzić końcówkę wakacji. \nPodczas kilkudniowych zajęć uczestnicy zapoznają się z podstawami improwizacji teatralnej\, roli muzyki i plastyki w teatrze. Dzieci będą mogły szlifować swój talent wokalny i muzyczny\, popracują między innymi nad interpretacją utworów\, czy emisją głosu. W planie zajęć znajdują się także m.in. aktorskie czytanie tekstu\, ćwiczenia rytmiczne\, zabawy aktorskie\, ćwiczenia z ruchu scenicznego\, nauka śpiewania\, praca z akompaniatorem. \nW świecie ogarniętym przez zamęt\, wojny\, wyrachowanie\, konsumpcjonizm\, pośpiech\, jest małe miejsce\, w którym można znaleźć schron: to Kraina Łagodności\, Kraina Poezji. Będziemy wraz z uczestnikami warsztatów podróżować po światach wypełnionych czułością\, miłością i radością\, po światach stworzonych przez wybitnych poetów. Będziemy odkrywać co naprawdę jest ważne\, czym są emocje\, jaki wpływa ma na nas poezja i muzyka. Zapraszamy wszystkich\, którzy mają odwagę i chęć podzielić się z nami swoim talentem\, kreatywnością i marzeniami – mówi Monika Wenta\, prowadząca warsztaty. \n„Wszystko to jest splendor\, móc i mieć prawo: do siebie uśmiechnąć się” (E. Stachura) \nZapraszamy dzieci w wieku 8-11 lat umiejące samodzielnie czytać\, co jest istotne podczas nauki tekstu na pamięć.\nCzas trwania: 19 – 22 sierpnia (poniedziałek-czwartek)\, w godzinach od 9:00 do 15:00\, a w piątek 23 sierpnia od 10:00 do 16:00. \nKoszt: 650 zł.\, w tym obiadowy catering + napój \nIlość uczestników – 20 osób \nProwadzący: Monika Wenta – aktorka\, Piotr Niedojadło – pianista\, kompozytor oraz Agnieszka Jasielec – prowadząca zajęcia plastyczne. \nZapisy i płatność na warsztaty w Biurze Promocji i Organizacji Widowni\, tel. 14 688-32-87\, 784-976-025\, do piątku 28 czerwca 2024 roku. \nPrzy płatności należy przynieść wypełnioną dokumentację: \n\nkwestionariusz osobowy\nzgodę na wykorzystanie wizerunku\noświadczenie dotyczące powrotu dziecka z warsztatów.\n\nProsimy też o zapoznanie się z regulaminem warsztatów (wszystkie dokumenty do pobrania poniżej). \nNa zajęcia prosimy o przyniesienie drugiego śniadania\, napojów\, wygodnego stroju i obuwia na zmianę.
URL:https://kultura.tarnow.pl/wydarzenie/wakacyjne-warsztaty-teatralne-do-siebie-usmiechnac-sie/2024-08-21/
LOCATION:Teatr im. L.Solskiego\, Mickiewicza 4\, Tarnów\, małopolskie\, 33-100\, Polska
CATEGORIES:warsztaty
GEO:50.0159214;20.987504
X-APPLE-STRUCTURED-LOCATION;VALUE=URI;X-ADDRESS=Teatr im. L.Solskiego Mickiewicza 4 Tarnów małopolskie 33-100 Polska;X-APPLE-RADIUS=500;X-TITLE=Mickiewicza 4:geo:20.987504,50.0159214
END:VEVENT
BEGIN:VEVENT
DTSTART;TZID=Europe/Warsaw:20240821T100000
DTEND;TZID=Europe/Warsaw:20240821T170000
DTSTAMP:20260423T150126
CREATED:20240821T062010Z
LAST-MODIFIED:20240821T062010Z
UID:10019374-1724234400-1724259600@kultura.tarnow.pl
SUMMARY:Krystyna Lipka-Czajkowska „Kapliczka - punkt kontrolny”
DESCRIPTION:W ramach projektu odbędą się dwa spotkania z artystką w formie spacerów – okazje do wspólnego wędrowania po Tarnowie i rozmów: \n21.08 (środa)\, g. 17:00 / zbiórka przy MCA\, Wałowa 25 \n23.08 (piątek)\, g. 17:00 / zbiórka przed budynkiem Liceum Sztuk Plastycznych w Tarnowie\, ul. Westwalewicza 6 \nArtystka będzie w Tarnowie po raz pierwszy. Zaprasza do wspólnego odkrywania Tarnowa i spotkania w formie spaceru. Zapraszamy zarówno tych\, którzy chcieliby podzielić się swoją wiedzą na temat Tarnowa i swoimi wspomnieniami\, jak i tych\, którzy chcieliby takich wspomnień posłuchać. Spotkania są otwarte dla wszystkich grup wiekowych. \nNie obowiązują zapisy. Przewidywany czas trwania: około 60-90 minut. Wstęp wolny. \n*W przypadku niesprzyjającej pogody\, spotkania odbędą się w Multimedialnym Centrum Artystycznym\, Wałowa 25. \nMultimedialne Centrum Artystyczne / Wałowa 25 – oddział BWA Tarnów. \n22.08-1.09.2024 \nWstęp wolny \nWystawa czynna: \nponiedziałek\, środa\, czwartek 10:00-17:00 \nniedziela 11:00-18:00 \n„Kapliczka – punkt kontrolny” to artystyczna koncepcja inspirowana przydrożną architekturą kultową. Jej założeniem jest stworzenie mobilnego obiektu w skali człowieka\, który przemieszczany przez artystkę pozwala na wędrówkę w terenie w poszukiwaniu nowego miejsca mocy. Koncept kapliczki ulega symbolicznej dekonstrukcji. Zostaje wyjęta i pozbawiona stałego miejsca\, dodatkowo często związana z nią figura uwalnia się i staje w nowej relacji wobec elementu architektonicznego. Artystka tworzy machinę łączącą jej ciało z architektoniczną formą i zaprasza do wyemigrowania z dobrze znanych obszarów\, aby wspólnie tworzyć nowe struktury mentalne i wizualne w odniesieniu do drogi i danego miejsca. Poprzez wędrówkę po Tarnowie otwiera się na nowe spotkania z historią miasta i jego aktualną mapą. Artystka „ubrana” w kapliczkę będzie wędrować po śladach\, ale też poszukiwać współczesnych miejsc mocy na przecięciu konkretnych przestrzeni\, wyobrażeń na ich temat\, a także pamięci w nich zawartej. Twórcza wędrówka artystki ma na celu uchwycenie nowych płynnych granic i skrzyżowań\, na styku duchowości i kultury materialnej. \nKrystyna Lipka – Czajkowska – artystka i edukatorka. Absolwentka Akademii Sztuk Pięknych w Poznaniu. Stypendystka Ministra Kultury i Dziedzictwa Narodowego (2007). Autorka cykli malarskich\, szytych obiektów przestrzennych i działań w przestrzeni publicznej. Inicjatorka przedsięwzięć artystycznych integrujących różne grupy społeczne: kobiety\, seniorów oraz młodzież szkolną poprzez twórcze działania przekształcające ich najbliższą przestrzeń. Twórczyni wystaw\, warsztatów tematycznych\, prezentacji i spotkań poświęconych zjawiskom kultury współczesnej. Mieszka w Poznaniu.
URL:https://kultura.tarnow.pl/wydarzenie/krystyna-lipka-czajkowska-kapliczka-punkt-kontrolny/2024-08-21/
LOCATION:Multimedialne Centrum Artystyczne\, Wałowa 25\, Tarnów\, małopolskie\, 33-100\, Polska
CATEGORIES:spotkania
ATTACH;FMTTYPE=image/png:https://kultura.tarnow.pl/wp-content/uploads/Kapliczka.-Punkt-kontrolny.png
ORGANIZER;CN="Biuro Wystaw Artystycznych":MAILTO:biuro@bwa.tarnow.pl
GEO:50.013866931068;20.987989998201
X-APPLE-STRUCTURED-LOCATION;VALUE=URI;X-ADDRESS=Multimedialne Centrum Artystyczne Wałowa 25 Tarnów małopolskie 33-100 Polska;X-APPLE-RADIUS=500;X-TITLE=Wałowa 25:geo:20.987989998201,50.013866931068
END:VEVENT
BEGIN:VEVENT
DTSTART;TZID=Europe/Warsaw:20240821T110000
DTEND;TZID=Europe/Warsaw:20240821T180000
DTSTAMP:20260423T150126
CREATED:20240627T120551Z
LAST-MODIFIED:20240627T122904Z
UID:10018402-1724238000-1724263200@kultura.tarnow.pl
SUMMARY:"Otto Schier. Pracownia architektoniczna"
DESCRIPTION:Otto Schier zamieszkał w Tarnowie w 1959 roku\, zaraz po ukończeniu studiów na Wydziale Architektury Politechniki Krakowskiej. Przez 65 lat zrealizował w Tarnowie i okolicach około dwieście projektów architektonicznych i urbanistycznych. Wiele z nich zostało wykonanych w czynie społecznym\, jak na przykład muszla tarnowskiego Amfiteatru. \nWystawa ma na celu zaprezentować skalę różnorodnej i wytrwałej pracy architekta\, a także osadzić jego realizacje w historii architektury miasta\, Polski i świata. Wybrane zostały realizacje projektów użyteczności publicznej\, z których na co dzień wszyscy możemy korzystać i obok których przechodzimy. \nOtto Schier (ur. 12 lipca 1931 w Katowicach) – polski inżynier architekt. W 1954 roku ukończył z wyróżnieniem studia na Wydziale Architektury Politechniki Krakowskiej i otrzymał tytuł magistra inżyniera architektury. Od 1959 roku mieszka i pracuje w Tarnowie. Od 1968 roku pracownik Miejskiej Pracowni Urbanistycznej\, potem Wojewódzkiego Biura Planowania Przestrzennego i Małopolskiego Biura Planowania Przestrzennego. \n30.06-25.08.2024\nBWA Tarnów / Pałacyk Strzelecki\, ul. Słowackiego 1\nzespół kuratorski: Aleksandra Kubisztal\, Bartłomiej i Sonia Pochopień\noprawa graficzna: Natalia Sikorska\nfotografia na plakacie: Wiktor Lekston \nW programie wystawy:\nNiedziela\, 14.07\, g. 10:00 – Spacer śladami architektury Otto Schiera\, prowadzenie: Agnieszka Partridge\, zbiórka pod MCA/ul. Wałowa 25\, zakończenie spaceru na wystawie\nPoniedziałek-piątek\, 5-9.08\, g. 11:00-14:00 – Tarnów w plenerze – wakacyjny plener rysunkowy\, prowadzenie: Bartłomiej Pochopień\, obowiązują zapisy: edukacja@bwa.tarnow.pl\, koszt: 200 zł za 5 dni\nNiedziela\, 25.08\, g. 16:00 – Małe BWA na wystawie\, prowadzenie: Agata Dymańska\, Aleksandra Kubisztal\, obowiązują zapisy: edukacja@bwa.tarnow.pl\, koszt: 15 zł\nNiedziela\, 25.08\, g. 17:30 – ostatni spacer po wystawie\, prowadzenie: Bartłomiej Pochopień\, wstęp w cenie biletu na wystawę
URL:https://kultura.tarnow.pl/wydarzenie/otto-schier-pracownia-architektoniczna/2024-08-21/
LOCATION:Biuro Wystaw Artystycznych\, ul. Słowackiego 1\, Tarnów\, małopolskie\, 33-100\, Polska
CATEGORIES:wystawy
ATTACH;FMTTYPE=image/jpeg:https://kultura.tarnow.pl/wp-content/uploads/Otto-Schier.-Pracownia-architektoniczna_plakat-BWA-Tarnow-scaled.jpg
ORGANIZER;CN="Biuro Wystaw Artystycznych":MAILTO:biuro@bwa.tarnow.pl
GEO:50.0178761;20.9827521
X-APPLE-STRUCTURED-LOCATION;VALUE=URI;X-ADDRESS=Biuro Wystaw Artystycznych ul. Słowackiego 1 Tarnów małopolskie 33-100 Polska;X-APPLE-RADIUS=500;X-TITLE=ul. Słowackiego 1:geo:20.9827521,50.0178761
END:VEVENT
END:VCALENDAR