BEGIN:VCALENDAR
VERSION:2.0
PRODID:-//kultura.tarnów - ECPv6.4.0.1//NONSGML v1.0//EN
CALSCALE:GREGORIAN
METHOD:PUBLISH
X-ORIGINAL-URL:https://kultura.tarnow.pl
X-WR-CALDESC:Wydarzenia dla
REFRESH-INTERVAL;VALUE=DURATION:PT1H
X-Robots-Tag:noindex
X-PUBLISHED-TTL:PT1H
BEGIN:VTIMEZONE
TZID:Europe/Warsaw
BEGIN:DAYLIGHT
TZOFFSETFROM:+0100
TZOFFSETTO:+0200
TZNAME:CEST
DTSTART:20240331T010000
END:DAYLIGHT
BEGIN:STANDARD
TZOFFSETFROM:+0200
TZOFFSETTO:+0100
TZNAME:CET
DTSTART:20241027T010000
END:STANDARD
END:VTIMEZONE
BEGIN:VEVENT
DTSTART;TZID=Europe/Warsaw:20240810T053000
DTEND;TZID=Europe/Warsaw:20240810T223000
DTSTAMP:20260423T202437
CREATED:20240725T115058Z
LAST-MODIFIED:20240919T113014Z
UID:10018854-1723267800-1723329000@kultura.tarnow.pl
SUMMARY:"Łąka kwietna"
DESCRIPTION:Wystawa plenerowa rzeźb kwiatów wokół Pałacyku Strzeleckiego – siedziby Biura Wystaw Artystycznych w Tarnowie.\n\nRzeźby polskich kwiatów polnych mają ponad metr wysokości\, wykonane są z blachy\, metalowych elementów z recyklingu oraz styropianu. Pomalowane emalią zyskują bajkowy charakter\, a zarazem uderzają sztucznością. Autorki Weronika Krupa i Anna Sudoł myślą o tych rzeźbach jako o pomnikach kwiatów rosnących na dzikich łąkach m.in. maka\, firletki\, maruny. Ich „sztuczne kwiaty” są ustawiane na naturalnej łące\, wysianej z nasion od Łukasza Łuczaja\, botanika zajmującego się zawodowo m.in. etnobotaniką\, autora książek i popularyzatora dzikiej kuchni.\n\nCelem Łukasza Łuczaja jest przywrócenie bioróżnorodności w mieście i zwrócenie uwagi na zubożenie polskiej flory i fauny. Świat nauki i sztuki spotykają się\, łączą siły\, a efektem tej współpracy jest „Łąka kwietna” – wystawa\, która zwraca uwagę na bogactwo naszej przyrody oraz wspiera ideę zachowania i tworzenia nowej dzikiej roślinności na terenach miast. Polska flora i fauna są naszym dziedzictwem\, tak samo jak wielkie dzieła malarstwa i literatury. Dlaczego nie stawiać im pomników?\n\nTo trzeci pokaz plenerowy „Łąki kwietnej”\, rzeźb wykonanych przez Weronikę Krupę i Annę Sudoł. Pierwszy miał miejsce na terenie bulwarów w Rzeszowie i był przygotowany w ramach Europejskiego Stadionu Kultury 2022 organizowanego przez Estradę Rzeszowską. Drugi odbył się w ubiegłym roku podczas Forum Ekonomicznego w Karpaczu.\nRzeźby są instalacją artystyczną. Prosimy traktować je jak dzieła sztuki i nie dotykać. Można do woli fotografować.\n\n\nWernisaż 30 VII (wtorek)\, g. 18.00\, spotkanie przed Pałacykiem StrzeleckimWystawa dostępna w godzinach otwarcia Parku Strzeleckiego do października 2024 r.\n\nAnna Sudoł Absolwentka Akademii Sztuk Pięknych w Warszawie. W 2015 r. na łamach magazynu „Szum” opublikowała w odcinkach kryminał „Jak sztuka krytyczna zniszczyła mi życie”. Laureatka 12. Konkursu Gepperta\, wraz z Weroniką Krupą i Galerią Potencja otrzymała nagrodę główną Cracow Gallery Weekend za najlepszą wystawę „Takie tam z awangardą” w Galerii Potencja (2017). W 2020 r. nakładem Wydawnictwa Ha!art ukazała się jej debiutancka powieść „Projekt”\, opisująca artystyczne środowisko Warszawy\, o książce pisały m.in. „Polityka”\, „Sieci”\, „Dwutygodnik”\, „Culture.pl”\, „Stoner Polski”\, „Przekrój”. Współtworzy zespół Czarodziej i Pan Enigmo\, gdzie pisze teksty\, śpiewa\, rapuje\, tworzy teledyski. W 2020 r. nakładem wydawnictwa Nagrania Somnambuliczne ukazał się debiutancki koncept-album zespołu. W 2025 r. nakładem Wydawnictwa Ha!art ukaże się jej druga książka. Mieszka w Warszawie na Pradze.\n\nWeronika KrupaAbsolwentka Akademii Sztuk Pięknych im. W. Strzemińskiego w Łodzi\, dyplom w Pracowni Kostiumu Teatralnego i Filmowego dr hab. Ewy Bloom-Kwiatkowskiej oraz Pracowni Działań Intermedialnych prof. Przemysława Wachowskiego. Podczas studiów odbyła prestiżowy staż w pracowni kostiumograficznej Karen Young w Nowym Jorku\, gdzie współpracowała z tancerzami z Third Rail Project. Autorka instalacji\, utworów wideo\, kolaży\, plakatów oraz obiektów malarskich i rzeźbiarskich\, pracuje także w teatrze jako projektantka scenografii i kostiumów. Jej etiudy filmowo-kostiumowe nagradzane były w konkursach artystycznych oraz prezentowane na licznych wystawach i pokazach\, m. in. na Festiwalu Nowej Scenografii w Katowicach (wyróżnienie w Konkursie o Nagrodę Scenograficzną im. Jerzego Moskala 2016 za pracę magisterska). Ta sama praca zaprezentowana została podczas PQ – Praskiego Quadriennale 2019 na wystawie organizowanej przez Ośrodek Polski Międzynarodowego Instytutu Teatralnego oraz Muzeum Śląskie\, prezentującej najlepsze prace dyplomowe polskich uczelni artystycznych ostatnich 4 lat. W 2017 r. wraz z Weroniką Krupą i Galerią Potencja otrzymała nagrodę główną Cracow Gallery Weekend za najlepszą wystawę „Takie tam z awangardą” w Galerii Potencja. Stypendystka Ministra Kultury\, Dziedzictwa Narodowego i Sportu (2021). W 2023 r. z grupą aktorów i performerów z Latającego Teatru Kantorowi stworzyła w Tarnowie spektakl w reżyserii Grażyny Tabor na podstawie książki Mikołaja Łozińskiego Stramer\, którego premiera odbyła się w oddziale BWA – MCA Wałowa 25. Mieszka w Rzeszowie.\n\nProjekt powstał w ramach Europejskiego Stadionu Kultury 2022\, organizowanego przez Estradę Rzeszowską.
URL:https://kultura.tarnow.pl/wydarzenie/laka-kwietna-2/2024-08-10/
LOCATION:Biuro Wystaw Artystycznych\, ul. Słowackiego 1\, Tarnów\, małopolskie\, 33-100\, Polska
CATEGORIES:wystawy
ATTACH;FMTTYPE=image/jpeg:https://kultura.tarnow.pl/wp-content/uploads/452936272_1009970607802946_3106473495978847767_n.jpg
ORGANIZER;CN="Biuro Wystaw Artystycznych":MAILTO:biuro@bwa.tarnow.pl
GEO:50.0178761;20.9827521
X-APPLE-STRUCTURED-LOCATION;VALUE=URI;X-ADDRESS=Biuro Wystaw Artystycznych ul. Słowackiego 1 Tarnów małopolskie 33-100 Polska;X-APPLE-RADIUS=500;X-TITLE=ul. Słowackiego 1:geo:20.9827521,50.0178761
END:VEVENT
BEGIN:VEVENT
DTSTART;TZID=Europe/Warsaw:20240810T180000
DTEND;TZID=Europe/Warsaw:20240810T200000
DTSTAMP:20260423T202437
CREATED:20240715T070627Z
LAST-MODIFIED:20240715T070627Z
UID:10018824-1723312800-1723320000@kultura.tarnow.pl
SUMMARY:VIII Międzynarodowy Festiwal "Ambasador Tarnowa Maestro Krystian Tkaczewski i jego Goście"
DESCRIPTION:VIII Międzynarodowy Festiwal  Ambasador Tarnowa Maestro Krystian Tkaczewski i jego Goście pod Honorowym Patronatem Prezydenta Tarnowa \nTarnów 28 lipca-10 sierpnia 2024 r. \nSala Koncertowa Zespołu Szkół Muzycznych w Tarnowie\, ul. Lippoczy’ego 4 \n28.07.2023 godz. 18.00 – Koncert Inauguracyjny – Krystian Tkaczewski oraz zaproszeni Goście – Hanwen Shi (Chiny)- laureat Chopin International Piano Competition in Hartford\, CT \nPawel Wojciechowski (Polska) – laureat I Międzynarodowego Konkursu im. J.W. Krogulskiego w Tarnowie \n1.08.2023\, godz. 18.00 – Koncert uczestników festiwalu z Polski\, USA\, Chin\,Japonii\, USA\, Hong Kong \n2.08.2022\, godz. 18.00 – Koncert uczestników festiwalu z USA\, Chin\, Japonii \, USA\, Tajwanu \n3.08.2022 godz. 18.00 – Koncert uczestników festiwalu z Polski\, Japonii\, USA\, Chin\, Hong Kongu\,  z towarzyszeniem Tarnowskiej Orkiestry Kameralnej\, dyr. Masahi Katayama (Japonia) \nSala Koncertowa ZSM im. I.J. Paderewskiego \n4.08.2022\, godz. 18.00 – Koncert uczestników festiwalu z Japonii\, USA\, Chin\, Tajwanu\, Hong Kongu  z towarzyszeniem Tarnowskiej Orkiestry Kameralnej\, dyr. Masahi Katayama (Japonia) \nSala Koncertowa ZSM im. I.J. Paderewskiego \n10.08.2022\, godz. 18.00 – Koncert uczestników festiwalu oraz zaproszonych Gości z Polski\, USA\, Chin \nWykładowcy: Krystian Tkaczewski (Polska/USA)\, Philippe Raskin (Belgia)\, Masahi Katayama (Japonia)\, Maria Murawska (Polska)\, Liao Mingfei (Hong Kong)\, Yi-Yang Chen (Tajwan) \nUczestnicy festiwalu: \nShuang Wu (Chiny)\, Szu-Chia Lin (Tajwan)\, Longcheng Ma (Chiny)\, Hanwen Yan (Chiny)\, Chen Yuen Chi (Hong Kong)\, Chow Giulietta Tsz Yau (Hong Kong)\, Li Yuzhi (Hong Kong)\, Cheung Tsz Long (Hong Kong)\, Wong Hui Yi (Hong Kong)\, Liu Sz Kai Neil (Hong Kong)\, Sheryl Luo (USA)\, Kevin Luo (USA)\, Ethan Lee (USA)\, Sophie Fu (USA)\, Sophia Popescu (USA)\, Liam Lech Furdyna (Polska)\, Ava Geng (USA)\, Hanwen Shi (Chiny)\, Nina Okada (Japonia)\, Olivia Zhu (USA)\, Ross Mosier (USA)\, Haruki Takeuchi (Japonia/USA)\, Julia Godlewska (Polska)\, Sofiia Kotiuk (Polska)\, Borys Komisarz (Polska)\, Antoni Przykłota (Polska)\, Xie Yijun (Chiny) \nNa wszystkie koncerty wstęp wolny. \n 
URL:https://kultura.tarnow.pl/wydarzenie/viii-miedzynarodowy-festiwal-ambasador-tarnowa-maestro-krystian-tkaczewski-i-jego-goscie/2024-08-10/
LOCATION:Sala Koncertowa Zespołu Szkół Muzycznych\, Lippóczy’ego 4\, Tarnów\, małopolskie\, 33-100\, Polska
CATEGORIES:festiwale
ATTACH;FMTTYPE=image/jpeg:https://kultura.tarnow.pl/wp-content/uploads/tajlandia3a-1-e1721027310669.jpg
GEO:50.0205582;20.9801972
X-APPLE-STRUCTURED-LOCATION;VALUE=URI;X-ADDRESS=Sala Koncertowa Zespołu Szkół Muzycznych Lippóczy’ego 4 Tarnów małopolskie 33-100 Polska;X-APPLE-RADIUS=500;X-TITLE=Lippóczy’ego 4:geo:20.9801972,50.0205582
END:VEVENT
BEGIN:VEVENT
DTSTART;TZID=Europe/Warsaw:20240810T180000
DTEND;TZID=Europe/Warsaw:20240810T200000
DTSTAMP:20260423T202437
CREATED:20240806T110837Z
LAST-MODIFIED:20240806T110837Z
UID:10018959-1723312800-1723320000@kultura.tarnow.pl
SUMMARY:"Lato z Kiepurą"
DESCRIPTION:Koncert Orkiestry Filharmonii Krakowskiej \nW drugim miesiącu lata Filharmonia Krakowska w różnych miejscach Małopolski zaprezentuje niezwykłe widowisko muzyczne\, które łączy w sobie najpiękniejsze pieśni i arie z repertuaru polskiego tenora wszechczasów – Jana Kiepury z najciekawszymi anegdotami z jego życia artystycznego i prywatnego.\n\nW widowisku zatytułowanym „Lato z Kiepurą” Orkiestra Filharmonii Krakowskiej\, pod batutą Sławomira Chrzanowskiego\, wykona kilkanaście przebojów z popularnych operetek oraz piosenek z dwudziestolecia międzywojennego.\n\nA wśród gwiazd scen operowych i operetkowych zaproszonych do udziału w wydarzeniu  znalazły się: w roli Marty Eggerth sopranistki – Grażyna Brodzińska i  Ewelina Szybilska\, jako Jan Kiepura – tenor Łukasz Gaj\, w rolę Hanki Ordonówny wcieli się Anna Sokołowska-Alabrudzińska\, zaś w charakterze gościa specjalnego pojawi się popularny – Jacek Wójcicki.\n\nZnakomita obsada zapewni najwyższy poziom artystyczny i niezapomniane przeżycie dla melomanów\, zaś o odpowiednią oprawę i wspaniały nastrój podczas koncertu zadba jego reżyser\, scenarzysta i jednocześnie narrator – Łukasz Lech. \nBilety: 90 zł (normalny)\, 80 zł (ulgowy\, pufy) \nSROKA PRZEMYSLAW_TEL:793 333 601
URL:https://kultura.tarnow.pl/wydarzenie/lato-z-kiepura/
LOCATION:Centrum Sztuki Mościce\, Traugutta 1\, Tarnów\, małopolskie\, 33-101\, Polska
CATEGORIES:koncerty
ATTACH;FMTTYPE=image/jpeg:https://kultura.tarnow.pl/wp-content/uploads/img_343c327f2f8d9553e3e1d328851c5760.jpeg
GEO:50.009833;20.92706
X-APPLE-STRUCTURED-LOCATION;VALUE=URI;X-ADDRESS=Centrum Sztuki Mościce Traugutta 1 Tarnów małopolskie 33-101 Polska;X-APPLE-RADIUS=500;X-TITLE=Traugutta 1:geo:20.92706,50.009833
END:VEVENT
BEGIN:VEVENT
DTSTART;TZID=Europe/Warsaw:20240810T180000
DTEND;TZID=Europe/Warsaw:20240810T220000
DTSTAMP:20260423T202437
CREATED:20240809T075402Z
LAST-MODIFIED:20240809T075402Z
UID:10019359-1723312800-1723327200@kultura.tarnow.pl
SUMMARY:Jack Strong - Wieczór widzów Tarnowskiego Kina Plenerowego
DESCRIPTION:Niespodziewany\, trzeci seans Tarnowskie Kino Plenerowe\, który odbędzie się już w najbliższą sobotę na Przystań Kantoria będzie sporą gratką dla fanów polskiego filmu.\n„Jack Strong” opowiada o pułkowniku Ludowego Wojska Polskiego\, Ryszardzie Kuklińskim\, który podejmuje współpracę z CIA. Działając pod pseudonimem Jack Strong\, przekazuje Amerykanom informacje na temat Układu Warszawskiego.\nNie może was tam zabraknąć!\n\n10 sierpnia 2024Przystań Kantoria\n18:0018:00-20:00 Impreza towarzysząca dla każdego20:30-23:00 Projekcja filmu „Jack Strong” w reżyserii Władysława PasikowskiegoProjekt finansowany przez Urząd Miasta Tarnowa (Mój Tarnów)
URL:https://kultura.tarnow.pl/wydarzenie/jack-strong-wieczor-widzow-tarnowskiego-kina-plenerowego/
LOCATION:Centrum Wypoczynku i Rekreacji Kantoria\, ul. Piłsudskiego\, Tarnów\, małopolskie\, 33-100\, Polska
CATEGORIES:filmy
ATTACH;FMTTYPE=image/png:https://kultura.tarnow.pl/wp-content/uploads/454281066_1010324151101991_8568459697022042064_n.png
GEO:50.024368;20.98967
X-APPLE-STRUCTURED-LOCATION;VALUE=URI;X-ADDRESS=Centrum Wypoczynku i Rekreacji Kantoria ul. Piłsudskiego Tarnów małopolskie 33-100 Polska;X-APPLE-RADIUS=500;X-TITLE=ul. Piłsudskiego:geo:20.98967,50.024368
END:VEVENT
BEGIN:VEVENT
DTSTART;TZID=Europe/Warsaw:20240810T200000
DTEND;TZID=Europe/Warsaw:20240810T220000
DTSTAMP:20260423T202437
CREATED:20240809T075615Z
LAST-MODIFIED:20240809T075615Z
UID:10019360-1723320000-1723327200@kultura.tarnow.pl
SUMMARY:Kino Letnie "Na Brodzińskiego"
DESCRIPTION:Centrum Usług Społecznych zaprasza do swojego Kina Letniego „Na Brodzińskiego”. Placówka już jutro (10 sierpnia) wyświetli na swoim podwórku film  „Dywizjon 303”. Wstęp jest wolny. Seans rozpocznie się o godzinie 20.00 \n\n\n\n\n\n\n\n\n\n„Dywizjon 303” to rodzima produkcja\, która opowiada o bohaterskich czynach polskich pilotów walczących w Bitwie o Anglię podczas II wojny światowej. Wzruszający i pełen emocji film przeniesie widzów w czasy\, kiedy odwaga i poświęcenie młodych lotników były na wagę złota. Projekcja przeznaczona jest dla osób pełnoletnich. \nWydarzenie odbędzie się w malowniczej scenerii letniego kina\, co doda dodatkowego uroku całej projekcji. – To będzie doskonała okazja\, aby spędzić wieczór na świeżym powietrzu\, delektując się historią pełną patriotyzmu i męstwa – zachęcają organizatorzy. \nKino pod chmurką znajdziecie przy ul. Brodzińskiego 14.
URL:https://kultura.tarnow.pl/wydarzenie/kino-letnie-na-brodzinskiego/
LOCATION:małopolskie
CATEGORIES:filmy
END:VEVENT
END:VCALENDAR