BEGIN:VCALENDAR
VERSION:2.0
PRODID:-//kultura.tarnów - ECPv6.4.0.1//NONSGML v1.0//EN
CALSCALE:GREGORIAN
METHOD:PUBLISH
X-WR-CALNAME:kultura.tarnów
X-ORIGINAL-URL:https://kultura.tarnow.pl
X-WR-CALDESC:Wydarzenia dla
REFRESH-INTERVAL;VALUE=DURATION:PT1H
X-Robots-Tag:noindex
X-PUBLISHED-TTL:PT1H
BEGIN:VTIMEZONE
TZID:Europe/Warsaw
BEGIN:DAYLIGHT
TZOFFSETFROM:+0100
TZOFFSETTO:+0200
TZNAME:CEST
DTSTART:20240331T010000
END:DAYLIGHT
BEGIN:STANDARD
TZOFFSETFROM:+0200
TZOFFSETTO:+0100
TZNAME:CET
DTSTART:20241027T010000
END:STANDARD
END:VTIMEZONE
BEGIN:VEVENT
DTSTART;TZID=Europe/Warsaw:20240809T053000
DTEND;TZID=Europe/Warsaw:20240809T223000
DTSTAMP:20260423T214210
CREATED:20240725T115058Z
LAST-MODIFIED:20240919T113014Z
UID:10018853-1723181400-1723242600@kultura.tarnow.pl
SUMMARY:"Łąka kwietna"
DESCRIPTION:Wystawa plenerowa rzeźb kwiatów wokół Pałacyku Strzeleckiego – siedziby Biura Wystaw Artystycznych w Tarnowie.\n\nRzeźby polskich kwiatów polnych mają ponad metr wysokości\, wykonane są z blachy\, metalowych elementów z recyklingu oraz styropianu. Pomalowane emalią zyskują bajkowy charakter\, a zarazem uderzają sztucznością. Autorki Weronika Krupa i Anna Sudoł myślą o tych rzeźbach jako o pomnikach kwiatów rosnących na dzikich łąkach m.in. maka\, firletki\, maruny. Ich „sztuczne kwiaty” są ustawiane na naturalnej łące\, wysianej z nasion od Łukasza Łuczaja\, botanika zajmującego się zawodowo m.in. etnobotaniką\, autora książek i popularyzatora dzikiej kuchni.\n\nCelem Łukasza Łuczaja jest przywrócenie bioróżnorodności w mieście i zwrócenie uwagi na zubożenie polskiej flory i fauny. Świat nauki i sztuki spotykają się\, łączą siły\, a efektem tej współpracy jest „Łąka kwietna” – wystawa\, która zwraca uwagę na bogactwo naszej przyrody oraz wspiera ideę zachowania i tworzenia nowej dzikiej roślinności na terenach miast. Polska flora i fauna są naszym dziedzictwem\, tak samo jak wielkie dzieła malarstwa i literatury. Dlaczego nie stawiać im pomników?\n\nTo trzeci pokaz plenerowy „Łąki kwietnej”\, rzeźb wykonanych przez Weronikę Krupę i Annę Sudoł. Pierwszy miał miejsce na terenie bulwarów w Rzeszowie i był przygotowany w ramach Europejskiego Stadionu Kultury 2022 organizowanego przez Estradę Rzeszowską. Drugi odbył się w ubiegłym roku podczas Forum Ekonomicznego w Karpaczu.\nRzeźby są instalacją artystyczną. Prosimy traktować je jak dzieła sztuki i nie dotykać. Można do woli fotografować.\n\n\nWernisaż 30 VII (wtorek)\, g. 18.00\, spotkanie przed Pałacykiem StrzeleckimWystawa dostępna w godzinach otwarcia Parku Strzeleckiego do października 2024 r.\n\nAnna Sudoł Absolwentka Akademii Sztuk Pięknych w Warszawie. W 2015 r. na łamach magazynu „Szum” opublikowała w odcinkach kryminał „Jak sztuka krytyczna zniszczyła mi życie”. Laureatka 12. Konkursu Gepperta\, wraz z Weroniką Krupą i Galerią Potencja otrzymała nagrodę główną Cracow Gallery Weekend za najlepszą wystawę „Takie tam z awangardą” w Galerii Potencja (2017). W 2020 r. nakładem Wydawnictwa Ha!art ukazała się jej debiutancka powieść „Projekt”\, opisująca artystyczne środowisko Warszawy\, o książce pisały m.in. „Polityka”\, „Sieci”\, „Dwutygodnik”\, „Culture.pl”\, „Stoner Polski”\, „Przekrój”. Współtworzy zespół Czarodziej i Pan Enigmo\, gdzie pisze teksty\, śpiewa\, rapuje\, tworzy teledyski. W 2020 r. nakładem wydawnictwa Nagrania Somnambuliczne ukazał się debiutancki koncept-album zespołu. W 2025 r. nakładem Wydawnictwa Ha!art ukaże się jej druga książka. Mieszka w Warszawie na Pradze.\n\nWeronika KrupaAbsolwentka Akademii Sztuk Pięknych im. W. Strzemińskiego w Łodzi\, dyplom w Pracowni Kostiumu Teatralnego i Filmowego dr hab. Ewy Bloom-Kwiatkowskiej oraz Pracowni Działań Intermedialnych prof. Przemysława Wachowskiego. Podczas studiów odbyła prestiżowy staż w pracowni kostiumograficznej Karen Young w Nowym Jorku\, gdzie współpracowała z tancerzami z Third Rail Project. Autorka instalacji\, utworów wideo\, kolaży\, plakatów oraz obiektów malarskich i rzeźbiarskich\, pracuje także w teatrze jako projektantka scenografii i kostiumów. Jej etiudy filmowo-kostiumowe nagradzane były w konkursach artystycznych oraz prezentowane na licznych wystawach i pokazach\, m. in. na Festiwalu Nowej Scenografii w Katowicach (wyróżnienie w Konkursie o Nagrodę Scenograficzną im. Jerzego Moskala 2016 za pracę magisterska). Ta sama praca zaprezentowana została podczas PQ – Praskiego Quadriennale 2019 na wystawie organizowanej przez Ośrodek Polski Międzynarodowego Instytutu Teatralnego oraz Muzeum Śląskie\, prezentującej najlepsze prace dyplomowe polskich uczelni artystycznych ostatnich 4 lat. W 2017 r. wraz z Weroniką Krupą i Galerią Potencja otrzymała nagrodę główną Cracow Gallery Weekend za najlepszą wystawę „Takie tam z awangardą” w Galerii Potencja. Stypendystka Ministra Kultury\, Dziedzictwa Narodowego i Sportu (2021). W 2023 r. z grupą aktorów i performerów z Latającego Teatru Kantorowi stworzyła w Tarnowie spektakl w reżyserii Grażyny Tabor na podstawie książki Mikołaja Łozińskiego Stramer\, którego premiera odbyła się w oddziale BWA – MCA Wałowa 25. Mieszka w Rzeszowie.\n\nProjekt powstał w ramach Europejskiego Stadionu Kultury 2022\, organizowanego przez Estradę Rzeszowską.
URL:https://kultura.tarnow.pl/wydarzenie/laka-kwietna-2/2024-08-09/
LOCATION:Biuro Wystaw Artystycznych\, ul. Słowackiego 1\, Tarnów\, małopolskie\, 33-100\, Polska
CATEGORIES:wystawy
ATTACH;FMTTYPE=image/jpeg:https://kultura.tarnow.pl/wp-content/uploads/452936272_1009970607802946_3106473495978847767_n.jpg
ORGANIZER;CN="Biuro Wystaw Artystycznych":MAILTO:biuro@bwa.tarnow.pl
GEO:50.0178761;20.9827521
X-APPLE-STRUCTURED-LOCATION;VALUE=URI;X-ADDRESS=Biuro Wystaw Artystycznych ul. Słowackiego 1 Tarnów małopolskie 33-100 Polska;X-APPLE-RADIUS=500;X-TITLE=ul. Słowackiego 1:geo:20.9827521,50.0178761
END:VEVENT
BEGIN:VEVENT
DTSTART;TZID=Europe/Warsaw:20240809T090000
DTEND;TZID=Europe/Warsaw:20240809T130000
DTSTAMP:20260423T214210
CREATED:20240722T111738Z
LAST-MODIFIED:20240722T111738Z
UID:10018840-1723194000-1723208400@kultura.tarnow.pl
SUMMARY:Podróże Po Chińskim Murze
DESCRIPTION:„Podróże Po Chińskim Murze” – warsztaty rysowania komiksów dla dzieci \n  \nMiejska Biblioteka Publiczna im. J. Słowackiego w Tarnowie zaprasza dzieci w wieku 6-9 lat na interaktywne i pełne rekwizytów warsztaty podróżnicze\, podczas których będziemy odkrywać i poznawać kulturę Chin. Zajęcia prowadzi grupa podróżników „Poznajemy Świat”. Warsztaty są bezpłatne. \nOBOWIĄZUJĄ ZAPISY! \n  \n9 sierpnia 2024 (piątek) \nGodz. 9:00-10:00 𝙁𝙞𝙡𝙞𝙖 𝙣𝙧 𝟵 | ul. Krzyska 116\ntel. 14 656 09 62 | e-mail: filia9@biblioteka.tarnow.pl \n  \nGodz. 10:30-11:30 𝙁𝙞𝙡𝙞𝙖 𝙣𝙧 𝟴 | ul. Traugutta 1\ntel. 14 656 25 88 | e-mail: filia8@biblioteka.tarnow.pl \n  \nGodz. 12:00-13:00 𝘿𝙯𝙞𝙖ł 𝙙𝙡𝙖 𝘿𝙯𝙞𝙚𝙘𝙞 𝙞 𝙈ł𝙤𝙙𝙯𝙞𝙚𝙯̇𝙮 | ul. Staszica 6\ntel. 14 688 80 23 | e-mail: wolek@biblioteka.tarnow.pl \n  \nWydarzenie zorganizowane w ramach projektu “Biblioteka dla Młodych” – cykl spotkań „Podróże małe i duże”.\nDofinansowano ze środków Ministra Kultury i Dziedzictwa Narodowego pochodzących z Funduszu Promocji Kultury – państwowego funduszu celowego. \n 
URL:https://kultura.tarnow.pl/wydarzenie/podroze-po-chinskim-murze/
LOCATION:małopolskie
CATEGORIES:warsztaty
END:VEVENT
BEGIN:VEVENT
DTSTART;TZID=Europe/Warsaw:20240809T100000
DTEND;TZID=Europe/Warsaw:20240809T130000
DTSTAMP:20260423T214210
CREATED:20240626T075805Z
LAST-MODIFIED:20240626T075805Z
UID:10018361-1723197600-1723208400@kultura.tarnow.pl
SUMMARY:Wakacje z otwARTą Pracownią Sztuk Wizualnych
DESCRIPTION:Rozwijaj swoje umiejętności rysunkowe i malarskie\, zaprojektuj własny zielnik\, stwórz animację poklatkową i odkryj pojęcia związane ze sztuką – wakacyjne warsztaty dla dzieci\, młodzieży i dorosłych. \n– otwARTa klasycznie – kurs rysunku i malarstwa | 8-12 lipca 2024 r. \n– otwARTa naturalnie – warsztaty robienia zielników | 15-19 lipca  2024 r. \n– otwARTa animacja – warsztaty z animacji poklatkowej | 5-9 sierpnia 2024 r. \n– otwARTa jeszcze bardziej – bezpłatne warsztaty dla małych pasjonatów sztuki\n(piątki) 05  lipca\, 26 lipca\, 02 sierpnia\, 23 sierpnia 2024 r.\, godz. 12.00-13.00 \nZapisy od 17 czerwca! \notwARTa klasycznie – kurs rysunku i malarstwa  \nTermin: 8-12 lipca 2024 r.\, godz. 10.00-13.00 \nGrupa wiekowa: 12+   \nProwadzenie: dr sztuki Anna Śliwińska  \nOpłata: 250 zł (za 5 dni zajęć po 3 godziny) \nOtwARTa klasycznie to warsztaty dla osób\, które chcą rozwijać swoje umiejętności rysunkowe i malarskie. Bez względu na pogodę\, znajdziemy idealne miejsce do twórczej pracy – od malowniczych uliczek Tarnowa po inspirujące wnętrza i martwą naturę w naszej pracowni. Zajęcia będą składać się z części teoretycznej – wprowadzenie do zagadnień i technik rysunkowych oraz malarskich\, oraz części praktycznej – warsztatowej\, obejmującej klasyczne techniki malarstwa tj. akwarela\, gwasz\, tempera\, akryl i olej oraz różnorodne techniki rysunkowe i eksperymenty w tym zakresie. \nPodczas pleneru uczestnicy poznają bogatą historię i kulturę Tarnowa. Odwiedzimy najważniejsze zabytki i muzea\, takie jak Muzeum Diecezjalne\, Katedra\, Muzeum Ziemi Tarnowskiej oraz Muzeum Etnograficzne. \notwARTa naturalnie – warsztaty robienia zielników  \nTermin: 15-19 lipca 2024 r.\, godz. 10.00-13.00 \nGrupa wiekowa: 10+   \nProwadzenie: dr sztuki Anna Śliwińska  \nOpłata: 250 zł (za 5 dni zajęć po 3 godziny) \nWarsztaty dla osób kreatywnych\, które poprzez połączenie sztuki i natury chcą poznać nowe techniki. Na zajęciach uczestnicy zaprojektują i stworzą niepowtarzalne i ekologiczne zielniki. Warsztaty obejmują następujące zagadnienia: zapoznanie się z gatunkami oraz rodzajami roślin\, proces czerpania papieru oraz samodzielne tworzenie kartek\, wykonanie okładek oraz stworzenie notesu. \notwARTa animacja – warsztaty z animacji poklatkowej \nTermin: 5-9 sierpnia 2024 r.\, godz. 10.00-13.00 \nGrupa wiekowa: 10+   \nProwadzenie: Katarzyna Małek  \nOpłata: 250 zł (za 5 dni zajęć po 3 godziny) \nWarsztaty dla osób\, które chcą poznać tajniki tworzenia animacji poklatkowej. Na warsztatach uczestnicy dowiedzą się jak przygotować\, zaprojektować i stworzyć krótką etiudę filmową. Zajęcia obejmują następujące zagadnienia: tworzenie scenariusza i storyboardu\, przygotowanie scenografii: budowa tła i elementów\, które pojawią się na filmie\, łączenie klatek w spójną całość\, stworzenie krótkiej animacji poklatkowej. \notwARTa jeszcze bardziej – bezpłatne warsztaty dla małych pasjonatów sztuki  \n Terminy: (piątki) 05  lipca\, 26 lipca\, 02 sierpnia\, 23 sierpnia 2024 r.\, godz. 12.00-13.00 \nGrupa wiekowa: 4-10 lat   \nProwadzenie: Angelika Radoń  \nOpłata: bezpłatne\n \nPracownia Sztuk Wizulanych staje się otwARTa jeszcze bardziej. W wybrane wakacyjne piątki zapraszamy na zajęcia w nowej\, innowacyjnej dla pracowni formule – bezpłatne\, godzinne zajęcia dla odbiorców indywidualnych (dzieci w wieku 4-10 lat). \nWarsztaty plastyczne wprowadzają najmłodszych w świat sztuki i technik artystycznych. Na zajęciach będziemy poznawać jedno pojęcie związane ze sztuką\, kreatywnie interpretować je i poszukiwać jego znaczeń. Uczestnicy warsztatów stworzą także własne prace plastyczne nawiązujące do omawianego tematu. \nHarmonogram zajęć:  \n05 lipca\, godz. 12.00 – Portret  \n26 lipca\, godz. 12.00 – Architektura  \n02 sierpnia\, godz. 12.00 – Pejzaż  \n23 sierpnia\, godz. 12.00 – Kolor \n 
URL:https://kultura.tarnow.pl/wydarzenie/wakacje-z-otwarta-pracownia-sztuk-wizualnych-2/2024-08-09/
LOCATION:Tarnowskie Centrum Kultury\, Rynek 5\, Tarnów\, małopolskie\, 33-100\, Polska
CATEGORIES:warsztaty
ATTACH;FMTTYPE=image/png:https://kultura.tarnow.pl/wp-content/uploads/240612_TCK_otwARTa_wakacje_SM_4_fb_profile_cover-1.png
GEO:50.012155;20.9878542
X-APPLE-STRUCTURED-LOCATION;VALUE=URI;X-ADDRESS=Tarnowskie Centrum Kultury Rynek 5 Tarnów małopolskie 33-100 Polska;X-APPLE-RADIUS=500;X-TITLE=Rynek 5:geo:20.9878542,50.012155
END:VEVENT
BEGIN:VEVENT
DTSTART;TZID=Europe/Warsaw:20240809T110000
DTEND;TZID=Europe/Warsaw:20240809T140000
DTSTAMP:20260423T214210
CREATED:20240729T122500Z
LAST-MODIFIED:20240729T122500Z
UID:10018941-1723201200-1723212000@kultura.tarnow.pl
SUMMARY:Tarnów w plenerze – wakacyjny plener rysunkowy
DESCRIPTION:Zapraszamy na spotkanie z doświadczonymi edukatorami\, którzy poprowadzą uczestników szlakiem tarnowskiej architektury. Podczas codziennych spotkań będzie można poznać nie tylko podstawowe techniki rysunku architektonicznego\, ale również otrzymać garść ciekawostek z dziedziny historii sztuki oraz spędzić miły czas w plenerze Tarnowa. \nUczestnicy otrzymają niezbędny sprzęt – od krzesełek\, przez deski kreślarskie\, po narzędzia rysunkowe. \nPodczas tegorocznego pleneru zawędrujemy m.in. do tarnowskiego Amfiteatru\, a to ze względu na autora projektu muszli koncertowej – pana Otto Schiera. Jego realizacjom jest poświęcona nasza wakacyjna wystawa w BWA. – mówi Aleksandra Kubisztal z Działu Edukacji BWA w Tarnowie \n5-9.08.2024 / od poniedziałku do piątku\ngodz. 11:00-14:00  \nKoszt: 200zł od uczestnika/płatne z góry przelewem \nZbiórka w Pałacyku Strzeleckim budynku Galerii BWA\nwiek uczestników: 12+ (zapraszamy również osoby dorosłe!)\nprowadzenie: Bartłomiej Pochopień\nMateriały zapewniają prowadzący.\nLiczba miejsc ograniczona.\nObowiązują zapisy pod numerem: 606 146 520 \nPROWADZĄCY:\nBartłomiej Pochopień jest absolwentem Wydziału Architektury i Urbanistyki Politechniki Krakowskiej. Jako architekt współpracował z takimi twórcami jak: Marek Dunikowski\, Stanisław Niemczyk i Tomasz Konior. Autor licznych\, autorskich projektów architektonicznych. W 2017 roku otrzymał nagrodę Architektura Roku województwa śląskiego w kategorii Dom jednorodzinny\, a także wyróżnienie Młody Twórca Architektury Śląskiej. W latach 2014-2015 był odpowiedzialny za stworzenie projektu koncepcyjnego „Nowej Wystawy Głównej” w Państwowym Muzeum Auschwitz-Birkenau. Od 2016 jest silnie zaangażowany w misję edukacji architektonicznej w ramach inicjatywy Akademia Architektury\, między innymi przeprowadzając setki indywidualnych\, a także cyklicznych spotkań\, warsztatów i wykładów. W 2024 roku został stypendystą Miasta Krakowa realizując projekt Architektoniczny Elementarz Krakowa\, w 2021 wyróżniony wsparciem Ministerstwa Kultury i Dziedzictwa Narodowego w dziedzinie Sztuki Wizualne tworząc cykl pod nazwą „Kształty Małopolski”\, natomiast w roku 2020 był stypendystą Miasta Tarnowa w dziedzinie Film realizując projekt pod nazwą „Kształty Tarnowa”. W 2023 roku Akademia Architektury we współpracy z Galerią BWA w Tarnowie objęła wszystkie przedszkola i szkoły podstawowe w tym mieście programem edukacyjnym pod nazwą Architektoniczny Elementarz.
URL:https://kultura.tarnow.pl/wydarzenie/tarnow-w-plenerze-wakacyjny-plener-rysunkowy/2024-08-09/
LOCATION:małopolskie
CATEGORIES:warsztaty
ATTACH;FMTTYPE=image/jpeg:https://kultura.tarnow.pl/wp-content/uploads/TARNOW-W-PLENERZE-2024-plakat_BWA.jpg
ORGANIZER;CN="Biuro Wystaw Artystycznych":MAILTO:biuro@bwa.tarnow.pl
END:VEVENT
BEGIN:VEVENT
DTSTART;TZID=Europe/Warsaw:20240809T110000
DTEND;TZID=Europe/Warsaw:20240809T180000
DTSTAMP:20260423T214210
CREATED:20240627T120551Z
LAST-MODIFIED:20240627T122904Z
UID:10018394-1723201200-1723226400@kultura.tarnow.pl
SUMMARY:"Otto Schier. Pracownia architektoniczna"
DESCRIPTION:Otto Schier zamieszkał w Tarnowie w 1959 roku\, zaraz po ukończeniu studiów na Wydziale Architektury Politechniki Krakowskiej. Przez 65 lat zrealizował w Tarnowie i okolicach około dwieście projektów architektonicznych i urbanistycznych. Wiele z nich zostało wykonanych w czynie społecznym\, jak na przykład muszla tarnowskiego Amfiteatru. \nWystawa ma na celu zaprezentować skalę różnorodnej i wytrwałej pracy architekta\, a także osadzić jego realizacje w historii architektury miasta\, Polski i świata. Wybrane zostały realizacje projektów użyteczności publicznej\, z których na co dzień wszyscy możemy korzystać i obok których przechodzimy. \nOtto Schier (ur. 12 lipca 1931 w Katowicach) – polski inżynier architekt. W 1954 roku ukończył z wyróżnieniem studia na Wydziale Architektury Politechniki Krakowskiej i otrzymał tytuł magistra inżyniera architektury. Od 1959 roku mieszka i pracuje w Tarnowie. Od 1968 roku pracownik Miejskiej Pracowni Urbanistycznej\, potem Wojewódzkiego Biura Planowania Przestrzennego i Małopolskiego Biura Planowania Przestrzennego. \n30.06-25.08.2024\nBWA Tarnów / Pałacyk Strzelecki\, ul. Słowackiego 1\nzespół kuratorski: Aleksandra Kubisztal\, Bartłomiej i Sonia Pochopień\noprawa graficzna: Natalia Sikorska\nfotografia na plakacie: Wiktor Lekston \nW programie wystawy:\nNiedziela\, 14.07\, g. 10:00 – Spacer śladami architektury Otto Schiera\, prowadzenie: Agnieszka Partridge\, zbiórka pod MCA/ul. Wałowa 25\, zakończenie spaceru na wystawie\nPoniedziałek-piątek\, 5-9.08\, g. 11:00-14:00 – Tarnów w plenerze – wakacyjny plener rysunkowy\, prowadzenie: Bartłomiej Pochopień\, obowiązują zapisy: edukacja@bwa.tarnow.pl\, koszt: 200 zł za 5 dni\nNiedziela\, 25.08\, g. 16:00 – Małe BWA na wystawie\, prowadzenie: Agata Dymańska\, Aleksandra Kubisztal\, obowiązują zapisy: edukacja@bwa.tarnow.pl\, koszt: 15 zł\nNiedziela\, 25.08\, g. 17:30 – ostatni spacer po wystawie\, prowadzenie: Bartłomiej Pochopień\, wstęp w cenie biletu na wystawę
URL:https://kultura.tarnow.pl/wydarzenie/otto-schier-pracownia-architektoniczna/2024-08-09/
LOCATION:Biuro Wystaw Artystycznych\, ul. Słowackiego 1\, Tarnów\, małopolskie\, 33-100\, Polska
CATEGORIES:wystawy
ATTACH;FMTTYPE=image/jpeg:https://kultura.tarnow.pl/wp-content/uploads/Otto-Schier.-Pracownia-architektoniczna_plakat-BWA-Tarnow-scaled.jpg
ORGANIZER;CN="Biuro Wystaw Artystycznych":MAILTO:biuro@bwa.tarnow.pl
GEO:50.0178761;20.9827521
X-APPLE-STRUCTURED-LOCATION;VALUE=URI;X-ADDRESS=Biuro Wystaw Artystycznych ul. Słowackiego 1 Tarnów małopolskie 33-100 Polska;X-APPLE-RADIUS=500;X-TITLE=ul. Słowackiego 1:geo:20.9827521,50.0178761
END:VEVENT
BEGIN:VEVENT
DTSTART;TZID=Europe/Warsaw:20240809T200000
DTEND;TZID=Europe/Warsaw:20240809T220000
DTSTAMP:20260423T214210
CREATED:20240708T082355Z
LAST-MODIFIED:20240708T082355Z
UID:10018430-1723233600-1723240800@kultura.tarnow.pl
SUMMARY:Był Sobie Blues 2024
DESCRIPTION:Sierpień upłynie pod znakiem bluesa\nNadchodzi dziewiętnasta edycja Letniego  Festiwalu Bluesa „Był Sobie Blues”.  Podczas koncertów\, które odbędą się w trzy kolejne piątki sierpnia\, oprócz klasycznych bluesowych dźwięków\, usłyszymy interpretacje utworów legendarnych zespołów Led Zeppelin i Breakout. Maks Kwapień\, znany z programu The Voice of Poland wraz z zespołem Zeppelinians\, odda hołd twórczości Led Zeppelin\, natomiast Piotr Nalepa Nalepa Breakout Tour przybliży publiczności dzieł swojego ojca\, Tadeusza Nalepy. Festiwal otworzą rewelacyjna Magdalena Magic Piskorczyk i Kraków Street Band\, którzy swoją muzyką wprowadzą słuchaczy w niepowtarzalny nastrój.\nFestiwal Był Sobie Blues\, którego historię współtworzył tarnowski artysta Wojciech Klich\, jest obecnie jednym z wydarzeń w kalendarzu Tarnowskiego Centrum Kultury. \nBilety w cenie 49 złotych dostępne są w przedsprzedaży prowadzonej on-line na stronie www.tck.pl oraz w kasie Amfiteatru dniu koncertów od godz. 19.00. Dzieci do 7 roku życia mają wstęp bezpłatny. \nOrganizatorem wydarzenia Był Sobie Blues jest Tarnowskie Centrum Kultury. Impreza współfinansowana jest z Budżetu Miasta Tarnowa. \nMiejsce: Amfiteatr Letni (Tarnów\, ul. Kopernika 2)\nTerminy koncertów: 2.08\, 9.08\, 16.08.2024\, (piątki)\nBilety: 49 zł / do nabycia on-line (www.tck.pl) oraz w Amfiteatrze (w dniu koncertów) \n\nProgram imprez:\n2.08\, godz. 19.00 Magda „Magic” Piskorczyk / Kraków Street Band\nBilety: kliknij \n9.08\, godz. 20.00 Tribute To Led Zeppelin – Zeppelinians\nBilety: kliknij \n16.08\, godz. 20.00 Tribute To Nalepa – Piotr Nalepa Breakout Tour\nBilety: kliknij \n  \nO wykonawcach: \n### Magda Magic Piskorczyk / 2.08.2024 \nwielokrotnie nagradzana wokalistka i multiinstrumentalistka\, trzykrotnie nominowana do nagrody Fryderyka\, dwukrotna półfinalistka International Blues Challenge w Memphis (USA). Znana z potężnego\, „czarnego” głosu. Artystka gra na różnych gitarach i instrumentach perkusyjnych\, specjalizując się w muzyce afro-amerykańskiej i afrykańskiej. Wydała siedem albumów\, współpracując z artystami takimi jak Michał Urbaniak i Billy Gibson. Prowadzi autorskie warsztaty muzyczne. Od 2019 roku tworzy trio „Magda Piskorczyk and the Modern Boogie Woogie Duo”\, kontynuuje także działalność ze swoim własnym zespołem.\nMuzyka Magdy Piskorczyk charakteryzuje się wyrafinowanymi aranżacjami\, które łączą soulowe\, funkowe\, jazzowe i rockowe standardy z muzyką gospel i blues. Artystka wplata w swoje kompozycje wiele emocji\, tworząc muzykę pełną pasji\, radości i humoru\, która jednocześnie skłania do refleksji. Niebanalne użycie głosu i instrumentów nadaje jej utworom unikalny charakter\, a interaktywne elementy\, takie jak śpiew\, klaskanie\, czy „pstrykanie” są kluczowe podczas występów. \n  \n### Kraków Street Band / 2.08.2024 \nZespół\, który szybko stał się wizytówką Krakowa\, jak i polskiej sceny muzycznej. Od ponad dziesięciu lat nieprzerwanie zdobywają popularność\, łącząc nowoczesny folk\, jazz i blues. Zagrali niezliczoną ilość koncertów klubowych i festiwalowych\, w tym na Pol’and’Rock i węgierskim Sziget\, a ich płyta „Going Away” była nominowana do Fryderyków 2019 w kategorii Album Roku Blues/Country. Polskojęzyczna płyta „Czekanie”\, wydana w 2022 roku\, również otrzymała nominację do Fryderyka. Kraków Street Band powstał w 2014 roku\, początkowo grając spontanicznie na krakowskim Rynku. To uliczne granie zainspirowało ich do wydania pierwszej płyty\, sfinansowanej dzięki kampanii crowdfundingowej na „Polak Potrafi”\, która zebrała 170% planowanego budżetu w miesiąc. Zespół zdobył uznanie\, docierając do finału programu Must Be The Music. \n  \n### Zeppelinians / 9.08.2024 \nZeppelinians to zespół\, który oddaje hołd legendarnemu brzmieniu Led Zeppelin\, przynosząc klasyczne rockowe dźwięki do współczesnej publiczności. Założony w 2016 roku przez grupę zapalonych fanów i doświadczonych muzyków\, Zeppelinians szybko zdobył uznanie jako jeden z najlepszych tribute bandów Led Zeppelin w Europie. Zespół składa się z czterech wybitnych instrumentalistów i charyzmatycznego wokalisty\, Maksymiliana Kwapienia\, który zyskał sławę jako finalista dziewiątej edycji programu The Voice of Poland. Ich repertuar obejmuje szeroki zakres utworów Led Zeppelin\, od klasycznych hitów po mniej znane perełki\, każdy wykonany z pasją i precyzją. Zeppelinians ma na swoim koncie liczne występy zarówno w Polsce\, jak i za granicą\, w tym na takich festiwalach jak Gdańsk Tribute Festival\, Blues Festival Gdynia\, czy International Blues Festival Bluesonalia. Zespół kontynuuje swoją misję dzielenia się nieśmiertelną muzyką Led Zeppelin\, zapraszając na koncerty pełne energii i autentycznych emocji\, które są prawdziwym świętem dla fanów rocka. \n  \n### Piotr Nalepa Breakout Tour / 16.08.2024 \nPiotr Nalepa Breakout Tour to projekt muzyczny\, który zrodził się z pasji i chęci upamiętnienia twórczości legendarnego polskiego zespołu bluesrockowego Breakout oraz jego założyciela\, Tadeusza Nalepy. Inicjatywa ta została zapoczątkowana w 2007 roku przez Piotra Nalepę\, syna Tadeusza\, który wraz z gitarzystą Robertem Luberą\, członkiem krakowskiej grupy Nie-bo\, z entuzjazmem odtwarza największe hity Breakout. W skład zespołu wchodzi również Żaneta Lubera\, znana z programu The Voice of Poland\, której głos dodaje świeżości klasycznym utworom. Koncerty Piotr Nalepa Breakout Tour są hołdem dla Miry Kubasińskiej i Tadeusza Nalepy\, a repertuar obejmuje takie przeboje jak „Kiedy byłem małym chłopcem”\, „Gdybyś kochał\, hej” czy „Oni zaraz przyjdą tu”. Zespół\, dzięki swojej energii i autentyczności\, zdobył uznanie fanów na całym świecie\, kontynuując muzyczną spuściznę jednego z najważniejszych składów w historii polskiego bluesa.
URL:https://kultura.tarnow.pl/wydarzenie/byl-sobie-blues-2024/2024-08-09/
LOCATION:Amfiteatr Letni\, ul. Kopernika 4\, Tarnów\, małopolskie\, 33-100\, Polska
CATEGORIES:festiwale
ATTACH;FMTTYPE=image/jpeg:https://kultura.tarnow.pl/wp-content/uploads/082550ac613c36d4d3ecc14cd724d14f.jpeg
GEO:50.013519;20.984475
X-APPLE-STRUCTURED-LOCATION;VALUE=URI;X-ADDRESS=Amfiteatr Letni ul. Kopernika 4 Tarnów małopolskie 33-100 Polska;X-APPLE-RADIUS=500;X-TITLE=ul. Kopernika 4:geo:20.984475,50.013519
END:VEVENT
BEGIN:VEVENT
DTSTART;TZID=Europe/Warsaw:20240809T200000
DTEND;TZID=Europe/Warsaw:20240809T220000
DTSTAMP:20260423T214210
CREATED:20240806T111022Z
LAST-MODIFIED:20240806T111022Z
UID:10018960-1723233600-1723240800@kultura.tarnow.pl
SUMMARY:Aniołki Solskiego
DESCRIPTION:Serdecznie zapraszamy na koncert “Aniołki Solskiego vs Najlepsze Polskie Hity”. Zgodnie z “aniołkową” tradycją\, również i tym razem widzowie będą mogli wybrać z menu piosenkę niespodziankę i zadedykować ją komuś bliskiemu. Taką dedykację\, również zgodnie z tradycją\, zatwierdza się wpłatą dowolnej kwoty do puszki kwestowej PSONI koło w Tarnowie. Podczas najbliższego koncertu widzowie będą mieli szansę poznać jednego z Przyjaciół Aniołków… \n9 sierpnia (piątek) godz. 20.00 Scena na Dachu/Mała Scena\nCena biletu: 20 zł/os.\, grupa od 4 osób i więcej: 15zł/os.
URL:https://kultura.tarnow.pl/wydarzenie/aniolki-solskiego/
LOCATION:Teatr im. L.Solskiego\, Mickiewicza 4\, Tarnów\, małopolskie\, 33-100\, Polska
CATEGORIES:koncerty
GEO:50.0159214;20.987504
X-APPLE-STRUCTURED-LOCATION;VALUE=URI;X-ADDRESS=Teatr im. L.Solskiego Mickiewicza 4 Tarnów małopolskie 33-100 Polska;X-APPLE-RADIUS=500;X-TITLE=Mickiewicza 4:geo:20.987504,50.0159214
END:VEVENT
END:VCALENDAR