BEGIN:VCALENDAR
VERSION:2.0
PRODID:-//kultura.tarnów - ECPv6.4.0.1//NONSGML v1.0//EN
CALSCALE:GREGORIAN
METHOD:PUBLISH
X-WR-CALNAME:kultura.tarnów
X-ORIGINAL-URL:https://kultura.tarnow.pl
X-WR-CALDESC:Wydarzenia dla
REFRESH-INTERVAL;VALUE=DURATION:PT1H
X-Robots-Tag:noindex
X-PUBLISHED-TTL:PT1H
BEGIN:VTIMEZONE
TZID:Europe/Warsaw
BEGIN:DAYLIGHT
TZOFFSETFROM:+0100
TZOFFSETTO:+0200
TZNAME:CEST
DTSTART:20240331T010000
END:DAYLIGHT
BEGIN:STANDARD
TZOFFSETFROM:+0200
TZOFFSETTO:+0100
TZNAME:CET
DTSTART:20241027T010000
END:STANDARD
END:VTIMEZONE
BEGIN:VEVENT
DTSTART;TZID=Europe/Warsaw:20240802T053000
DTEND;TZID=Europe/Warsaw:20240802T223000
DTSTAMP:20260423T150128
CREATED:20240725T115058Z
LAST-MODIFIED:20240919T113014Z
UID:10018846-1722576600-1722637800@kultura.tarnow.pl
SUMMARY:"Łąka kwietna"
DESCRIPTION:Wystawa plenerowa rzeźb kwiatów wokół Pałacyku Strzeleckiego – siedziby Biura Wystaw Artystycznych w Tarnowie.\n\nRzeźby polskich kwiatów polnych mają ponad metr wysokości\, wykonane są z blachy\, metalowych elementów z recyklingu oraz styropianu. Pomalowane emalią zyskują bajkowy charakter\, a zarazem uderzają sztucznością. Autorki Weronika Krupa i Anna Sudoł myślą o tych rzeźbach jako o pomnikach kwiatów rosnących na dzikich łąkach m.in. maka\, firletki\, maruny. Ich „sztuczne kwiaty” są ustawiane na naturalnej łące\, wysianej z nasion od Łukasza Łuczaja\, botanika zajmującego się zawodowo m.in. etnobotaniką\, autora książek i popularyzatora dzikiej kuchni.\n\nCelem Łukasza Łuczaja jest przywrócenie bioróżnorodności w mieście i zwrócenie uwagi na zubożenie polskiej flory i fauny. Świat nauki i sztuki spotykają się\, łączą siły\, a efektem tej współpracy jest „Łąka kwietna” – wystawa\, która zwraca uwagę na bogactwo naszej przyrody oraz wspiera ideę zachowania i tworzenia nowej dzikiej roślinności na terenach miast. Polska flora i fauna są naszym dziedzictwem\, tak samo jak wielkie dzieła malarstwa i literatury. Dlaczego nie stawiać im pomników?\n\nTo trzeci pokaz plenerowy „Łąki kwietnej”\, rzeźb wykonanych przez Weronikę Krupę i Annę Sudoł. Pierwszy miał miejsce na terenie bulwarów w Rzeszowie i był przygotowany w ramach Europejskiego Stadionu Kultury 2022 organizowanego przez Estradę Rzeszowską. Drugi odbył się w ubiegłym roku podczas Forum Ekonomicznego w Karpaczu.\nRzeźby są instalacją artystyczną. Prosimy traktować je jak dzieła sztuki i nie dotykać. Można do woli fotografować.\n\n\nWernisaż 30 VII (wtorek)\, g. 18.00\, spotkanie przed Pałacykiem StrzeleckimWystawa dostępna w godzinach otwarcia Parku Strzeleckiego do października 2024 r.\n\nAnna Sudoł Absolwentka Akademii Sztuk Pięknych w Warszawie. W 2015 r. na łamach magazynu „Szum” opublikowała w odcinkach kryminał „Jak sztuka krytyczna zniszczyła mi życie”. Laureatka 12. Konkursu Gepperta\, wraz z Weroniką Krupą i Galerią Potencja otrzymała nagrodę główną Cracow Gallery Weekend za najlepszą wystawę „Takie tam z awangardą” w Galerii Potencja (2017). W 2020 r. nakładem Wydawnictwa Ha!art ukazała się jej debiutancka powieść „Projekt”\, opisująca artystyczne środowisko Warszawy\, o książce pisały m.in. „Polityka”\, „Sieci”\, „Dwutygodnik”\, „Culture.pl”\, „Stoner Polski”\, „Przekrój”. Współtworzy zespół Czarodziej i Pan Enigmo\, gdzie pisze teksty\, śpiewa\, rapuje\, tworzy teledyski. W 2020 r. nakładem wydawnictwa Nagrania Somnambuliczne ukazał się debiutancki koncept-album zespołu. W 2025 r. nakładem Wydawnictwa Ha!art ukaże się jej druga książka. Mieszka w Warszawie na Pradze.\n\nWeronika KrupaAbsolwentka Akademii Sztuk Pięknych im. W. Strzemińskiego w Łodzi\, dyplom w Pracowni Kostiumu Teatralnego i Filmowego dr hab. Ewy Bloom-Kwiatkowskiej oraz Pracowni Działań Intermedialnych prof. Przemysława Wachowskiego. Podczas studiów odbyła prestiżowy staż w pracowni kostiumograficznej Karen Young w Nowym Jorku\, gdzie współpracowała z tancerzami z Third Rail Project. Autorka instalacji\, utworów wideo\, kolaży\, plakatów oraz obiektów malarskich i rzeźbiarskich\, pracuje także w teatrze jako projektantka scenografii i kostiumów. Jej etiudy filmowo-kostiumowe nagradzane były w konkursach artystycznych oraz prezentowane na licznych wystawach i pokazach\, m. in. na Festiwalu Nowej Scenografii w Katowicach (wyróżnienie w Konkursie o Nagrodę Scenograficzną im. Jerzego Moskala 2016 za pracę magisterska). Ta sama praca zaprezentowana została podczas PQ – Praskiego Quadriennale 2019 na wystawie organizowanej przez Ośrodek Polski Międzynarodowego Instytutu Teatralnego oraz Muzeum Śląskie\, prezentującej najlepsze prace dyplomowe polskich uczelni artystycznych ostatnich 4 lat. W 2017 r. wraz z Weroniką Krupą i Galerią Potencja otrzymała nagrodę główną Cracow Gallery Weekend za najlepszą wystawę „Takie tam z awangardą” w Galerii Potencja. Stypendystka Ministra Kultury\, Dziedzictwa Narodowego i Sportu (2021). W 2023 r. z grupą aktorów i performerów z Latającego Teatru Kantorowi stworzyła w Tarnowie spektakl w reżyserii Grażyny Tabor na podstawie książki Mikołaja Łozińskiego Stramer\, którego premiera odbyła się w oddziale BWA – MCA Wałowa 25. Mieszka w Rzeszowie.\n\nProjekt powstał w ramach Europejskiego Stadionu Kultury 2022\, organizowanego przez Estradę Rzeszowską.
URL:https://kultura.tarnow.pl/wydarzenie/laka-kwietna-2/2024-08-02/
LOCATION:Biuro Wystaw Artystycznych\, ul. Słowackiego 1\, Tarnów\, małopolskie\, 33-100\, Polska
CATEGORIES:wystawy
ATTACH;FMTTYPE=image/jpeg:https://kultura.tarnow.pl/wp-content/uploads/452936272_1009970607802946_3106473495978847767_n.jpg
ORGANIZER;CN="Biuro Wystaw Artystycznych":MAILTO:biuro@bwa.tarnow.pl
GEO:50.0178761;20.9827521
X-APPLE-STRUCTURED-LOCATION;VALUE=URI;X-ADDRESS=Biuro Wystaw Artystycznych ul. Słowackiego 1 Tarnów małopolskie 33-100 Polska;X-APPLE-RADIUS=500;X-TITLE=ul. Słowackiego 1:geo:20.9827521,50.0178761
END:VEVENT
BEGIN:VEVENT
DTSTART;TZID=Europe/Warsaw:20240802T090000
DTEND;TZID=Europe/Warsaw:20240802T150000
DTSTAMP:20260423T150128
CREATED:20240715T064828Z
LAST-MODIFIED:20240715T064909Z
UID:10018451-1722589200-1722610800@kultura.tarnow.pl
SUMMARY:„Artefakty historyczne”
DESCRIPTION:Na wystawie zaprezentowane zostaną prace studentów Wydziału Sztuki Akademii Tarnowskiej\, powstałych podczas warsztatów realizowanych pod kierunkiem artysty i wykładowcy Romana Fleszara. Rysunki prezentować będą obiekty historyczne i detale muzealiów znajdujących się na wystawie stałej oddziału. \nWstęp na wernisaż bezpłatny. \nWystawa czynna: 6 lipca – 4 sierpnia 2024 roku. \nKuratorzy wystawy: Roman Fleszar\, Bożena Szczupak\, Łukasz Jewuła \nWspółorganizator: Wydział Sztuki Akademii Tarnowskiej. \nponiedziałek nieczynne\nwtorek 9.00 – 15.00\nśroda 9.00 – 15.00\nczwartek 9.00 – 15.00\npiątek 9.00 – 17.00\nsobota 10.00 – 15.00\nniedziela 10.00 – 15.00
URL:https://kultura.tarnow.pl/wydarzenie/artefakty-historyczne-2/2024-08-02/
LOCATION:Ratusz\, Rynek 1\, Tarnów\, małopolskie\, 33-100\, Polska
CATEGORIES:wystawy
ATTACH;FMTTYPE=image/jpeg:https://kultura.tarnow.pl/wp-content/uploads/Artefakty-zaproszenie-1.jpg
GEO:50.0124854;20.9877181
X-APPLE-STRUCTURED-LOCATION;VALUE=URI;X-ADDRESS=Ratusz Rynek 1 Tarnów małopolskie 33-100 Polska;X-APPLE-RADIUS=500;X-TITLE=Rynek 1:geo:20.9877181,50.0124854
END:VEVENT
BEGIN:VEVENT
DTSTART;TZID=Europe/Warsaw:20240802T110000
DTEND;TZID=Europe/Warsaw:20240802T180000
DTSTAMP:20260423T150128
CREATED:20240627T120551Z
LAST-MODIFIED:20240627T122904Z
UID:10018389-1722596400-1722621600@kultura.tarnow.pl
SUMMARY:"Otto Schier. Pracownia architektoniczna"
DESCRIPTION:Otto Schier zamieszkał w Tarnowie w 1959 roku\, zaraz po ukończeniu studiów na Wydziale Architektury Politechniki Krakowskiej. Przez 65 lat zrealizował w Tarnowie i okolicach około dwieście projektów architektonicznych i urbanistycznych. Wiele z nich zostało wykonanych w czynie społecznym\, jak na przykład muszla tarnowskiego Amfiteatru. \nWystawa ma na celu zaprezentować skalę różnorodnej i wytrwałej pracy architekta\, a także osadzić jego realizacje w historii architektury miasta\, Polski i świata. Wybrane zostały realizacje projektów użyteczności publicznej\, z których na co dzień wszyscy możemy korzystać i obok których przechodzimy. \nOtto Schier (ur. 12 lipca 1931 w Katowicach) – polski inżynier architekt. W 1954 roku ukończył z wyróżnieniem studia na Wydziale Architektury Politechniki Krakowskiej i otrzymał tytuł magistra inżyniera architektury. Od 1959 roku mieszka i pracuje w Tarnowie. Od 1968 roku pracownik Miejskiej Pracowni Urbanistycznej\, potem Wojewódzkiego Biura Planowania Przestrzennego i Małopolskiego Biura Planowania Przestrzennego. \n30.06-25.08.2024\nBWA Tarnów / Pałacyk Strzelecki\, ul. Słowackiego 1\nzespół kuratorski: Aleksandra Kubisztal\, Bartłomiej i Sonia Pochopień\noprawa graficzna: Natalia Sikorska\nfotografia na plakacie: Wiktor Lekston \nW programie wystawy:\nNiedziela\, 14.07\, g. 10:00 – Spacer śladami architektury Otto Schiera\, prowadzenie: Agnieszka Partridge\, zbiórka pod MCA/ul. Wałowa 25\, zakończenie spaceru na wystawie\nPoniedziałek-piątek\, 5-9.08\, g. 11:00-14:00 – Tarnów w plenerze – wakacyjny plener rysunkowy\, prowadzenie: Bartłomiej Pochopień\, obowiązują zapisy: edukacja@bwa.tarnow.pl\, koszt: 200 zł za 5 dni\nNiedziela\, 25.08\, g. 16:00 – Małe BWA na wystawie\, prowadzenie: Agata Dymańska\, Aleksandra Kubisztal\, obowiązują zapisy: edukacja@bwa.tarnow.pl\, koszt: 15 zł\nNiedziela\, 25.08\, g. 17:30 – ostatni spacer po wystawie\, prowadzenie: Bartłomiej Pochopień\, wstęp w cenie biletu na wystawę
URL:https://kultura.tarnow.pl/wydarzenie/otto-schier-pracownia-architektoniczna/2024-08-02/
LOCATION:Biuro Wystaw Artystycznych\, ul. Słowackiego 1\, Tarnów\, małopolskie\, 33-100\, Polska
CATEGORIES:wystawy
ATTACH;FMTTYPE=image/jpeg:https://kultura.tarnow.pl/wp-content/uploads/Otto-Schier.-Pracownia-architektoniczna_plakat-BWA-Tarnow-scaled.jpg
ORGANIZER;CN="Biuro Wystaw Artystycznych":MAILTO:biuro@bwa.tarnow.pl
GEO:50.0178761;20.9827521
X-APPLE-STRUCTURED-LOCATION;VALUE=URI;X-ADDRESS=Biuro Wystaw Artystycznych ul. Słowackiego 1 Tarnów małopolskie 33-100 Polska;X-APPLE-RADIUS=500;X-TITLE=ul. Słowackiego 1:geo:20.9827521,50.0178761
END:VEVENT
BEGIN:VEVENT
DTSTART;TZID=Europe/Warsaw:20240802T180000
DTEND;TZID=Europe/Warsaw:20240802T200000
DTSTAMP:20260423T150128
CREATED:20240715T070627Z
LAST-MODIFIED:20240715T070627Z
UID:10018821-1722621600-1722628800@kultura.tarnow.pl
SUMMARY:VIII Międzynarodowy Festiwal "Ambasador Tarnowa Maestro Krystian Tkaczewski i jego Goście"
DESCRIPTION:VIII Międzynarodowy Festiwal  Ambasador Tarnowa Maestro Krystian Tkaczewski i jego Goście pod Honorowym Patronatem Prezydenta Tarnowa \nTarnów 28 lipca-10 sierpnia 2024 r. \nSala Koncertowa Zespołu Szkół Muzycznych w Tarnowie\, ul. Lippoczy’ego 4 \n28.07.2023 godz. 18.00 – Koncert Inauguracyjny – Krystian Tkaczewski oraz zaproszeni Goście – Hanwen Shi (Chiny)- laureat Chopin International Piano Competition in Hartford\, CT \nPawel Wojciechowski (Polska) – laureat I Międzynarodowego Konkursu im. J.W. Krogulskiego w Tarnowie \n1.08.2023\, godz. 18.00 – Koncert uczestników festiwalu z Polski\, USA\, Chin\,Japonii\, USA\, Hong Kong \n2.08.2022\, godz. 18.00 – Koncert uczestników festiwalu z USA\, Chin\, Japonii \, USA\, Tajwanu \n3.08.2022 godz. 18.00 – Koncert uczestników festiwalu z Polski\, Japonii\, USA\, Chin\, Hong Kongu\,  z towarzyszeniem Tarnowskiej Orkiestry Kameralnej\, dyr. Masahi Katayama (Japonia) \nSala Koncertowa ZSM im. I.J. Paderewskiego \n4.08.2022\, godz. 18.00 – Koncert uczestników festiwalu z Japonii\, USA\, Chin\, Tajwanu\, Hong Kongu  z towarzyszeniem Tarnowskiej Orkiestry Kameralnej\, dyr. Masahi Katayama (Japonia) \nSala Koncertowa ZSM im. I.J. Paderewskiego \n10.08.2022\, godz. 18.00 – Koncert uczestników festiwalu oraz zaproszonych Gości z Polski\, USA\, Chin \nWykładowcy: Krystian Tkaczewski (Polska/USA)\, Philippe Raskin (Belgia)\, Masahi Katayama (Japonia)\, Maria Murawska (Polska)\, Liao Mingfei (Hong Kong)\, Yi-Yang Chen (Tajwan) \nUczestnicy festiwalu: \nShuang Wu (Chiny)\, Szu-Chia Lin (Tajwan)\, Longcheng Ma (Chiny)\, Hanwen Yan (Chiny)\, Chen Yuen Chi (Hong Kong)\, Chow Giulietta Tsz Yau (Hong Kong)\, Li Yuzhi (Hong Kong)\, Cheung Tsz Long (Hong Kong)\, Wong Hui Yi (Hong Kong)\, Liu Sz Kai Neil (Hong Kong)\, Sheryl Luo (USA)\, Kevin Luo (USA)\, Ethan Lee (USA)\, Sophie Fu (USA)\, Sophia Popescu (USA)\, Liam Lech Furdyna (Polska)\, Ava Geng (USA)\, Hanwen Shi (Chiny)\, Nina Okada (Japonia)\, Olivia Zhu (USA)\, Ross Mosier (USA)\, Haruki Takeuchi (Japonia/USA)\, Julia Godlewska (Polska)\, Sofiia Kotiuk (Polska)\, Borys Komisarz (Polska)\, Antoni Przykłota (Polska)\, Xie Yijun (Chiny) \nNa wszystkie koncerty wstęp wolny. \n 
URL:https://kultura.tarnow.pl/wydarzenie/viii-miedzynarodowy-festiwal-ambasador-tarnowa-maestro-krystian-tkaczewski-i-jego-goscie/2024-08-02/
LOCATION:Sala Koncertowa Zespołu Szkół Muzycznych\, Lippóczy’ego 4\, Tarnów\, małopolskie\, 33-100\, Polska
CATEGORIES:festiwale
ATTACH;FMTTYPE=image/jpeg:https://kultura.tarnow.pl/wp-content/uploads/tajlandia3a-1-e1721027310669.jpg
GEO:50.0205582;20.9801972
X-APPLE-STRUCTURED-LOCATION;VALUE=URI;X-ADDRESS=Sala Koncertowa Zespołu Szkół Muzycznych Lippóczy’ego 4 Tarnów małopolskie 33-100 Polska;X-APPLE-RADIUS=500;X-TITLE=Lippóczy’ego 4:geo:20.9801972,50.0205582
END:VEVENT
BEGIN:VEVENT
DTSTART;TZID=Europe/Warsaw:20240802T190000
DTEND;TZID=Europe/Warsaw:20240802T210000
DTSTAMP:20260423T150128
CREATED:20240708T082355Z
LAST-MODIFIED:20240708T082355Z
UID:10018429-1722625200-1722632400@kultura.tarnow.pl
SUMMARY:Był Sobie Blues 2024
DESCRIPTION:Sierpień upłynie pod znakiem bluesa\nNadchodzi dziewiętnasta edycja Letniego  Festiwalu Bluesa „Był Sobie Blues”.  Podczas koncertów\, które odbędą się w trzy kolejne piątki sierpnia\, oprócz klasycznych bluesowych dźwięków\, usłyszymy interpretacje utworów legendarnych zespołów Led Zeppelin i Breakout. Maks Kwapień\, znany z programu The Voice of Poland wraz z zespołem Zeppelinians\, odda hołd twórczości Led Zeppelin\, natomiast Piotr Nalepa Nalepa Breakout Tour przybliży publiczności dzieł swojego ojca\, Tadeusza Nalepy. Festiwal otworzą rewelacyjna Magdalena Magic Piskorczyk i Kraków Street Band\, którzy swoją muzyką wprowadzą słuchaczy w niepowtarzalny nastrój.\nFestiwal Był Sobie Blues\, którego historię współtworzył tarnowski artysta Wojciech Klich\, jest obecnie jednym z wydarzeń w kalendarzu Tarnowskiego Centrum Kultury. \nBilety w cenie 49 złotych dostępne są w przedsprzedaży prowadzonej on-line na stronie www.tck.pl oraz w kasie Amfiteatru dniu koncertów od godz. 19.00. Dzieci do 7 roku życia mają wstęp bezpłatny. \nOrganizatorem wydarzenia Był Sobie Blues jest Tarnowskie Centrum Kultury. Impreza współfinansowana jest z Budżetu Miasta Tarnowa. \nMiejsce: Amfiteatr Letni (Tarnów\, ul. Kopernika 2)\nTerminy koncertów: 2.08\, 9.08\, 16.08.2024\, (piątki)\nBilety: 49 zł / do nabycia on-line (www.tck.pl) oraz w Amfiteatrze (w dniu koncertów) \n\nProgram imprez:\n2.08\, godz. 19.00 Magda „Magic” Piskorczyk / Kraków Street Band\nBilety: kliknij \n9.08\, godz. 20.00 Tribute To Led Zeppelin – Zeppelinians\nBilety: kliknij \n16.08\, godz. 20.00 Tribute To Nalepa – Piotr Nalepa Breakout Tour\nBilety: kliknij \n  \nO wykonawcach: \n### Magda Magic Piskorczyk / 2.08.2024 \nwielokrotnie nagradzana wokalistka i multiinstrumentalistka\, trzykrotnie nominowana do nagrody Fryderyka\, dwukrotna półfinalistka International Blues Challenge w Memphis (USA). Znana z potężnego\, „czarnego” głosu. Artystka gra na różnych gitarach i instrumentach perkusyjnych\, specjalizując się w muzyce afro-amerykańskiej i afrykańskiej. Wydała siedem albumów\, współpracując z artystami takimi jak Michał Urbaniak i Billy Gibson. Prowadzi autorskie warsztaty muzyczne. Od 2019 roku tworzy trio „Magda Piskorczyk and the Modern Boogie Woogie Duo”\, kontynuuje także działalność ze swoim własnym zespołem.\nMuzyka Magdy Piskorczyk charakteryzuje się wyrafinowanymi aranżacjami\, które łączą soulowe\, funkowe\, jazzowe i rockowe standardy z muzyką gospel i blues. Artystka wplata w swoje kompozycje wiele emocji\, tworząc muzykę pełną pasji\, radości i humoru\, która jednocześnie skłania do refleksji. Niebanalne użycie głosu i instrumentów nadaje jej utworom unikalny charakter\, a interaktywne elementy\, takie jak śpiew\, klaskanie\, czy „pstrykanie” są kluczowe podczas występów. \n  \n### Kraków Street Band / 2.08.2024 \nZespół\, który szybko stał się wizytówką Krakowa\, jak i polskiej sceny muzycznej. Od ponad dziesięciu lat nieprzerwanie zdobywają popularność\, łącząc nowoczesny folk\, jazz i blues. Zagrali niezliczoną ilość koncertów klubowych i festiwalowych\, w tym na Pol’and’Rock i węgierskim Sziget\, a ich płyta „Going Away” była nominowana do Fryderyków 2019 w kategorii Album Roku Blues/Country. Polskojęzyczna płyta „Czekanie”\, wydana w 2022 roku\, również otrzymała nominację do Fryderyka. Kraków Street Band powstał w 2014 roku\, początkowo grając spontanicznie na krakowskim Rynku. To uliczne granie zainspirowało ich do wydania pierwszej płyty\, sfinansowanej dzięki kampanii crowdfundingowej na „Polak Potrafi”\, która zebrała 170% planowanego budżetu w miesiąc. Zespół zdobył uznanie\, docierając do finału programu Must Be The Music. \n  \n### Zeppelinians / 9.08.2024 \nZeppelinians to zespół\, który oddaje hołd legendarnemu brzmieniu Led Zeppelin\, przynosząc klasyczne rockowe dźwięki do współczesnej publiczności. Założony w 2016 roku przez grupę zapalonych fanów i doświadczonych muzyków\, Zeppelinians szybko zdobył uznanie jako jeden z najlepszych tribute bandów Led Zeppelin w Europie. Zespół składa się z czterech wybitnych instrumentalistów i charyzmatycznego wokalisty\, Maksymiliana Kwapienia\, który zyskał sławę jako finalista dziewiątej edycji programu The Voice of Poland. Ich repertuar obejmuje szeroki zakres utworów Led Zeppelin\, od klasycznych hitów po mniej znane perełki\, każdy wykonany z pasją i precyzją. Zeppelinians ma na swoim koncie liczne występy zarówno w Polsce\, jak i za granicą\, w tym na takich festiwalach jak Gdańsk Tribute Festival\, Blues Festival Gdynia\, czy International Blues Festival Bluesonalia. Zespół kontynuuje swoją misję dzielenia się nieśmiertelną muzyką Led Zeppelin\, zapraszając na koncerty pełne energii i autentycznych emocji\, które są prawdziwym świętem dla fanów rocka. \n  \n### Piotr Nalepa Breakout Tour / 16.08.2024 \nPiotr Nalepa Breakout Tour to projekt muzyczny\, który zrodził się z pasji i chęci upamiętnienia twórczości legendarnego polskiego zespołu bluesrockowego Breakout oraz jego założyciela\, Tadeusza Nalepy. Inicjatywa ta została zapoczątkowana w 2007 roku przez Piotra Nalepę\, syna Tadeusza\, który wraz z gitarzystą Robertem Luberą\, członkiem krakowskiej grupy Nie-bo\, z entuzjazmem odtwarza największe hity Breakout. W skład zespołu wchodzi również Żaneta Lubera\, znana z programu The Voice of Poland\, której głos dodaje świeżości klasycznym utworom. Koncerty Piotr Nalepa Breakout Tour są hołdem dla Miry Kubasińskiej i Tadeusza Nalepy\, a repertuar obejmuje takie przeboje jak „Kiedy byłem małym chłopcem”\, „Gdybyś kochał\, hej” czy „Oni zaraz przyjdą tu”. Zespół\, dzięki swojej energii i autentyczności\, zdobył uznanie fanów na całym świecie\, kontynuując muzyczną spuściznę jednego z najważniejszych składów w historii polskiego bluesa.
URL:https://kultura.tarnow.pl/wydarzenie/byl-sobie-blues-2024/2024-08-02/
LOCATION:Amfiteatr Letni\, ul. Kopernika 4\, Tarnów\, małopolskie\, 33-100\, Polska
CATEGORIES:festiwale
ATTACH;FMTTYPE=image/jpeg:https://kultura.tarnow.pl/wp-content/uploads/082550ac613c36d4d3ecc14cd724d14f.jpeg
GEO:50.013519;20.984475
X-APPLE-STRUCTURED-LOCATION;VALUE=URI;X-ADDRESS=Amfiteatr Letni ul. Kopernika 4 Tarnów małopolskie 33-100 Polska;X-APPLE-RADIUS=500;X-TITLE=ul. Kopernika 4:geo:20.984475,50.013519
END:VEVENT
END:VCALENDAR