BEGIN:VCALENDAR
VERSION:2.0
PRODID:-//kultura.tarnów - ECPv6.4.0.1//NONSGML v1.0//EN
CALSCALE:GREGORIAN
METHOD:PUBLISH
X-ORIGINAL-URL:https://kultura.tarnow.pl
X-WR-CALDESC:Wydarzenia dla
REFRESH-INTERVAL;VALUE=DURATION:PT1H
X-Robots-Tag:noindex
X-PUBLISHED-TTL:PT1H
BEGIN:VTIMEZONE
TZID:Europe/Warsaw
BEGIN:DAYLIGHT
TZOFFSETFROM:+0100
TZOFFSETTO:+0200
TZNAME:CEST
DTSTART:20240331T010000
END:DAYLIGHT
BEGIN:STANDARD
TZOFFSETFROM:+0200
TZOFFSETTO:+0100
TZNAME:CET
DTSTART:20241027T010000
END:STANDARD
END:VTIMEZONE
BEGIN:VEVENT
DTSTART;TZID=Europe/Warsaw:20240728T090000
DTEND;TZID=Europe/Warsaw:20240728T150000
DTSTAMP:20260424T073450
CREATED:20240715T064828Z
LAST-MODIFIED:20240715T064909Z
UID:10018446-1722157200-1722178800@kultura.tarnow.pl
SUMMARY:„Artefakty historyczne”
DESCRIPTION:Na wystawie zaprezentowane zostaną prace studentów Wydziału Sztuki Akademii Tarnowskiej\, powstałych podczas warsztatów realizowanych pod kierunkiem artysty i wykładowcy Romana Fleszara. Rysunki prezentować będą obiekty historyczne i detale muzealiów znajdujących się na wystawie stałej oddziału. \nWstęp na wernisaż bezpłatny. \nWystawa czynna: 6 lipca – 4 sierpnia 2024 roku. \nKuratorzy wystawy: Roman Fleszar\, Bożena Szczupak\, Łukasz Jewuła \nWspółorganizator: Wydział Sztuki Akademii Tarnowskiej. \nponiedziałek nieczynne\nwtorek 9.00 – 15.00\nśroda 9.00 – 15.00\nczwartek 9.00 – 15.00\npiątek 9.00 – 17.00\nsobota 10.00 – 15.00\nniedziela 10.00 – 15.00
URL:https://kultura.tarnow.pl/wydarzenie/artefakty-historyczne-2/2024-07-28/
LOCATION:Ratusz\, Rynek 1\, Tarnów\, małopolskie\, 33-100\, Polska
CATEGORIES:wystawy
ATTACH;FMTTYPE=image/jpeg:https://kultura.tarnow.pl/wp-content/uploads/Artefakty-zaproszenie-1.jpg
GEO:50.0124854;20.9877181
X-APPLE-STRUCTURED-LOCATION;VALUE=URI;X-ADDRESS=Ratusz Rynek 1 Tarnów małopolskie 33-100 Polska;X-APPLE-RADIUS=500;X-TITLE=Rynek 1:geo:20.9877181,50.0124854
END:VEVENT
BEGIN:VEVENT
DTSTART;TZID=Europe/Warsaw:20240728T110000
DTEND;TZID=Europe/Warsaw:20240728T180000
DTSTAMP:20260424T073450
CREATED:20240627T120551Z
LAST-MODIFIED:20240627T122904Z
UID:10018385-1722164400-1722189600@kultura.tarnow.pl
SUMMARY:"Otto Schier. Pracownia architektoniczna"
DESCRIPTION:Otto Schier zamieszkał w Tarnowie w 1959 roku\, zaraz po ukończeniu studiów na Wydziale Architektury Politechniki Krakowskiej. Przez 65 lat zrealizował w Tarnowie i okolicach około dwieście projektów architektonicznych i urbanistycznych. Wiele z nich zostało wykonanych w czynie społecznym\, jak na przykład muszla tarnowskiego Amfiteatru. \nWystawa ma na celu zaprezentować skalę różnorodnej i wytrwałej pracy architekta\, a także osadzić jego realizacje w historii architektury miasta\, Polski i świata. Wybrane zostały realizacje projektów użyteczności publicznej\, z których na co dzień wszyscy możemy korzystać i obok których przechodzimy. \nOtto Schier (ur. 12 lipca 1931 w Katowicach) – polski inżynier architekt. W 1954 roku ukończył z wyróżnieniem studia na Wydziale Architektury Politechniki Krakowskiej i otrzymał tytuł magistra inżyniera architektury. Od 1959 roku mieszka i pracuje w Tarnowie. Od 1968 roku pracownik Miejskiej Pracowni Urbanistycznej\, potem Wojewódzkiego Biura Planowania Przestrzennego i Małopolskiego Biura Planowania Przestrzennego. \n30.06-25.08.2024\nBWA Tarnów / Pałacyk Strzelecki\, ul. Słowackiego 1\nzespół kuratorski: Aleksandra Kubisztal\, Bartłomiej i Sonia Pochopień\noprawa graficzna: Natalia Sikorska\nfotografia na plakacie: Wiktor Lekston \nW programie wystawy:\nNiedziela\, 14.07\, g. 10:00 – Spacer śladami architektury Otto Schiera\, prowadzenie: Agnieszka Partridge\, zbiórka pod MCA/ul. Wałowa 25\, zakończenie spaceru na wystawie\nPoniedziałek-piątek\, 5-9.08\, g. 11:00-14:00 – Tarnów w plenerze – wakacyjny plener rysunkowy\, prowadzenie: Bartłomiej Pochopień\, obowiązują zapisy: edukacja@bwa.tarnow.pl\, koszt: 200 zł za 5 dni\nNiedziela\, 25.08\, g. 16:00 – Małe BWA na wystawie\, prowadzenie: Agata Dymańska\, Aleksandra Kubisztal\, obowiązują zapisy: edukacja@bwa.tarnow.pl\, koszt: 15 zł\nNiedziela\, 25.08\, g. 17:30 – ostatni spacer po wystawie\, prowadzenie: Bartłomiej Pochopień\, wstęp w cenie biletu na wystawę
URL:https://kultura.tarnow.pl/wydarzenie/otto-schier-pracownia-architektoniczna/2024-07-28/
LOCATION:Biuro Wystaw Artystycznych\, ul. Słowackiego 1\, Tarnów\, małopolskie\, 33-100\, Polska
CATEGORIES:wystawy
ATTACH;FMTTYPE=image/jpeg:https://kultura.tarnow.pl/wp-content/uploads/Otto-Schier.-Pracownia-architektoniczna_plakat-BWA-Tarnow-scaled.jpg
ORGANIZER;CN="Biuro Wystaw Artystycznych":MAILTO:biuro@bwa.tarnow.pl
GEO:50.0178761;20.9827521
X-APPLE-STRUCTURED-LOCATION;VALUE=URI;X-ADDRESS=Biuro Wystaw Artystycznych ul. Słowackiego 1 Tarnów małopolskie 33-100 Polska;X-APPLE-RADIUS=500;X-TITLE=ul. Słowackiego 1:geo:20.9827521,50.0178761
END:VEVENT
BEGIN:VEVENT
DTSTART;TZID=Europe/Warsaw:20240728T120000
DTEND;TZID=Europe/Warsaw:20240728T140000
DTSTAMP:20260424T073450
CREATED:20240715T072640Z
LAST-MODIFIED:20240715T072640Z
UID:10018829-1722168000-1722175200@kultura.tarnow.pl
SUMMARY:III Festiwal "Mistrzowskie Kursy Artystyczne"
DESCRIPTION:III Festiwal  Mistrzowskie Kursy Artystyczne \n19 lipca – 28 lipca 2024 \nCoroczne warsztaty pod okiem największych mistrzów i autorytetów (wybitni\, światowej sławy artyści z całej Polski i Europy w dziedzinie instrumentalistyki oraz plastyki) przeznaczone dla młodych artystów. Wśród zaproszonych wykładowców znajdują się wybitni światowej sławy artyści z całej Polski oraz Europy\, będący równocześnie profesorami uczelni wyższych\, których oklaskuje publiczność na koncertach oraz wystawach w najbardziej prestiżowych miejscach świata! \nW trakcie trwania Kursów zapraszamy na koncerty w wykonaniu mistrzów oraz uczestników Mistrzowskich Kursów Artystycznych przybyłych do Tarnowa z całego świata (Chiny\, Japonia\, Hiszpania\, USA\, Korea) \nOrganizator:  \nPolska Fundacja Kultury i Rozwoju \nPartnerzy: \nUrząd Miasta Tarnowa\, Urząd Gminy Tarnów\, Zespół Szkół Muzycznych w Tarnowie\, Muzeum Ziemi Tarnowskiej\, Biuro Wystaw Artystycznych w Tarnowie\, Rada Osiedla Starówka\, Rada Osiedla Piaskówka \n19 lipca (piątek) godz. 18.00  Sala koncertowa przy ZSM w Tarnowie ul.Lippoczy’ego 4 \nUroczysta inauguracja Mistrzowskich Kursów Artystycznych   \nKoncert Mistrzowski Maestra EWA POBŁOCKA – fortepian \nW programie: Johann Sebastian Bach \n23 lipca (wtorek) godz. 18.00 Sala Lustrzana ul.Wałowa 10 \nPierwszy Koncert SCENA MŁODYCH  \nz udziałem wybranych uczestników Mistrzowskich Kursów Artystycznych (Polska\, USA\, Hiszpania\, Korea\, Japonia\, Chiny\, Słowacja) \n24 lipca (środa) godz. 18.00 Sala Lustrzana ul.Wałowa 10 \nDrugi Koncert SCENA MŁODYCH  \nz udziałem wybranych uczestników Mistrzowskich Kursów Artystycznych (Polska\, USA\, Hiszpania\, Korea\, Japonia\, Chiny\, Słowacja) \n25 lipca (czwartek) godz. 18.00 Sala Lustrzana ul.Wałowa 10 \nTrzeci Koncert SCENA MŁODYCH  \nz udziałem wybranych uczestników Mistrzowskich Kursów Artystycznych (Polska\, USA\, Hiszpania\, Korea\, Japonia\, Chiny\, Słowacja) \n28 lipca (niedziela) godz. 12.00 Sala Koncertowa przy ZSM w Tarnowie\, ul.Lippoczy’ego 4 \nKONCERT FINAŁOWY  \nZ udziałem najwybitniejszych uczestników III edycji Mistrzowskich Kursów Artystycznych 2024
URL:https://kultura.tarnow.pl/wydarzenie/iii-festiwal-mistrzowskie-kursy-artystyczne/2024-07-28/
LOCATION:Sala Koncertowa Zespołu Szkół Muzycznych\, Lippóczy’ego 4\, Tarnów\, małopolskie\, 33-100\, Polska
CATEGORIES:festiwale
ATTACH;FMTTYPE=image/jpeg:https://kultura.tarnow.pl/wp-content/uploads/Warsztaty-wakacyjne.jpg
GEO:50.0205582;20.9801972
X-APPLE-STRUCTURED-LOCATION;VALUE=URI;X-ADDRESS=Sala Koncertowa Zespołu Szkół Muzycznych Lippóczy’ego 4 Tarnów małopolskie 33-100 Polska;X-APPLE-RADIUS=500;X-TITLE=Lippóczy’ego 4:geo:20.9801972,50.0205582
END:VEVENT
BEGIN:VEVENT
DTSTART;TZID=Europe/Warsaw:20240728T150000
DTEND;TZID=Europe/Warsaw:20240728T180000
DTSTAMP:20260424T073451
CREATED:20240708T080510Z
LAST-MODIFIED:20240708T080710Z
UID:10018424-1722178800-1722189600@kultura.tarnow.pl
SUMMARY:Kreatywny Tarnów
DESCRIPTION:Początkiem lipca wraca Kreatywny Tarnów dla dzieci. Na rynku będą czekać animatorzy\, którzy przygotowali dla najmłodszych zabawy z PoKlockami\, czyli dużymi piankowymi klockami. Pierwsze spotkanie już w najbliższą niedzielę. \nUbiegłoroczne PoKlocki cieszyły się niemałym zainteresowaniem\, także i w tym roku nie może ich zabraknąć. – Gwarantujemy twórczą zabawę\, zakręcone pomysły i pozytywne emocje – zachęca Biuro Promocji Urzędu Miasta Tarnowa\, organizator spotkania. \nOd 7 lipca\, przez cztery niedziele\, na tarnowskim rynku będą się odbywać trzygodzinne spotkania poświęcone dzieciom oraz zabawie. Każdorazowo wydarzenie będzie trwać od godziny 15 do 18. W sierpniu akcja przeniesie się na plac przed Multimedialnym Centrum Artystycznym (Wałowa 25) i przez kolejne cztery niedziele (począwszy od 4 sierpnia) to tam najmłodsi poświęcą się dobrej zabawie w towarzystwie piankowych klocków. \nSerdecznie zapraszamy najmłodszych oraz ich rodziców i opiekunów. \n(mt)
URL:https://kultura.tarnow.pl/wydarzenie/kreatywny-tarnow/2024-07-28/
LOCATION:Rynek\, Tarnów\, małopolskie\, 33-100\, Polska
CATEGORIES:spotkania
ATTACH;FMTTYPE=image/jpeg:https://kultura.tarnow.pl/wp-content/uploads/plakat-5-scaled.jpg
GEO:50.0121011;20.9858407
END:VEVENT
BEGIN:VEVENT
DTSTART;TZID=Europe/Warsaw:20240728T150000
DTEND;TZID=Europe/Warsaw:20240728T180000
DTSTAMP:20260424T073451
CREATED:20240722T092753Z
LAST-MODIFIED:20240722T092753Z
UID:10018837-1722178800-1722189600@kultura.tarnow.pl
SUMMARY:Niedziele w Parku Piaskówka
DESCRIPTION:Niedziele w Parku Piaskówka powracają!\n\n\n\nProjekt finansowany z budżetu miasta Tarnowa w ramach środków jakimi dysponują Rady Osiedli.
URL:https://kultura.tarnow.pl/wydarzenie/niedziele-w-parku-piaskowka/2024-07-28/
LOCATION:Park na piaskówce\, Tarnów\, małopolskie\, 33-100\, Polska
CATEGORIES:spotkania
ATTACH;FMTTYPE=image/jpeg:https://kultura.tarnow.pl/wp-content/uploads/449710471_902754041895823_1859729353623733333_n.jpg
GEO:50.0121011;20.9858407
END:VEVENT
BEGIN:VEVENT
DTSTART;TZID=Europe/Warsaw:20240728T180000
DTEND;TZID=Europe/Warsaw:20240728T200000
DTSTAMP:20260424T073451
CREATED:20240715T070627Z
LAST-MODIFIED:20240715T070627Z
UID:10018819-1722189600-1722196800@kultura.tarnow.pl
SUMMARY:VIII Międzynarodowy Festiwal "Ambasador Tarnowa Maestro Krystian Tkaczewski i jego Goście"
DESCRIPTION:VIII Międzynarodowy Festiwal  Ambasador Tarnowa Maestro Krystian Tkaczewski i jego Goście pod Honorowym Patronatem Prezydenta Tarnowa \nTarnów 28 lipca-10 sierpnia 2024 r. \nSala Koncertowa Zespołu Szkół Muzycznych w Tarnowie\, ul. Lippoczy’ego 4 \n28.07.2023 godz. 18.00 – Koncert Inauguracyjny – Krystian Tkaczewski oraz zaproszeni Goście – Hanwen Shi (Chiny)- laureat Chopin International Piano Competition in Hartford\, CT \nPawel Wojciechowski (Polska) – laureat I Międzynarodowego Konkursu im. J.W. Krogulskiego w Tarnowie \n1.08.2023\, godz. 18.00 – Koncert uczestników festiwalu z Polski\, USA\, Chin\,Japonii\, USA\, Hong Kong \n2.08.2022\, godz. 18.00 – Koncert uczestników festiwalu z USA\, Chin\, Japonii \, USA\, Tajwanu \n3.08.2022 godz. 18.00 – Koncert uczestników festiwalu z Polski\, Japonii\, USA\, Chin\, Hong Kongu\,  z towarzyszeniem Tarnowskiej Orkiestry Kameralnej\, dyr. Masahi Katayama (Japonia) \nSala Koncertowa ZSM im. I.J. Paderewskiego \n4.08.2022\, godz. 18.00 – Koncert uczestników festiwalu z Japonii\, USA\, Chin\, Tajwanu\, Hong Kongu  z towarzyszeniem Tarnowskiej Orkiestry Kameralnej\, dyr. Masahi Katayama (Japonia) \nSala Koncertowa ZSM im. I.J. Paderewskiego \n10.08.2022\, godz. 18.00 – Koncert uczestników festiwalu oraz zaproszonych Gości z Polski\, USA\, Chin \nWykładowcy: Krystian Tkaczewski (Polska/USA)\, Philippe Raskin (Belgia)\, Masahi Katayama (Japonia)\, Maria Murawska (Polska)\, Liao Mingfei (Hong Kong)\, Yi-Yang Chen (Tajwan) \nUczestnicy festiwalu: \nShuang Wu (Chiny)\, Szu-Chia Lin (Tajwan)\, Longcheng Ma (Chiny)\, Hanwen Yan (Chiny)\, Chen Yuen Chi (Hong Kong)\, Chow Giulietta Tsz Yau (Hong Kong)\, Li Yuzhi (Hong Kong)\, Cheung Tsz Long (Hong Kong)\, Wong Hui Yi (Hong Kong)\, Liu Sz Kai Neil (Hong Kong)\, Sheryl Luo (USA)\, Kevin Luo (USA)\, Ethan Lee (USA)\, Sophie Fu (USA)\, Sophia Popescu (USA)\, Liam Lech Furdyna (Polska)\, Ava Geng (USA)\, Hanwen Shi (Chiny)\, Nina Okada (Japonia)\, Olivia Zhu (USA)\, Ross Mosier (USA)\, Haruki Takeuchi (Japonia/USA)\, Julia Godlewska (Polska)\, Sofiia Kotiuk (Polska)\, Borys Komisarz (Polska)\, Antoni Przykłota (Polska)\, Xie Yijun (Chiny) \nNa wszystkie koncerty wstęp wolny. \n 
URL:https://kultura.tarnow.pl/wydarzenie/viii-miedzynarodowy-festiwal-ambasador-tarnowa-maestro-krystian-tkaczewski-i-jego-goscie/2024-07-28/
LOCATION:Sala Koncertowa Zespołu Szkół Muzycznych\, Lippóczy’ego 4\, Tarnów\, małopolskie\, 33-100\, Polska
CATEGORIES:festiwale
ATTACH;FMTTYPE=image/jpeg:https://kultura.tarnow.pl/wp-content/uploads/tajlandia3a-1-e1721027310669.jpg
GEO:50.0205582;20.9801972
X-APPLE-STRUCTURED-LOCATION;VALUE=URI;X-ADDRESS=Sala Koncertowa Zespołu Szkół Muzycznych Lippóczy’ego 4 Tarnów małopolskie 33-100 Polska;X-APPLE-RADIUS=500;X-TITLE=Lippóczy’ego 4:geo:20.9801972,50.0205582
END:VEVENT
BEGIN:VEVENT
DTSTART;TZID=Europe/Warsaw:20240728T190000
DTEND;TZID=Europe/Warsaw:20240728T220000
DTSTAMP:20260424T073451
CREATED:20240704T113731Z
LAST-MODIFIED:20240704T114124Z
UID:10018418-1722193200-1722204000@kultura.tarnow.pl
SUMMARY:Potańcówki na tarnowskim Rynku
DESCRIPTION:Tarnowski Rynek ponownie zamieni się w taneczny parkiet. \nKontynuując tradycję tanecznych spotkań na tarnowski Rynek wracają letnie potańcówki. Te wydarzenia z pewnością dostarczą niezapomnianych wrażeń. W lipcu i sierpniu każdy będzie miał okazję doświadczyć czterech niezwykłych wieczorów w rytmach muzyki tanecznej\, prowadzonych przez znanych i lubianych wodzirejów – Mariusza Niedziałkowskiego i Balmistrza Roberta Frudzińskiego. \nSpotkania odbędą się w niedzielne wieczory: 14 i 28 lipca oraz 11 i 25 sierpnia\, w godzinach od 19:00 do 22:00. Wstęp na wszystkie imprezy jest bezpłatny. Do wspólnej zabawy zaprasza Prezydent Tarnowa Jakub Kwaśny.
URL:https://kultura.tarnow.pl/wydarzenie/potancowki-na-tarnowskim-rynku/2024-07-28/
LOCATION:Rynek\, Tarnów\, małopolskie\, 33-100\, Polska
CATEGORIES:spotkania
GEO:50.0121011;20.9858407
END:VEVENT
END:VCALENDAR