BEGIN:VCALENDAR
VERSION:2.0
PRODID:-//kultura.tarnów - ECPv6.4.0.1//NONSGML v1.0//EN
CALSCALE:GREGORIAN
METHOD:PUBLISH
X-ORIGINAL-URL:https://kultura.tarnow.pl
X-WR-CALDESC:Wydarzenia dla
REFRESH-INTERVAL;VALUE=DURATION:PT1H
X-Robots-Tag:noindex
X-PUBLISHED-TTL:PT1H
BEGIN:VTIMEZONE
TZID:Europe/Warsaw
BEGIN:DAYLIGHT
TZOFFSETFROM:+0100
TZOFFSETTO:+0200
TZNAME:CEST
DTSTART:20240331T010000
END:DAYLIGHT
BEGIN:STANDARD
TZOFFSETFROM:+0200
TZOFFSETTO:+0100
TZNAME:CET
DTSTART:20241027T010000
END:STANDARD
END:VTIMEZONE
BEGIN:VEVENT
DTSTART;TZID=Europe/Warsaw:20240721T090000
DTEND;TZID=Europe/Warsaw:20240721T150000
DTSTAMP:20260423T120128
CREATED:20240715T064828Z
LAST-MODIFIED:20240715T064909Z
UID:10018439-1721552400-1721574000@kultura.tarnow.pl
SUMMARY:„Artefakty historyczne”
DESCRIPTION:Na wystawie zaprezentowane zostaną prace studentów Wydziału Sztuki Akademii Tarnowskiej\, powstałych podczas warsztatów realizowanych pod kierunkiem artysty i wykładowcy Romana Fleszara. Rysunki prezentować będą obiekty historyczne i detale muzealiów znajdujących się na wystawie stałej oddziału. \nWstęp na wernisaż bezpłatny. \nWystawa czynna: 6 lipca – 4 sierpnia 2024 roku. \nKuratorzy wystawy: Roman Fleszar\, Bożena Szczupak\, Łukasz Jewuła \nWspółorganizator: Wydział Sztuki Akademii Tarnowskiej. \nponiedziałek nieczynne\nwtorek 9.00 – 15.00\nśroda 9.00 – 15.00\nczwartek 9.00 – 15.00\npiątek 9.00 – 17.00\nsobota 10.00 – 15.00\nniedziela 10.00 – 15.00
URL:https://kultura.tarnow.pl/wydarzenie/artefakty-historyczne-2/2024-07-21/
LOCATION:Ratusz\, Rynek 1\, Tarnów\, małopolskie\, 33-100\, Polska
CATEGORIES:wystawy
ATTACH;FMTTYPE=image/jpeg:https://kultura.tarnow.pl/wp-content/uploads/Artefakty-zaproszenie-1.jpg
GEO:50.0124854;20.9877181
X-APPLE-STRUCTURED-LOCATION;VALUE=URI;X-ADDRESS=Ratusz Rynek 1 Tarnów małopolskie 33-100 Polska;X-APPLE-RADIUS=500;X-TITLE=Rynek 1:geo:20.9877181,50.0124854
END:VEVENT
BEGIN:VEVENT
DTSTART;TZID=Europe/Warsaw:20240721T110000
DTEND;TZID=Europe/Warsaw:20240721T180000
DTSTAMP:20260423T120128
CREATED:20240627T120551Z
LAST-MODIFIED:20240627T122904Z
UID:10018380-1721559600-1721584800@kultura.tarnow.pl
SUMMARY:"Otto Schier. Pracownia architektoniczna"
DESCRIPTION:Otto Schier zamieszkał w Tarnowie w 1959 roku\, zaraz po ukończeniu studiów na Wydziale Architektury Politechniki Krakowskiej. Przez 65 lat zrealizował w Tarnowie i okolicach około dwieście projektów architektonicznych i urbanistycznych. Wiele z nich zostało wykonanych w czynie społecznym\, jak na przykład muszla tarnowskiego Amfiteatru. \nWystawa ma na celu zaprezentować skalę różnorodnej i wytrwałej pracy architekta\, a także osadzić jego realizacje w historii architektury miasta\, Polski i świata. Wybrane zostały realizacje projektów użyteczności publicznej\, z których na co dzień wszyscy możemy korzystać i obok których przechodzimy. \nOtto Schier (ur. 12 lipca 1931 w Katowicach) – polski inżynier architekt. W 1954 roku ukończył z wyróżnieniem studia na Wydziale Architektury Politechniki Krakowskiej i otrzymał tytuł magistra inżyniera architektury. Od 1959 roku mieszka i pracuje w Tarnowie. Od 1968 roku pracownik Miejskiej Pracowni Urbanistycznej\, potem Wojewódzkiego Biura Planowania Przestrzennego i Małopolskiego Biura Planowania Przestrzennego. \n30.06-25.08.2024\nBWA Tarnów / Pałacyk Strzelecki\, ul. Słowackiego 1\nzespół kuratorski: Aleksandra Kubisztal\, Bartłomiej i Sonia Pochopień\noprawa graficzna: Natalia Sikorska\nfotografia na plakacie: Wiktor Lekston \nW programie wystawy:\nNiedziela\, 14.07\, g. 10:00 – Spacer śladami architektury Otto Schiera\, prowadzenie: Agnieszka Partridge\, zbiórka pod MCA/ul. Wałowa 25\, zakończenie spaceru na wystawie\nPoniedziałek-piątek\, 5-9.08\, g. 11:00-14:00 – Tarnów w plenerze – wakacyjny plener rysunkowy\, prowadzenie: Bartłomiej Pochopień\, obowiązują zapisy: edukacja@bwa.tarnow.pl\, koszt: 200 zł za 5 dni\nNiedziela\, 25.08\, g. 16:00 – Małe BWA na wystawie\, prowadzenie: Agata Dymańska\, Aleksandra Kubisztal\, obowiązują zapisy: edukacja@bwa.tarnow.pl\, koszt: 15 zł\nNiedziela\, 25.08\, g. 17:30 – ostatni spacer po wystawie\, prowadzenie: Bartłomiej Pochopień\, wstęp w cenie biletu na wystawę
URL:https://kultura.tarnow.pl/wydarzenie/otto-schier-pracownia-architektoniczna/2024-07-21/
LOCATION:Biuro Wystaw Artystycznych\, ul. Słowackiego 1\, Tarnów\, małopolskie\, 33-100\, Polska
CATEGORIES:wystawy
ATTACH;FMTTYPE=image/jpeg:https://kultura.tarnow.pl/wp-content/uploads/Otto-Schier.-Pracownia-architektoniczna_plakat-BWA-Tarnow-scaled.jpg
ORGANIZER;CN="Biuro Wystaw Artystycznych":MAILTO:biuro@bwa.tarnow.pl
GEO:50.0178761;20.9827521
X-APPLE-STRUCTURED-LOCATION;VALUE=URI;X-ADDRESS=Biuro Wystaw Artystycznych ul. Słowackiego 1 Tarnów małopolskie 33-100 Polska;X-APPLE-RADIUS=500;X-TITLE=ul. Słowackiego 1:geo:20.9827521,50.0178761
END:VEVENT
BEGIN:VEVENT
DTSTART;TZID=Europe/Warsaw:20240721T150000
DTEND;TZID=Europe/Warsaw:20240721T180000
DTSTAMP:20260423T120128
CREATED:20240708T080510Z
LAST-MODIFIED:20240708T080710Z
UID:10018423-1721574000-1721584800@kultura.tarnow.pl
SUMMARY:Kreatywny Tarnów
DESCRIPTION:Początkiem lipca wraca Kreatywny Tarnów dla dzieci. Na rynku będą czekać animatorzy\, którzy przygotowali dla najmłodszych zabawy z PoKlockami\, czyli dużymi piankowymi klockami. Pierwsze spotkanie już w najbliższą niedzielę. \nUbiegłoroczne PoKlocki cieszyły się niemałym zainteresowaniem\, także i w tym roku nie może ich zabraknąć. – Gwarantujemy twórczą zabawę\, zakręcone pomysły i pozytywne emocje – zachęca Biuro Promocji Urzędu Miasta Tarnowa\, organizator spotkania. \nOd 7 lipca\, przez cztery niedziele\, na tarnowskim rynku będą się odbywać trzygodzinne spotkania poświęcone dzieciom oraz zabawie. Każdorazowo wydarzenie będzie trwać od godziny 15 do 18. W sierpniu akcja przeniesie się na plac przed Multimedialnym Centrum Artystycznym (Wałowa 25) i przez kolejne cztery niedziele (począwszy od 4 sierpnia) to tam najmłodsi poświęcą się dobrej zabawie w towarzystwie piankowych klocków. \nSerdecznie zapraszamy najmłodszych oraz ich rodziców i opiekunów. \n(mt)
URL:https://kultura.tarnow.pl/wydarzenie/kreatywny-tarnow/2024-07-21/
LOCATION:Rynek\, Tarnów\, małopolskie\, 33-100\, Polska
CATEGORIES:spotkania
ATTACH;FMTTYPE=image/jpeg:https://kultura.tarnow.pl/wp-content/uploads/plakat-5-scaled.jpg
GEO:50.0121011;20.9858407
END:VEVENT
BEGIN:VEVENT
DTSTART;TZID=Europe/Warsaw:20240721T160000
DTEND;TZID=Europe/Warsaw:20240721T180000
DTSTAMP:20260423T120128
CREATED:20240604T095448Z
LAST-MODIFIED:20240620T105532Z
UID:10017258-1721577600-1721584800@kultura.tarnow.pl
SUMMARY:Koncerty Letnie w Sali Lustrzanej
DESCRIPTION:
URL:https://kultura.tarnow.pl/wydarzenie/koncerty-letnie-w-sali-lustrzanej/2024-07-21/
LOCATION:Sala Lustrzana\, Wałowa 10\, Tarnów\, małopolskie\, 33-100\, Polska
CATEGORIES:koncerty
ATTACH;FMTTYPE=image/jpeg:https://kultura.tarnow.pl/wp-content/uploads/KL-2024-A3.jpg
ORGANIZER;CN="Fundacja Kultury i Integracji 'INTER-ART'":MAILTO:fundacja@inter-art.com.pl
GEO:50.0133339;20.9861448
X-APPLE-STRUCTURED-LOCATION;VALUE=URI;X-ADDRESS=Sala Lustrzana Wałowa 10 Tarnów małopolskie 33-100 Polska;X-APPLE-RADIUS=500;X-TITLE=Wałowa 10:geo:20.9861448,50.0133339
END:VEVENT
END:VCALENDAR