BEGIN:VCALENDAR
VERSION:2.0
PRODID:-//kultura.tarnów - ECPv6.4.0.1//NONSGML v1.0//EN
CALSCALE:GREGORIAN
METHOD:PUBLISH
X-WR-CALNAME:kultura.tarnów
X-ORIGINAL-URL:https://kultura.tarnow.pl
X-WR-CALDESC:Wydarzenia dla
REFRESH-INTERVAL;VALUE=DURATION:PT1H
X-Robots-Tag:noindex
X-PUBLISHED-TTL:PT1H
BEGIN:VTIMEZONE
TZID:Europe/Warsaw
BEGIN:DAYLIGHT
TZOFFSETFROM:+0100
TZOFFSETTO:+0200
TZNAME:CEST
DTSTART:20240331T010000
END:DAYLIGHT
BEGIN:STANDARD
TZOFFSETFROM:+0200
TZOFFSETTO:+0100
TZNAME:CET
DTSTART:20241027T010000
END:STANDARD
END:VTIMEZONE
BEGIN:VEVENT
DTSTART;TZID=Europe/Warsaw:20240718T090000
DTEND;TZID=Europe/Warsaw:20240718T150000
DTSTAMP:20260423T115551
CREATED:20240605T081414Z
LAST-MODIFIED:20240605T081437Z
UID:10017220-1721293200-1721314800@kultura.tarnow.pl
SUMMARY:"Malarstwo\, rzeźba\, grafika. Z kolekcji Bogusława Kubisztala"
DESCRIPTION:Jest to kolejna wystawa z muzealnego cyklu „Tarnowscy Kolekcjonerzy”. \nWystawa prezentuje zbiory należące do Bogusława Kubisztala\, który od lat gromadzi przedmioty z różnych dziedzin sztuki. Jego zbiór\, obejmujący malarstwo\, rzeźbę i grafikę\, liczy obecnie 1000 obiektów i wciąż się powiększa. Prace\, które gromadzi wyróżniają się ciekawą formą\, bogatą kolorystyką i różnorodną tematyką. Kolekcjoner zwraca uwagę na warsztat twórców i wielką wrażliwość artystyczną. Jak sam mówi: „chciałby zarazić innych uwielbieniem do sztuki”. \nNa wystawie zaprezentowano obiekty z dziedziny malarstwa\, rzeźby i grafiki pochodzące z początku XX wieku do współczesności. Wśród nich znajdują się nazwiska z kanonu historii sztuki polskiej takie jak: Franciszek Starowieyski\, Wlastimil Hofman\, Wojciech Weiss\, Tadeusz Makowski\, Stanisław Szukalski\, a także współcześnie tworzący artyści: Piotr Jakubczak\, Tomasz Sętowski\, Monika Kwiecińska. W kolekcji znajdziemy również wyjątkowe przykłady grafik takich artystów jak: Pablo Picasso\, Salvador Dali czy Andy Warhol oraz miniaturową rzeźbę Igora Mitoraja. Właściciel kolekcji zdecydował się po raz pierwszy pokazać swoje zbiory w Muzeum Ziemi Tarnowskiej. \nWystawa realizowana w ramach projektu: „Muzea Domowe – ożywianie tożsamości w społecznościach lokalnych Małopolski” \nKuratorki wystawy: Anna Filar\, Manuela Stadnicka-Hoffman \nWystawa czynna od 18 czerwca do 26 lipca 2024 r.
URL:https://kultura.tarnow.pl/wydarzenie/malarstwo-rzezba-grafika-z-kolekcji-boguslawa-kubisztala-2/2024-07-18/
LOCATION:Siedziba Muzeum Ziemi Tarnowskiej\, Rynek 3\, Tarnów\, małopolskie\, 33-100
CATEGORIES:wystawy
ATTACH;FMTTYPE=image/jpeg:https://kultura.tarnow.pl/wp-content/uploads/IMG_5982-m.jpg
GEO:50.0122989;20.9877958
X-APPLE-STRUCTURED-LOCATION;VALUE=URI;X-ADDRESS=Siedziba Muzeum Ziemi Tarnowskiej Rynek 3 Tarnów małopolskie 33-100;X-APPLE-RADIUS=500;X-TITLE=Rynek 3:geo:20.9877958,50.0122989
END:VEVENT
BEGIN:VEVENT
DTSTART;TZID=Europe/Warsaw:20240718T090000
DTEND;TZID=Europe/Warsaw:20240718T150000
DTSTAMP:20260423T115551
CREATED:20240715T064828Z
LAST-MODIFIED:20240715T064909Z
UID:10018436-1721293200-1721314800@kultura.tarnow.pl
SUMMARY:„Artefakty historyczne”
DESCRIPTION:Na wystawie zaprezentowane zostaną prace studentów Wydziału Sztuki Akademii Tarnowskiej\, powstałych podczas warsztatów realizowanych pod kierunkiem artysty i wykładowcy Romana Fleszara. Rysunki prezentować będą obiekty historyczne i detale muzealiów znajdujących się na wystawie stałej oddziału. \nWstęp na wernisaż bezpłatny. \nWystawa czynna: 6 lipca – 4 sierpnia 2024 roku. \nKuratorzy wystawy: Roman Fleszar\, Bożena Szczupak\, Łukasz Jewuła \nWspółorganizator: Wydział Sztuki Akademii Tarnowskiej. \nponiedziałek nieczynne\nwtorek 9.00 – 15.00\nśroda 9.00 – 15.00\nczwartek 9.00 – 15.00\npiątek 9.00 – 17.00\nsobota 10.00 – 15.00\nniedziela 10.00 – 15.00
URL:https://kultura.tarnow.pl/wydarzenie/artefakty-historyczne-2/2024-07-18/
LOCATION:Ratusz\, Rynek 1\, Tarnów\, małopolskie\, 33-100\, Polska
CATEGORIES:wystawy
ATTACH;FMTTYPE=image/jpeg:https://kultura.tarnow.pl/wp-content/uploads/Artefakty-zaproszenie-1.jpg
GEO:50.0124854;20.9877181
X-APPLE-STRUCTURED-LOCATION;VALUE=URI;X-ADDRESS=Ratusz Rynek 1 Tarnów małopolskie 33-100 Polska;X-APPLE-RADIUS=500;X-TITLE=Rynek 1:geo:20.9877181,50.0124854
END:VEVENT
BEGIN:VEVENT
DTSTART;TZID=Europe/Warsaw:20240718T100000
DTEND;TZID=Europe/Warsaw:20240718T130000
DTSTAMP:20260423T115551
CREATED:20240626T075805Z
LAST-MODIFIED:20240626T075805Z
UID:10018353-1721296800-1721307600@kultura.tarnow.pl
SUMMARY:Wakacje z otwARTą Pracownią Sztuk Wizualnych
DESCRIPTION:Rozwijaj swoje umiejętności rysunkowe i malarskie\, zaprojektuj własny zielnik\, stwórz animację poklatkową i odkryj pojęcia związane ze sztuką – wakacyjne warsztaty dla dzieci\, młodzieży i dorosłych. \n– otwARTa klasycznie – kurs rysunku i malarstwa | 8-12 lipca 2024 r. \n– otwARTa naturalnie – warsztaty robienia zielników | 15-19 lipca  2024 r. \n– otwARTa animacja – warsztaty z animacji poklatkowej | 5-9 sierpnia 2024 r. \n– otwARTa jeszcze bardziej – bezpłatne warsztaty dla małych pasjonatów sztuki\n(piątki) 05  lipca\, 26 lipca\, 02 sierpnia\, 23 sierpnia 2024 r.\, godz. 12.00-13.00 \nZapisy od 17 czerwca! \notwARTa klasycznie – kurs rysunku i malarstwa  \nTermin: 8-12 lipca 2024 r.\, godz. 10.00-13.00 \nGrupa wiekowa: 12+   \nProwadzenie: dr sztuki Anna Śliwińska  \nOpłata: 250 zł (za 5 dni zajęć po 3 godziny) \nOtwARTa klasycznie to warsztaty dla osób\, które chcą rozwijać swoje umiejętności rysunkowe i malarskie. Bez względu na pogodę\, znajdziemy idealne miejsce do twórczej pracy – od malowniczych uliczek Tarnowa po inspirujące wnętrza i martwą naturę w naszej pracowni. Zajęcia będą składać się z części teoretycznej – wprowadzenie do zagadnień i technik rysunkowych oraz malarskich\, oraz części praktycznej – warsztatowej\, obejmującej klasyczne techniki malarstwa tj. akwarela\, gwasz\, tempera\, akryl i olej oraz różnorodne techniki rysunkowe i eksperymenty w tym zakresie. \nPodczas pleneru uczestnicy poznają bogatą historię i kulturę Tarnowa. Odwiedzimy najważniejsze zabytki i muzea\, takie jak Muzeum Diecezjalne\, Katedra\, Muzeum Ziemi Tarnowskiej oraz Muzeum Etnograficzne. \notwARTa naturalnie – warsztaty robienia zielników  \nTermin: 15-19 lipca 2024 r.\, godz. 10.00-13.00 \nGrupa wiekowa: 10+   \nProwadzenie: dr sztuki Anna Śliwińska  \nOpłata: 250 zł (za 5 dni zajęć po 3 godziny) \nWarsztaty dla osób kreatywnych\, które poprzez połączenie sztuki i natury chcą poznać nowe techniki. Na zajęciach uczestnicy zaprojektują i stworzą niepowtarzalne i ekologiczne zielniki. Warsztaty obejmują następujące zagadnienia: zapoznanie się z gatunkami oraz rodzajami roślin\, proces czerpania papieru oraz samodzielne tworzenie kartek\, wykonanie okładek oraz stworzenie notesu. \notwARTa animacja – warsztaty z animacji poklatkowej \nTermin: 5-9 sierpnia 2024 r.\, godz. 10.00-13.00 \nGrupa wiekowa: 10+   \nProwadzenie: Katarzyna Małek  \nOpłata: 250 zł (za 5 dni zajęć po 3 godziny) \nWarsztaty dla osób\, które chcą poznać tajniki tworzenia animacji poklatkowej. Na warsztatach uczestnicy dowiedzą się jak przygotować\, zaprojektować i stworzyć krótką etiudę filmową. Zajęcia obejmują następujące zagadnienia: tworzenie scenariusza i storyboardu\, przygotowanie scenografii: budowa tła i elementów\, które pojawią się na filmie\, łączenie klatek w spójną całość\, stworzenie krótkiej animacji poklatkowej. \notwARTa jeszcze bardziej – bezpłatne warsztaty dla małych pasjonatów sztuki  \n Terminy: (piątki) 05  lipca\, 26 lipca\, 02 sierpnia\, 23 sierpnia 2024 r.\, godz. 12.00-13.00 \nGrupa wiekowa: 4-10 lat   \nProwadzenie: Angelika Radoń  \nOpłata: bezpłatne\n \nPracownia Sztuk Wizulanych staje się otwARTa jeszcze bardziej. W wybrane wakacyjne piątki zapraszamy na zajęcia w nowej\, innowacyjnej dla pracowni formule – bezpłatne\, godzinne zajęcia dla odbiorców indywidualnych (dzieci w wieku 4-10 lat). \nWarsztaty plastyczne wprowadzają najmłodszych w świat sztuki i technik artystycznych. Na zajęciach będziemy poznawać jedno pojęcie związane ze sztuką\, kreatywnie interpretować je i poszukiwać jego znaczeń. Uczestnicy warsztatów stworzą także własne prace plastyczne nawiązujące do omawianego tematu. \nHarmonogram zajęć:  \n05 lipca\, godz. 12.00 – Portret  \n26 lipca\, godz. 12.00 – Architektura  \n02 sierpnia\, godz. 12.00 – Pejzaż  \n23 sierpnia\, godz. 12.00 – Kolor \n 
URL:https://kultura.tarnow.pl/wydarzenie/wakacje-z-otwarta-pracownia-sztuk-wizualnych-2/2024-07-18/
LOCATION:Tarnowskie Centrum Kultury\, Rynek 5\, Tarnów\, małopolskie\, 33-100\, Polska
CATEGORIES:warsztaty
ATTACH;FMTTYPE=image/png:https://kultura.tarnow.pl/wp-content/uploads/240612_TCK_otwARTa_wakacje_SM_4_fb_profile_cover-1.png
GEO:50.012155;20.9878542
X-APPLE-STRUCTURED-LOCATION;VALUE=URI;X-ADDRESS=Tarnowskie Centrum Kultury Rynek 5 Tarnów małopolskie 33-100 Polska;X-APPLE-RADIUS=500;X-TITLE=Rynek 5:geo:20.9878542,50.012155
END:VEVENT
BEGIN:VEVENT
DTSTART;TZID=Europe/Warsaw:20240718T110000
DTEND;TZID=Europe/Warsaw:20240718T180000
DTSTAMP:20260423T115551
CREATED:20240627T120551Z
LAST-MODIFIED:20240627T122904Z
UID:10018378-1721300400-1721325600@kultura.tarnow.pl
SUMMARY:"Otto Schier. Pracownia architektoniczna"
DESCRIPTION:Otto Schier zamieszkał w Tarnowie w 1959 roku\, zaraz po ukończeniu studiów na Wydziale Architektury Politechniki Krakowskiej. Przez 65 lat zrealizował w Tarnowie i okolicach około dwieście projektów architektonicznych i urbanistycznych. Wiele z nich zostało wykonanych w czynie społecznym\, jak na przykład muszla tarnowskiego Amfiteatru. \nWystawa ma na celu zaprezentować skalę różnorodnej i wytrwałej pracy architekta\, a także osadzić jego realizacje w historii architektury miasta\, Polski i świata. Wybrane zostały realizacje projektów użyteczności publicznej\, z których na co dzień wszyscy możemy korzystać i obok których przechodzimy. \nOtto Schier (ur. 12 lipca 1931 w Katowicach) – polski inżynier architekt. W 1954 roku ukończył z wyróżnieniem studia na Wydziale Architektury Politechniki Krakowskiej i otrzymał tytuł magistra inżyniera architektury. Od 1959 roku mieszka i pracuje w Tarnowie. Od 1968 roku pracownik Miejskiej Pracowni Urbanistycznej\, potem Wojewódzkiego Biura Planowania Przestrzennego i Małopolskiego Biura Planowania Przestrzennego. \n30.06-25.08.2024\nBWA Tarnów / Pałacyk Strzelecki\, ul. Słowackiego 1\nzespół kuratorski: Aleksandra Kubisztal\, Bartłomiej i Sonia Pochopień\noprawa graficzna: Natalia Sikorska\nfotografia na plakacie: Wiktor Lekston \nW programie wystawy:\nNiedziela\, 14.07\, g. 10:00 – Spacer śladami architektury Otto Schiera\, prowadzenie: Agnieszka Partridge\, zbiórka pod MCA/ul. Wałowa 25\, zakończenie spaceru na wystawie\nPoniedziałek-piątek\, 5-9.08\, g. 11:00-14:00 – Tarnów w plenerze – wakacyjny plener rysunkowy\, prowadzenie: Bartłomiej Pochopień\, obowiązują zapisy: edukacja@bwa.tarnow.pl\, koszt: 200 zł za 5 dni\nNiedziela\, 25.08\, g. 16:00 – Małe BWA na wystawie\, prowadzenie: Agata Dymańska\, Aleksandra Kubisztal\, obowiązują zapisy: edukacja@bwa.tarnow.pl\, koszt: 15 zł\nNiedziela\, 25.08\, g. 17:30 – ostatni spacer po wystawie\, prowadzenie: Bartłomiej Pochopień\, wstęp w cenie biletu na wystawę
URL:https://kultura.tarnow.pl/wydarzenie/otto-schier-pracownia-architektoniczna/2024-07-18/
LOCATION:Biuro Wystaw Artystycznych\, ul. Słowackiego 1\, Tarnów\, małopolskie\, 33-100\, Polska
CATEGORIES:wystawy
ATTACH;FMTTYPE=image/jpeg:https://kultura.tarnow.pl/wp-content/uploads/Otto-Schier.-Pracownia-architektoniczna_plakat-BWA-Tarnow-scaled.jpg
ORGANIZER;CN="Biuro Wystaw Artystycznych":MAILTO:biuro@bwa.tarnow.pl
GEO:50.0178761;20.9827521
X-APPLE-STRUCTURED-LOCATION;VALUE=URI;X-ADDRESS=Biuro Wystaw Artystycznych ul. Słowackiego 1 Tarnów małopolskie 33-100 Polska;X-APPLE-RADIUS=500;X-TITLE=ul. Słowackiego 1:geo:20.9827521,50.0178761
END:VEVENT
BEGIN:VEVENT
DTSTART;TZID=Europe/Warsaw:20240718T200000
DTEND;TZID=Europe/Warsaw:20240718T220000
DTSTAMP:20260423T115551
CREATED:20240603T131250Z
LAST-MODIFIED:20240603T131330Z
UID:10017130-1721332800-1721340000@kultura.tarnow.pl
SUMMARY:Letni Festiwal Muzyczne Tarasy 2024
DESCRIPTION:4\, 11\, 18\, 28 lipca 2024 \nPiosenki Anny Jantar\, Zbigniewa Wodeckiego\, Marka Grechuty\, Andrzeja Zauchy\, Czerwonych Gitar\, Perfectu i wielu innych znamienitych artystów polskiej sceny muzycznej zabrzmią podczas tegorocznych Muzycznych Tarasów. We wszystkie czwartki lipca przywołamy melodie\, które znamy\, kochamy i… chętnie nucimy. \n4 lipca 2024\, godz. 20.00 \nMusic Way – „Słoneczna Anna Jantar” \nRecital z udziałem Katarzyny Radwańskiej przypomni piosenki jednej z najwybitniejszych gwiazd polskiej sceny muzycznej – Anny Jantar. Jej piosenki ze względu na ogromną popularność doczekały się wielu interpretacji. Bursztynowa Dziewczyna podbiła serca Polaków zarówno swoją osobowością jak i pięknym\, czystym i mocnym głosem. Podczas Muzycznych Tarasów usłyszymy między innymi „Najtrudniejszy pierwszy krok”\, „Tyle słońca w całym mieście”\, „Tylko mnie poproś do tańca”\, „Za każdy uśmiech twój” czy „Za wszystkie noce”. \n11 lipca 2024\, godz. 20.00 \nGrzeczni Chłopcy – „Prywatka w stylu Bigbitu” \nNa drugi festiwalowy koncert tym razem w retro-aranżacjach zapraszają Grzeczni Chłopcy czyli nieokiełznani przodownicy dobrego humoru i pogody ducha. Zespół tworzy pięciu muzyków: gitarzysta Grzegorz Duszak\, pianista Piotr Iwański\, flecista Łukasz Jankowski\, perkusista Radosław Mysłek i kontrabasista Michał Mościcki. Specjaliści od retro-potańcówek podczas których wykonują polskie utwory zaaranżowane w stylu retro w tym: swing\, rock’n’roll\, dixie i tango. Nie czekaj! Przyjdź i tańcz razem z Grzecznymi Chłopcami. \n18 lipca 2024\, godz. 20.00 \nSugarfree – „Barwne lata 80” \nNiezapomniana muzyczna podróż z utworami Krystyny Prońko\, Andrzeja Zauchy\, Budki Suflera czy Maanamu. Artystów\, których muzyka przeniesie nas w barwny czas lat 80. Zaśpiewają: Zuza Pycia – aktorka Scen Muzycznych\, która przez wiele lat pracowała\nw  Gliwickim Teatrze Muzycznym. Ma na koncie role w musicalach oraz projekty solowe oraz Krzysztof Płonka – wokalista\, muzyk obdarzony soulowym głosem. Uczestnik the Voice of Poland oraz Must be the Music. \n25 lipca 2024\, godz. 20.00 \nGosia Markowska Band – „Projekt Osiecka/ Grechuta” \nFinałowy koncert będzie okazją do posłuchania piosenek autorstwa Marka Grechuty i Agnieszki Osieckiej\, jednej z najwybitniejszych poetek minionego stulecia\, która dla wielu współczesnych artystów pozostaje niewyczerpalnym źródłem natchnienia. Szczere\, romantyczne\, pełne prawd życiowych teksty Osieckiej zainspirowały tym razem muzyków zespołu Gosia Markowska Band do oryginalnego spojrzenia na jej twórczość. W nowych aranżacjach\, nowoczesnych brzmieniach usłyszymy między innymi „Gadu gadu”\, „Wariatka tańczy” czy „Zielono mi”. \nSROKA PRZEMYSLAW_TEL:793 333 601
URL:https://kultura.tarnow.pl/wydarzenie/letni-festiwal-muzyczne-tarasy-2024/2024-07-18/
LOCATION:Centrum Sztuki Mościce\, Traugutta 1\, Tarnów\, małopolskie\, 33-101\, Polska
CATEGORIES:festiwale
GEO:50.009833;20.92706
X-APPLE-STRUCTURED-LOCATION;VALUE=URI;X-ADDRESS=Centrum Sztuki Mościce Traugutta 1 Tarnów małopolskie 33-101 Polska;X-APPLE-RADIUS=500;X-TITLE=Traugutta 1:geo:20.92706,50.009833
END:VEVENT
END:VCALENDAR