BEGIN:VCALENDAR
VERSION:2.0
PRODID:-//kultura.tarnów - ECPv6.4.0.1//NONSGML v1.0//EN
CALSCALE:GREGORIAN
METHOD:PUBLISH
X-ORIGINAL-URL:https://kultura.tarnow.pl
X-WR-CALDESC:Wydarzenia dla
REFRESH-INTERVAL;VALUE=DURATION:PT1H
X-Robots-Tag:noindex
X-PUBLISHED-TTL:PT1H
BEGIN:VTIMEZONE
TZID:Europe/Warsaw
BEGIN:DAYLIGHT
TZOFFSETFROM:+0100
TZOFFSETTO:+0200
TZNAME:CEST
DTSTART:20240331T010000
END:DAYLIGHT
BEGIN:STANDARD
TZOFFSETFROM:+0200
TZOFFSETTO:+0100
TZNAME:CET
DTSTART:20241027T010000
END:STANDARD
END:VTIMEZONE
BEGIN:VEVENT
DTSTART;TZID=Europe/Warsaw:20240708T100000
DTEND;TZID=Europe/Warsaw:20240708T113000
DTSTAMP:20260423T133838
CREATED:20240627T121226Z
LAST-MODIFIED:20240627T121617Z
UID:10018406-1720432800-1720438200@kultura.tarnow.pl
SUMMARY:Lato w BWA
DESCRIPTION:Wakacyjne warsztaty dla dzieci \nNiech (o)żyje abstrakcja! \nUważamy\, że lato i wakacje to doskonały czas na najbardziej abstrakcyjne realizacje! W tym roku stawiamy na kolor (przypominamy\, że czarny i biały to też kolory) zrobimy prace bez sensu i doniczkę. Wykleimy i zakleimy\, zrobimy obraz z nitki – ale bez igły\, użyjemy siatki\, ale nie po to oby odgrodzić się od sąsiada (chyba\, że ktoś będzie chciał)! A to wszystko\, jak zawsze w duchu ekologii! Skorzystamy z materiałów naturalnych i tych z drugiego obiegu! \nTerminy do wyboru: \n8-12.07.2024 / od poniedziałku do piątku \n19.08-23.08.2024/ od poniedziałku do piątku  \ngodz. 10:00-11:30\nwiek uczestników: 6-12 lat\nPałacyk Strzelecki\, ul. Słowackiego 1\nopłata: 100 zł za 5 dni zajęć / uczestnik / płatne z góry przelewem \nMateriały zapewnia organizator.\nLiczba miejsc ograniczona. Obowiązują zapisy: edukacja@bwa.tarnow.pl\, 606 146 520.
URL:https://kultura.tarnow.pl/wydarzenie/lato-w-bwa/2024-07-08/
LOCATION:Biuro Wystaw Artystycznych\, ul. Słowackiego 1\, Tarnów\, małopolskie\, 33-100\, Polska
CATEGORIES:warsztaty
ORGANIZER;CN="Biuro Wystaw Artystycznych":MAILTO:biuro@bwa.tarnow.pl
GEO:50.0178761;20.9827521
X-APPLE-STRUCTURED-LOCATION;VALUE=URI;X-ADDRESS=Biuro Wystaw Artystycznych ul. Słowackiego 1 Tarnów małopolskie 33-100 Polska;X-APPLE-RADIUS=500;X-TITLE=ul. Słowackiego 1:geo:20.9827521,50.0178761
END:VEVENT
BEGIN:VEVENT
DTSTART;TZID=Europe/Warsaw:20240708T100000
DTEND;TZID=Europe/Warsaw:20240708T130000
DTSTAMP:20260423T133838
CREATED:20240626T075805Z
LAST-MODIFIED:20240626T075805Z
UID:10018345-1720432800-1720443600@kultura.tarnow.pl
SUMMARY:Wakacje z otwARTą Pracownią Sztuk Wizualnych
DESCRIPTION:Rozwijaj swoje umiejętności rysunkowe i malarskie\, zaprojektuj własny zielnik\, stwórz animację poklatkową i odkryj pojęcia związane ze sztuką – wakacyjne warsztaty dla dzieci\, młodzieży i dorosłych. \n– otwARTa klasycznie – kurs rysunku i malarstwa | 8-12 lipca 2024 r. \n– otwARTa naturalnie – warsztaty robienia zielników | 15-19 lipca  2024 r. \n– otwARTa animacja – warsztaty z animacji poklatkowej | 5-9 sierpnia 2024 r. \n– otwARTa jeszcze bardziej – bezpłatne warsztaty dla małych pasjonatów sztuki\n(piątki) 05  lipca\, 26 lipca\, 02 sierpnia\, 23 sierpnia 2024 r.\, godz. 12.00-13.00 \nZapisy od 17 czerwca! \notwARTa klasycznie – kurs rysunku i malarstwa  \nTermin: 8-12 lipca 2024 r.\, godz. 10.00-13.00 \nGrupa wiekowa: 12+   \nProwadzenie: dr sztuki Anna Śliwińska  \nOpłata: 250 zł (za 5 dni zajęć po 3 godziny) \nOtwARTa klasycznie to warsztaty dla osób\, które chcą rozwijać swoje umiejętności rysunkowe i malarskie. Bez względu na pogodę\, znajdziemy idealne miejsce do twórczej pracy – od malowniczych uliczek Tarnowa po inspirujące wnętrza i martwą naturę w naszej pracowni. Zajęcia będą składać się z części teoretycznej – wprowadzenie do zagadnień i technik rysunkowych oraz malarskich\, oraz części praktycznej – warsztatowej\, obejmującej klasyczne techniki malarstwa tj. akwarela\, gwasz\, tempera\, akryl i olej oraz różnorodne techniki rysunkowe i eksperymenty w tym zakresie. \nPodczas pleneru uczestnicy poznają bogatą historię i kulturę Tarnowa. Odwiedzimy najważniejsze zabytki i muzea\, takie jak Muzeum Diecezjalne\, Katedra\, Muzeum Ziemi Tarnowskiej oraz Muzeum Etnograficzne. \notwARTa naturalnie – warsztaty robienia zielników  \nTermin: 15-19 lipca 2024 r.\, godz. 10.00-13.00 \nGrupa wiekowa: 10+   \nProwadzenie: dr sztuki Anna Śliwińska  \nOpłata: 250 zł (za 5 dni zajęć po 3 godziny) \nWarsztaty dla osób kreatywnych\, które poprzez połączenie sztuki i natury chcą poznać nowe techniki. Na zajęciach uczestnicy zaprojektują i stworzą niepowtarzalne i ekologiczne zielniki. Warsztaty obejmują następujące zagadnienia: zapoznanie się z gatunkami oraz rodzajami roślin\, proces czerpania papieru oraz samodzielne tworzenie kartek\, wykonanie okładek oraz stworzenie notesu. \notwARTa animacja – warsztaty z animacji poklatkowej \nTermin: 5-9 sierpnia 2024 r.\, godz. 10.00-13.00 \nGrupa wiekowa: 10+   \nProwadzenie: Katarzyna Małek  \nOpłata: 250 zł (za 5 dni zajęć po 3 godziny) \nWarsztaty dla osób\, które chcą poznać tajniki tworzenia animacji poklatkowej. Na warsztatach uczestnicy dowiedzą się jak przygotować\, zaprojektować i stworzyć krótką etiudę filmową. Zajęcia obejmują następujące zagadnienia: tworzenie scenariusza i storyboardu\, przygotowanie scenografii: budowa tła i elementów\, które pojawią się na filmie\, łączenie klatek w spójną całość\, stworzenie krótkiej animacji poklatkowej. \notwARTa jeszcze bardziej – bezpłatne warsztaty dla małych pasjonatów sztuki  \n Terminy: (piątki) 05  lipca\, 26 lipca\, 02 sierpnia\, 23 sierpnia 2024 r.\, godz. 12.00-13.00 \nGrupa wiekowa: 4-10 lat   \nProwadzenie: Angelika Radoń  \nOpłata: bezpłatne\n \nPracownia Sztuk Wizulanych staje się otwARTa jeszcze bardziej. W wybrane wakacyjne piątki zapraszamy na zajęcia w nowej\, innowacyjnej dla pracowni formule – bezpłatne\, godzinne zajęcia dla odbiorców indywidualnych (dzieci w wieku 4-10 lat). \nWarsztaty plastyczne wprowadzają najmłodszych w świat sztuki i technik artystycznych. Na zajęciach będziemy poznawać jedno pojęcie związane ze sztuką\, kreatywnie interpretować je i poszukiwać jego znaczeń. Uczestnicy warsztatów stworzą także własne prace plastyczne nawiązujące do omawianego tematu. \nHarmonogram zajęć:  \n05 lipca\, godz. 12.00 – Portret  \n26 lipca\, godz. 12.00 – Architektura  \n02 sierpnia\, godz. 12.00 – Pejzaż  \n23 sierpnia\, godz. 12.00 – Kolor \n 
URL:https://kultura.tarnow.pl/wydarzenie/wakacje-z-otwarta-pracownia-sztuk-wizualnych-2/2024-07-08/
LOCATION:Tarnowskie Centrum Kultury\, Rynek 5\, Tarnów\, małopolskie\, 33-100\, Polska
CATEGORIES:warsztaty
ATTACH;FMTTYPE=image/png:https://kultura.tarnow.pl/wp-content/uploads/240612_TCK_otwARTa_wakacje_SM_4_fb_profile_cover-1.png
GEO:50.012155;20.9878542
X-APPLE-STRUCTURED-LOCATION;VALUE=URI;X-ADDRESS=Tarnowskie Centrum Kultury Rynek 5 Tarnów małopolskie 33-100 Polska;X-APPLE-RADIUS=500;X-TITLE=Rynek 5:geo:20.9878542,50.012155
END:VEVENT
END:VCALENDAR