BEGIN:VCALENDAR
VERSION:2.0
PRODID:-//kultura.tarnów - ECPv6.4.0.1//NONSGML v1.0//EN
CALSCALE:GREGORIAN
METHOD:PUBLISH
X-WR-CALNAME:kultura.tarnów
X-ORIGINAL-URL:https://kultura.tarnow.pl
X-WR-CALDESC:Wydarzenia dla
REFRESH-INTERVAL;VALUE=DURATION:PT1H
X-Robots-Tag:noindex
X-PUBLISHED-TTL:PT1H
BEGIN:VTIMEZONE
TZID:Europe/Warsaw
BEGIN:DAYLIGHT
TZOFFSETFROM:+0100
TZOFFSETTO:+0200
TZNAME:CEST
DTSTART:20240331T010000
END:DAYLIGHT
BEGIN:STANDARD
TZOFFSETFROM:+0200
TZOFFSETTO:+0100
TZNAME:CET
DTSTART:20241027T010000
END:STANDARD
END:VTIMEZONE
BEGIN:VEVENT
DTSTART;TZID=Europe/Warsaw:20240701T170000
DTEND;TZID=Europe/Warsaw:20240701T190000
DTSTAMP:20260423T041846
CREATED:20240606T070231Z
LAST-MODIFIED:20240606T070231Z
UID:10017231-1719853200-1719860400@kultura.tarnow.pl
SUMMARY:Tarnowskie Lato Fletowe
DESCRIPTION:Tarnowskie Lato Fletowe to tygodniowe kursy dedykowane studentom\, absolwentom\, a także uczniom szkół muzycznych II stopnia\, które odbędą się 29.06 – 06.07.2024 w Tarnowie. \nTo tydzień pełen koncertów\, zajęć indywidualnych\, zespołów kameralnych\, gry na flecie piccolo\, studiów orkiestrowych\, zajęć z pianistą\, fizjoterapeutą\, z self-managementu oraz instrumentów etnicznych. \nWspaniali pedagodzy z wielu znamienitych polskich\, francuskich\, niemieckich\, skandynawskich\, a nawet meksykańskich ośrodków fletowych będą autorytetami\, dzięki którym uczestnicy zgłębią tajniki wykonawstwa gry na flecie i zdobędą motywację do dalszego rozwoju. \nAtmosfera wzajemnej motywacji do pracy i wspólnie spędzanego czasu wolnego będzie sprzyjać nawiązywaniu nowych przyjaźni na długie lata.
URL:https://kultura.tarnow.pl/wydarzenie/tarnowskie-lato-fletowe/2024-07-01/
LOCATION:Sala Koncertowa Zespołu Szkół Muzycznych\, Lippóczy’ego 4\, Tarnów\, małopolskie\, 33-100\, Polska
CATEGORIES:koncerty
ATTACH;FMTTYPE=image/png:https://kultura.tarnow.pl/wp-content/uploads/IMG-6142.png
GEO:50.0205582;20.9801972
X-APPLE-STRUCTURED-LOCATION;VALUE=URI;X-ADDRESS=Sala Koncertowa Zespołu Szkół Muzycznych Lippóczy’ego 4 Tarnów małopolskie 33-100 Polska;X-APPLE-RADIUS=500;X-TITLE=Lippóczy’ego 4:geo:20.9801972,50.0205582
END:VEVENT
END:VCALENDAR