BEGIN:VCALENDAR
VERSION:2.0
PRODID:-//kultura.tarnów - ECPv6.4.0.1//NONSGML v1.0//EN
CALSCALE:GREGORIAN
METHOD:PUBLISH
X-ORIGINAL-URL:https://kultura.tarnow.pl
X-WR-CALDESC:Wydarzenia dla
REFRESH-INTERVAL;VALUE=DURATION:PT1H
X-Robots-Tag:noindex
X-PUBLISHED-TTL:PT1H
BEGIN:VTIMEZONE
TZID:Europe/Warsaw
BEGIN:DAYLIGHT
TZOFFSETFROM:+0100
TZOFFSETTO:+0200
TZNAME:CEST
DTSTART:20240331T010000
END:DAYLIGHT
BEGIN:STANDARD
TZOFFSETFROM:+0200
TZOFFSETTO:+0100
TZNAME:CET
DTSTART:20241027T010000
END:STANDARD
END:VTIMEZONE
BEGIN:VEVENT
DTSTART;TZID=Europe/Warsaw:20240630T080000
DTEND;TZID=Europe/Warsaw:20240630T220000
DTSTAMP:20260423T045411
CREATED:20240529T061254Z
LAST-MODIFIED:20240618T095343Z
UID:10017580-1719734400-1719784800@kultura.tarnow.pl
SUMMARY:Święto Miasta Tarnowa
DESCRIPTION:Czwartek\, 27 czerwca – Prolog \n17.00: Spotkanie autorskie z Czesławem Markiewiczem i promocja książki „Przeklęta Europa” – czytelnia MBP ul. Krakowska 4 \n18.00: Oxfordzki czwartek – debata „Miasta potrzebują kultury” – Amfiteatr Letni (w razie niepogody Sala Lustrzana) \n21.00: Koncert pod Bimą – Kantor Israel Rand (Izrael)\, w ramach Galicjaner Sztetl \nPiątek\, 28 czerwca \n9.30 – 11.30 oraz 15.00 – 17.00: Zwiedzanie Katedry \n10.30 i 12.00: Zwiedzanie Tarnowa enomeleksem (start TCI – Rynek) \n18.00: Wernisaż wystawy polsko-włoskiej „Szeptem kilka słów” inspirowanej twórczością Wisławy Szymborskiej\, z udziałem tarnowskich artystek: Aleksandry Zuby-Benn\, Anny Śliwińskiej\, Jolanty Więcław – MCA\, ul.Wałowa 25 oraz Galeria ARTEKA\, ul. Wałowa 16 \n19.00: Gala Nagród Miasta Tarnowa. Wystąpią: Oliwia Miś oraz zespół „Dzień Dobry” (Młynarski – Osiecka – Grechuta) – Amfiteatr Letni \n19.30: Czytanie performatywne „Zapolska Superstar” – Tarnowski Teatr\, bilety: 22 zł \nSobota\, 29 czerwca \n9.30 – 11.30: Zwiedzanie Katedry \n10.00: Piknik rodzinny „Bezpieczna Autostrada” – Młodzi bohaterowie bezpieczeństwa. Nauka udzielania pierwszej pomocy\, symulatory dachowania i zderzeń\, badania profilaktyczne\, strefa relaksu\, animacje i zabawy dla dzieci\, edukacja\, upominki\, nagrody – Rynek \n10.00: Turniej szachowy – Amfiteatr Letni \n10:00: Thai Chi na trawie – BWA\, Park Strzelecki\, (w razie niepogody odwołane) \n11.00: Krzysztof Moskal oprowadza po zamku na Górze św. Marcina (zbiórka obok tężni) \n12.00: Spacer z przewodnikiem (start TCI – Rynek) \n13.00: Intronizacja Króla Kurkowego – Zakątek Spycimira Leliwity przy MCA\, Wałowa 25 \n17.00: Scena iluzji – wystąpią: \nKrystian Bączyński – wyczaruje uśmiech na twarzach wszystkich dzieci\nKonrad Mościński – zaprezentuje widowiskowe  przedstawienie w komediowym i interaktywnym wydaniu\nMichał Skubida – tegoroczny finalista programu Mam Talent\, zawodowy iluzjonista\, zaskakujący performer oraz komik – Zaułek Króla W. Łokietka (w razie niepogody Sala Lustrzana) \n18.00: Klasyka w Parku\, koncert  SunDay Quartet – Ogród sensoryczny – Park Strzelecki (w razie niepogody Centrum Dialogu\, ul. Gumniska 30) \n18.00: Czytanie performatywne „Słodki zapach cynamonu” – Tarnowski Teatr \n19.00: DJ Celownik – MCA\, ul. Wałowa 25 \n20:00: Silent disco z udziałem 3 DJ’ów – MCA\, ul. Wałowa 25 \n20.00: Koncert: YASNO\, Meek Oh Why – Amfiteatr Letni \n20.00: Czytanie performatywne „Noc Wittgensteina” – Tarnowski Teatr\, bilety: 22 zł \nNiedziela\, 30 czerwca \n9.00 – 13.00: Bazar na Starówce – Burek \n10.00: „Świętuj z nami! Biegnij z PSONI w DobroDzień’24” – Park Strzelecki \n10.00: Joga na trawie – BWA\, Park Strzelecki (w razie niepogody odwołane) \n12.00: Spacer z przewodnikiem (start TCI – Rynek) \n14.00: DobroDzień’24 czyli dzień integracji osób pełnosprawnych z osobami z niepełnosprawnością\, prezentacje działalności organizacji    pozarządowych\, występy artystyczne oraz animacje – Plac Rybny\, ul. Piekarska\, Rynek \n15.30: Oprowadzanie po wystawie „A co Wy tam macie na ścianie?” przez tarnowskich kolekcjonerów sztuki Kingę i Marcina Mruk – BWA\, Dworzec PKP   \n16.30: 95. rocznica sprowadzenia prochów gen. Józefa Bema – złożenie kwiatów przy Mauzoleum w Parku Strzeleckim \n17.00: Wernisaż wystawy „Otto Shier. Pracownia architektoniczna” – BWA\, Pałacyk Strzelecki \n17.00: Koncert „Tarnowskie Lato Fletowe” – wystąpią fleciści: Urszula Janik – Lipińska\, Natalia Jarząbek\, Jan Krzeszowiec\, Beatriz Macias\, Ewa Murawska\, Miguel Ángel Villanueva\, Ewelina Zawiślak\, Łukasz Zimnik oraz Dominika Peszko – fortepian – Sala Lustrzana \n17:00: Koncert Chór SOLski – plac Rybny \n18.00: Klasyka w Parku – koncert akordeonowy Cebula & Kusion Duo – Ogród Sensoryczny w Parku Strzeleckim (w razie niepogody Centrum Dialogu\, ul. Gumniska 30) \n19.00: Czytanie performatywne „Sekrety Colemanów” – Tarnowski Teatr\, bilety: 22 zł \n19.00: Przeboje Wielkiego Ekranu – Koncert Muzyki Filmowej Warsaw Impressione Orchestra: Milena Lange – sopran\, Michał Janicki – baryton\, Laura Łącz – konferansjer – Amfiteatr Letni\, ul. Kopernika (w razie niepogody sala koncertowa Zespołu Szkół Muzycznych) \n19.00: „Sztafeta pokoleń”– DJ WIKA & DJ SKORP – najstarsza DJ-ka w Polsce – Dom Kultury Westerplatte \n21.00: Aniołki Solskiego na dachu Tarnowskiego Teatru\, bilety: 22 zł \n \nSzczegoły na www.tarnow.pl\, www.kultura.tarnow.pl
URL:https://kultura.tarnow.pl/wydarzenie/swieto-miasta-tarnowa/2024-06-30/
LOCATION:ulice miasta\, Tarnów\, małopolskie\, 33-100\, Polska
CATEGORIES:festiwale
ATTACH;FMTTYPE=image/jpeg:https://kultura.tarnow.pl/wp-content/uploads/slider-9-scaled.jpg
GEO:50.0121011;20.9858407
END:VEVENT
BEGIN:VEVENT
DTSTART;TZID=Europe/Warsaw:20240630T150000
DTEND;TZID=Europe/Warsaw:20240630T200000
DTSTAMP:20260423T045411
CREATED:20240422T135153Z
LAST-MODIFIED:20240520T135409Z
UID:10015888-1719759600-1719777600@kultura.tarnow.pl
SUMMARY:"Świat zmysłów" - wystawa interaktywna
DESCRIPTION:Zapraszamy na wyjątkową wystawę interaktywną „Świat zmysłów”\, która otwiera przed zwiedzającymi drzwi do fascynującego świata ludzkich zmysłów. Przez prawie dwa miesiące odwiedzający mają niepowtarzalną okazję do osobistego zgłębiania tajników wzroku\, słuchu\, dotyku i zapachu poprzez bezpośrednią interakcję i doświadczanie. \nWystawa podzielona jest na trzy części\, każda z nich zaprojektowana\, by odkryć przed nami inne aspekty naszych zmysłów: \n\nReceptory: Poznajemy budowę i funkcje narządów zmysłów\, eksplorując ich kluczowe cechy.\nMono czy Stereo?: Zastanawiamy się\, jaką rolę odgrywa posiadanie pary oczu\, uszu\, czy rąk w postrzeganiu świata i jak różniłoby się nasze doświadczanie bez tej podwójności.\nIluzje: Odkrywamy\, jak nasze zmysły mogą nas wprowadzać w błąd\, ale również jak możemy manipulować zmysłami innych.\n\nKażda sekcja wystawy charakteryzuje się unikalną aranżacją kolorystyczną\, tworząc różnorodne tło dla eksperymentów. \nDlaczego warto odwiedzić? \nWystawa „Świat zmysłów” zapewnia unikalne doświadczenie dzięki 34 stanowiskom doświadczalnym\, które zachęcają do aktywnego uczestnictwa. Jest to zarówno źródło niezwykłej zabawy\, jak i głębokiej edukacji\, pozwalającej zrozumieć nie tylko otaczający nas świat\, ale i samych siebie. \nZapisy dla grup zorganizowanych: Dział Edukacji – tel. 14 633 46 11\n \nZwiedzanie indywidualne: poniedziałek – niedziela\, w godzinach 15:00 – 20:00 \nGrupy zorganizowane\, klasy szkolne: poniedziałek – piątek\, 9:00\, 10:00\, 11:00\, 12:00\, 13:00 (zwiedzanie trwa 45 min.) \nPartner wystawy: Uniwersytet Jagielloński w Krakowie \n 
URL:https://kultura.tarnow.pl/wydarzenie/swiat-zmyslow-wystawa-interaktywna/2024-06-30/
LOCATION:Centrum Sztuki Mościce\, Traugutta 1\, Tarnów\, małopolskie\, 33-101\, Polska
CATEGORIES:wystawy
ATTACH;FMTTYPE=image/jpeg:https://kultura.tarnow.pl/wp-content/uploads/img_c8bb757a3bfcb33b7fd02d7cdbd2e38f-1024x1024-1.jpeg
GEO:50.009833;20.92706
X-APPLE-STRUCTURED-LOCATION;VALUE=URI;X-ADDRESS=Centrum Sztuki Mościce Traugutta 1 Tarnów małopolskie 33-101 Polska;X-APPLE-RADIUS=500;X-TITLE=Traugutta 1:geo:20.92706,50.009833
END:VEVENT
BEGIN:VEVENT
DTSTART;TZID=Europe/Warsaw:20240630T170000
DTEND;TZID=Europe/Warsaw:20240630T180000
DTSTAMP:20260423T045411
CREATED:20240627T120753Z
LAST-MODIFIED:20240627T120754Z
UID:10018365-1719766800-1719770400@kultura.tarnow.pl
SUMMARY:"Otto Schier. Pracownia architektoniczna"
DESCRIPTION:Wernisaż wystawy 30.06.2024\, g. 17.00 \nW programie wystawy:\nNiedziela\, 14.07\, g. 10:00 – Spacer śladami architektury Otto Schiera\, prowadzenie: Agnieszka Partridge\, zbiórka pod MCA/ul. Wałowa 25\, zakończenie spaceru na wystawie\nPoniedziałek-piątek\, 5-9.08\, g. 11:00-14:00 – Tarnów w plenerze – wakacyjny plener rysunkowy\, prowadzenie: Bartłomiej Pochopień\, obowiązują zapisy: edukacja@bwa.tarnow.pl\, koszt: 200 zł za 5 dni\nNiedziela\, 25.08\, g. 16:00 – Małe BWA na wystawie\, prowadzenie: Agata Dymańska\, Aleksandra Kubisztal\, obowiązują zapisy: edukacja@bwa.tarnow.pl\, koszt: 15 zł\nNiedziela\, 25.08\, g. 17:30 – ostatni spacer po wystawie\, prowadzenie: Bartłomiej Pochopień\, wstęp w cenie biletu na wystawę \nOtto Schier zamieszkał w Tarnowie w 1959 roku\, zaraz po ukończeniu studiów na Wydziale Architektury Politechniki Krakowskiej. Przez 65 lat zrealizował w Tarnowie i okolicach około dwieście projektów architektonicznych i urbanistycznych. Wiele z nich zostało wykonanych w czynie społecznym\, jak na przykład muszla tarnowskiego Amfiteatru. \nWystawa ma na celu zaprezentować skalę różnorodnej i wytrwałej pracy architekta\, a także osadzić jego realizacje w historii architektury miasta\, Polski i świata. Wybrane zostały realizacje projektów użyteczności publicznej\, z których na co dzień wszyscy możemy korzystać i obok których przechodzimy. \nOtto Schier (ur. 12 lipca 1931 w Katowicach) – polski inżynier architekt. W 1954 roku ukończył z wyróżnieniem studia na Wydziale Architektury Politechniki Krakowskiej i otrzymał tytuł magistra inżyniera architektury. Od 1959 roku mieszka i pracuje w Tarnowie. Od 1968 roku pracownik Miejskiej Pracowni Urbanistycznej\, potem Wojewódzkiego Biura Planowania Przestrzennego i Małopolskiego Biura Planowania Przestrzennego. \n30.06-25.08.2024\nBWA Tarnów / Pałacyk Strzelecki\, ul. Słowackiego 1\nzespół kuratorski: Aleksandra Kubisztal\, Bartłomiej i Sonia Pochopień\noprawa graficzna: Natalia Sikorska\nfotografia na plakacie: Wiktor Lekston
URL:https://kultura.tarnow.pl/wydarzenie/otto-schier-pracownia-architektoniczna-2/
LOCATION:Biuro Wystaw Artystycznych\, ul. Słowackiego 1\, Tarnów\, małopolskie\, 33-100\, Polska
CATEGORIES:wernisaże
ATTACH;FMTTYPE=image/jpeg:https://kultura.tarnow.pl/wp-content/uploads/Otto-Schier.-Pracownia-architektoniczna_plakat-BWA-Tarnow-scaled.jpg
ORGANIZER;CN="Biuro Wystaw Artystycznych":MAILTO:biuro@bwa.tarnow.pl
GEO:50.0178761;20.9827521
X-APPLE-STRUCTURED-LOCATION;VALUE=URI;X-ADDRESS=Biuro Wystaw Artystycznych ul. Słowackiego 1 Tarnów małopolskie 33-100 Polska;X-APPLE-RADIUS=500;X-TITLE=ul. Słowackiego 1:geo:20.9827521,50.0178761
END:VEVENT
BEGIN:VEVENT
DTSTART;TZID=Europe/Warsaw:20240630T170000
DTEND;TZID=Europe/Warsaw:20240630T190000
DTSTAMP:20260423T045412
CREATED:20240606T070231Z
LAST-MODIFIED:20240606T070231Z
UID:10017230-1719766800-1719774000@kultura.tarnow.pl
SUMMARY:Tarnowskie Lato Fletowe
DESCRIPTION:Tarnowskie Lato Fletowe to tygodniowe kursy dedykowane studentom\, absolwentom\, a także uczniom szkół muzycznych II stopnia\, które odbędą się 29.06 – 06.07.2024 w Tarnowie. \nTo tydzień pełen koncertów\, zajęć indywidualnych\, zespołów kameralnych\, gry na flecie piccolo\, studiów orkiestrowych\, zajęć z pianistą\, fizjoterapeutą\, z self-managementu oraz instrumentów etnicznych. \nWspaniali pedagodzy z wielu znamienitych polskich\, francuskich\, niemieckich\, skandynawskich\, a nawet meksykańskich ośrodków fletowych będą autorytetami\, dzięki którym uczestnicy zgłębią tajniki wykonawstwa gry na flecie i zdobędą motywację do dalszego rozwoju. \nAtmosfera wzajemnej motywacji do pracy i wspólnie spędzanego czasu wolnego będzie sprzyjać nawiązywaniu nowych przyjaźni na długie lata.
URL:https://kultura.tarnow.pl/wydarzenie/tarnowskie-lato-fletowe/2024-06-30/
LOCATION:Sala Koncertowa Zespołu Szkół Muzycznych\, Lippóczy’ego 4\, Tarnów\, małopolskie\, 33-100\, Polska
CATEGORIES:koncerty
ATTACH;FMTTYPE=image/png:https://kultura.tarnow.pl/wp-content/uploads/IMG-6142.png
GEO:50.0205582;20.9801972
X-APPLE-STRUCTURED-LOCATION;VALUE=URI;X-ADDRESS=Sala Koncertowa Zespołu Szkół Muzycznych Lippóczy’ego 4 Tarnów małopolskie 33-100 Polska;X-APPLE-RADIUS=500;X-TITLE=Lippóczy’ego 4:geo:20.9801972,50.0205582
END:VEVENT
BEGIN:VEVENT
DTSTART;TZID=Europe/Warsaw:20240630T180000
DTEND;TZID=Europe/Warsaw:20240630T190000
DTSTAMP:20260423T045412
CREATED:20240619T123909Z
LAST-MODIFIED:20240619T123909Z
UID:10017594-1719770400-1719774000@kultura.tarnow.pl
SUMMARY:Cebula&Kusion Duo
DESCRIPTION:Cebula&Kusion Duo – obaj muzycy są absolwentami Zespołu Szkół Muzycznych im. Ignacego Jana Paderewskiego w Tarnowie oraz Akademii Muzycznej im. Kiejstuta i Grażyny Bacewiczów w Łodzi. Są też laureatami wielu konkursów akordeonowych. \nPaweł Kusion współpracuje z wieloma artystami. W 2016 roku wraz zespołem Motion Trio nagrał w ramach festiwalu La Folle Journee płytę „La Nature”. Oprócz działalności artystycznej jest również pedagogiem Zespołu Szkół Muzycznych w Tarnowie oraz Zespołu Państwowych Szkół Muzycznych w Dębicy\, prowadząc zajęcia indywidualne z akordeonu. \nŁukasz Cebula ukończył studium pedagogiczne\, umożliwiające nauczanie gry na akordeonie na wszystkich stopniach edukacji artystycznej. Ma na swoim koncie kilka prawykonań utworów współczesnych kompozytorów. Pracował jako nauczyciel akordeonu w szkołach muzycznych w Tarnowie i Tuchowie\, obecnie jest kapelmistrzem w zespole Uniwersytetu Jagiellońskiego „Słowianki”. \nArtyści przedstawią muzyczną podróż przez wiele krajów\, m.in. Polskę\, Francję\, Czechy\, Argentynę czy Macedonię Północną. Posłuchać będzie można również muzyki filmowej oraz kompozycji z bajek. \n \n30 czerwca\, godz. 18.00\, Ogród sensoryczny – Park Strzelecki (w razie niepogody Centrum Dialogu\, ul. Gumniska 30)
URL:https://kultura.tarnow.pl/wydarzenie/cebulakusion-duo/
LOCATION:Ogród Sensoryczny w Parku Strzeleckim\, Słowackiego 1\, Tarnów\, 33-100\, Polska
CATEGORIES:koncerty
ATTACH;FMTTYPE=image/jpeg:https://kultura.tarnow.pl/wp-content/uploads/KC.jpg
GEO:50.01917;20.98431
X-APPLE-STRUCTURED-LOCATION;VALUE=URI;X-ADDRESS=Ogród Sensoryczny w Parku Strzeleckim Słowackiego 1 Tarnów 33-100 Polska;X-APPLE-RADIUS=500;X-TITLE=Słowackiego 1:geo:20.98431,50.01917
END:VEVENT
BEGIN:VEVENT
DTSTART;TZID=Europe/Warsaw:20240630T190000
DTEND;TZID=Europe/Warsaw:20240630T200000
DTSTAMP:20260423T045412
CREATED:20240619T091158Z
LAST-MODIFIED:20240619T091159Z
UID:10017590-1719774000-1719777600@kultura.tarnow.pl
SUMMARY:Czytanie performatywne: SEKRETY COLEMANÓW
DESCRIPTION:30.06 niedziela godz. 19.00 Mała Scena \n\n\nSekrety Colemanów \n\nAutor: Tolcachir\, Claudio\nReżyseria: Katarzyna Deszcz\nTytuł oryginalny: La Omisión de la familia Coleman\nPrzekład: Birden\, Rubi\nGatunek: Komedia\nSzczegóły: czarna komedia\n\nCena biletu: 20 zł/os.\, grupa od 4 osób i więcej: 15zł/os. \nRodzina Colemanów na pierwszy rzut oka jest jak rodzina Addamsów – czarny humor o rozkładzie i balsamowaniu zwłok jest na porządku dziennym. Ale jednak im głębiej czytelnik wchodzi w lekturę\, tym mroczniej się robi – i nie chodzi tu o szafowanie makabreską\, ale o okoliczności towarzyszące „portretowi rodzinnemu we wnętrzu”. Tolcahir\, mimo skłonności do groteski\, tworzy w zasadzie sztukę obyczajową\, w której centrum stoi dysfunkcyjna rodzina zamknięta w czterech ścianach\, skazana tylko na siebie. Jej członkowie – babcia\, jej córka Terenia oraz dorosłe dzieci Tereni (niepełnosprawny intelektualnie Mario\, cwaniak Damian i handlująca ubraniami Gabi) – wampirycznie czerpią od siebie energię\, marnując czas na pyskówkę\, docinki\, rozmaite formy deprecjonowania krewnych. Jedyną osobą\, której udało się wyrwać z matni\, jest druga córka Tereni\, Weronika. Jako jedyna wiedzie normalne życie\, ale w obliczu kryzysu\, czyli choroby nestorki familii\, to ona wybiera ucieczkę. Przede wszystkim z powodu wstydu. We współczesnych czasach być może nic tak bardziej nie stygmatyzuje jak patologiczna rodzina. A może to zbyt ostre słowo? Może Colemanowie po prostu nie są\, parafrazując fragment sztuki\, „rodziną typu rodzina”? \nAutor punktuje rozmaite przywary bohaterów\, ale odnajduje w ich relacjach osobliwy rodzaj miłości. Postacie kompulsywnie zagadują emocjonalną pustkę\, lecz z drugiej strony towarzystwo pokręconych członków rodziny daje im jedyne wsparcie. W Sekretach Colemanów jest jakiś rodzaj perwersji – w końcu śmiejemy się z rodziny\, która teoretycznie powinna zasługiwać na współczucie. Ale Tolcahirowi daleko do cynizmu; w tej nasyconej absurdem czarnej komedii przebija się nieśmiało pewna autorska czułość. \nTłumaczka o sztuce: \nLew Tołstoj napisał: „wszystkie szczęśliwe rodziny są do siebie podobne\, każda nieszczęśliwa rodzina jest nieszczęśliwa na swój sposób”. To chyba pierwsza myśl\, jaka nasuwa się po lekturze tej sztuki […] Colemanowie żyją w domu\, który chroni ich przed światem\, ale który też jest więzieniem.
URL:https://kultura.tarnow.pl/wydarzenie/czytanie-performatywne-zapolska-superstar-5/
LOCATION:Teatr im. L.Solskiego\, Mickiewicza 4\, Tarnów\, małopolskie\, 33-100\, Polska
CATEGORIES:spektakle
GEO:50.0159214;20.987504
X-APPLE-STRUCTURED-LOCATION;VALUE=URI;X-ADDRESS=Teatr im. L.Solskiego Mickiewicza 4 Tarnów małopolskie 33-100 Polska;X-APPLE-RADIUS=500;X-TITLE=Mickiewicza 4:geo:20.987504,50.0159214
END:VEVENT
BEGIN:VEVENT
DTSTART;TZID=Europe/Warsaw:20240630T190000
DTEND;TZID=Europe/Warsaw:20240630T210000
DTSTAMP:20260423T045412
CREATED:20240610T081159Z
LAST-MODIFIED:20240610T081159Z
UID:10017251-1719774000-1719781200@kultura.tarnow.pl
SUMMARY:Przeboje Wielkiego Ekranu - Koncert Muzyki Filmowej
DESCRIPTION:Koncert w ramach Święta Miasta Tarnowa 2024. \nMilena Lange – sopran\, Michał Janicki – baryton\, Laura Łącz – konferansjer. \nWarsaw Impressione Orchestra to niezwykle prężnie i wszechstronnie działająca polska orkiestra symfoniczna powstała w 2014 roku w Warszawie. Zespół tworzą muzycy na co dzień grający między innymi w orkiestrze Teatru Wielkiego Opery Narodowej w Warszawie\, Filharmonii Narodowej w Warszawie\, Polskiej Orkiestrze Radiowej czy Sinfonii Varsovii oraz wyróżniający się studenci i absolwenci Uniwersytetu Muzycznego Fryderyka Chopina w Warszawie. Muzycy koncertują w składzie kameralnym i symfonicznym od kilku lat\, prezentując publiczności między innymi muzykę klasyczną\, filmową i rozrywkową. Różnorodność programów i szeroki repertuar sprawiają\, że orkiestra zapraszana jest na liczne koncerty i festiwale. \n​Muzycy orkiestry występują również w mniejszych zestawieniach instrumentów np. Kwintet Smyczkowy\, Kwartet Smyczkowy\, Trio Smyczkowe\, Kwintet Dęty Klasyczny\, Kwintet Dęty Blaszany\, Trio Stroikowe\, Trio Instrumentów Dętych Blaszanych\, Duety itp. \n​Orkiestra Impressione ma na swoim koncie koncerty pod batutą takich mistrzów jak: Tomasz Szymuś\, Maciej Niesiołowski\, Krzesimir Dębski\, Ruben Silva\, Piotr Wijatkowski\, Jakub Zwierz\, Tomasz Labuń i wielu innych. \n​Z orkiestrą współpracują wybitni artyści ze świata muzyki klasycznej m.in. Rafał Bartmiński\, Anna Radziejewska\, Adam Sobierajski\, Milena Lange\, Adam Szerszeń\, Magdalena Idzik\, Damian Wilma\, Anna Lubańska\, Paweł Skałuba\, Wiktoria Szubelak\, Weronika Sura\, Roksana Kwaśnikowska\, Karol Radziwonowicz\, Marek Bracha czy ze świata muzyki popularnej: Natalia Kukulska\, Piotr Cugowski\, Sławek Uniatowski\, Natalia Niemen\, Katarzyna Moś\, Łukasz Zagrobelny\, Katarzyna Cerekwicka i wielu innych. \nWarsaw Impressione Orchestra często gości na scenach takich sal koncertowych jak : Opera Leśna w Sopocie\, Centrum Kongresowe ICE Kraków\, Zamek Królewski w Warszawie\, Filharmonia Narodowa w Warszawie\, Filharmonia Bałtycka w Gdańsku\, Sala Ziemi w Poznaniu\, Amfiteatr im. Marka Grechuty w Świnoujściu\, Amfiteatr Bemowo im. Michaela Jacksona w Warszawie … \nIMPRESSIONE – tłumacząc nazwę z języka włoskiego: WRAŻENIE. Połączenie młodzieńczej energii z doświadczeniem uznanych muzyków pozwala dostarczyć słuchaczom nadzwyczajnych wrażeń podczas koncertów. \nW przypadku niepogody koncert zostanie przeniesiony do Sali Koncertowej Zespołu Szkół Muzycznych
URL:https://kultura.tarnow.pl/wydarzenie/przeboje-wielkiego-ekranu-koncert-muzyki-filmowej/
LOCATION:Amfiteatr Letni\, ul. Kopernika 4\, Tarnów\, małopolskie\, 33-100\, Polska
CATEGORIES:koncerty
ATTACH;FMTTYPE=image/jpeg:https://kultura.tarnow.pl/wp-content/uploads/Bez-tytulu.jpg
GEO:50.013519;20.984475
X-APPLE-STRUCTURED-LOCATION;VALUE=URI;X-ADDRESS=Amfiteatr Letni ul. Kopernika 4 Tarnów małopolskie 33-100 Polska;X-APPLE-RADIUS=500;X-TITLE=ul. Kopernika 4:geo:20.984475,50.013519
END:VEVENT
BEGIN:VEVENT
DTSTART;TZID=Europe/Warsaw:20240630T190000
DTEND;TZID=Europe/Warsaw:20240630T220000
DTSTAMP:20260423T045412
CREATED:20240618T110225Z
LAST-MODIFIED:20240618T110225Z
UID:10017584-1719774000-1719784800@kultura.tarnow.pl
SUMMARY:DJ Wika & DJ Skorp "Sztafeta pokoleń"
DESCRIPTION:Wirginia Szmyt (DJ Wika) – ur. 15 grudnia 1938 w Wilnie – polska działaczka społeczna zaangażowana w sprawy seniorów. Z wykształcenia pedagog\, pracowała z dziećmi niepełnosprawnymi i trudną młodzieżą. Po przejściu na emeryturę włączyła się w działalność na rzecz seniorów w ramach Uniwersytetu Trzeciego Wieku. Jest matką i babcią\, pisała wiersze i teksty satyryczne. \nJest najstarszą didżejką w Polsce (DJ Wika)\, a może i na świecie. Łamie stereotypy dotyczące wizerunku polskiego seniora. \nW 2016 nakładem wydawnictwa Burda Publishing ukazał się książkowy wywiad „DJ Wika. Jest moc!”\, którego współautorami byli Jakub Jabłonka i Paweł Łęczuk. Szmyt była bohaterką filmu dokumentalnego „Vika!” w reżyserii Agnieszki Zwiefki\, zaprezentowanego w 2023. \nWażniejsze działania: Prowadzi stałe dyskoteki międzypokoleniowe w Warszawie\, jako DJ Wika występuje w Polsce i za granicą\, współorganizuje wycieczki dla seniorów\, została twarzą telewizji Eska TV (Eska Music Awards 2014)\, współorganizuje parady dla seniorów\, występuje w mediach propagując aktywność seniorów.
URL:https://kultura.tarnow.pl/wydarzenie/dj-wika-dj-skorp-sztafeta-pokolen/
LOCATION:Dom Kultury Westerplatte 8a\, Westerplatte 8a\, Tarnów\, Polska - małopolskie\, 33-100\, Polska
CATEGORIES:koncerty
ATTACH;FMTTYPE=image/jpeg:https://kultura.tarnow.pl/wp-content/uploads/1920x1080-wika.jpg
GEO:50.0273033;21.0087361
X-APPLE-STRUCTURED-LOCATION;VALUE=URI;X-ADDRESS=Dom Kultury Westerplatte 8a Westerplatte 8a Tarnów Polska - małopolskie 33-100 Polska;X-APPLE-RADIUS=500;X-TITLE=Westerplatte 8a:geo:21.0087361,50.0273033
END:VEVENT
BEGIN:VEVENT
DTSTART;TZID=Europe/Warsaw:20240630T210000
DTEND;TZID=Europe/Warsaw:20240630T220000
DTSTAMP:20260423T045412
CREATED:20240619T091634Z
LAST-MODIFIED:20240619T091634Z
UID:10017592-1719781200-1719784800@kultura.tarnow.pl
SUMMARY:Aniołki Solskiego "Aniołki Solskiego vs Najlepsze Polskie Hity"
DESCRIPTION:30.06 niedziela godz. 21.00 Scena Na Dachu/Mała Scena \n\nSerdecznie zapraszamy na koncert „Aniołki Solskiego vs Najlepsze Polskie Hity”. Zgodnie z “aniołkową” tradycją\, również i tym razem widzowie będą mogli wybrać z menu piosenkę niespodziankę i zadedykować ją komuś bliskiemu. Taką dedykację\, również zgodnie z tradycją\, zatwierdza się wpłatą dowolnej kwoty do puszki kwestowej PSONI koło w Tarnowie. Podczas najbliższego koncertu widzowie będą mieli szansę poznać jednego z Przyjaciół Aniołków… \nMatylda Baczyńska \nCena biletu: 20 zł/os.\, grupa od 4 osób i więcej: 15zł/os.
URL:https://kultura.tarnow.pl/wydarzenie/aniolki-solskiego-aniolki-solskiego-vs-najlepsze-polskie-hity/
LOCATION:Teatr im. L.Solskiego\, Mickiewicza 4\, Tarnów\, małopolskie\, 33-100\, Polska
CATEGORIES:koncerty
GEO:50.0159214;20.987504
X-APPLE-STRUCTURED-LOCATION;VALUE=URI;X-ADDRESS=Teatr im. L.Solskiego Mickiewicza 4 Tarnów małopolskie 33-100 Polska;X-APPLE-RADIUS=500;X-TITLE=Mickiewicza 4:geo:20.987504,50.0159214
END:VEVENT
END:VCALENDAR