BEGIN:VCALENDAR
VERSION:2.0
PRODID:-//kultura.tarnów - ECPv6.4.0.1//NONSGML v1.0//EN
CALSCALE:GREGORIAN
METHOD:PUBLISH
X-ORIGINAL-URL:https://kultura.tarnow.pl
X-WR-CALDESC:Wydarzenia dla
REFRESH-INTERVAL;VALUE=DURATION:PT1H
X-Robots-Tag:noindex
X-PUBLISHED-TTL:PT1H
BEGIN:VTIMEZONE
TZID:Europe/Warsaw
BEGIN:DAYLIGHT
TZOFFSETFROM:+0100
TZOFFSETTO:+0200
TZNAME:CEST
DTSTART:20240331T010000
END:DAYLIGHT
BEGIN:STANDARD
TZOFFSETFROM:+0200
TZOFFSETTO:+0100
TZNAME:CET
DTSTART:20241027T010000
END:STANDARD
END:VTIMEZONE
BEGIN:VEVENT
DTSTART;TZID=Europe/Warsaw:20240628T080000
DTEND;TZID=Europe/Warsaw:20240628T220000
DTSTAMP:20260423T045523
CREATED:20240529T061254Z
LAST-MODIFIED:20240618T095343Z
UID:10016750-1719561600-1719612000@kultura.tarnow.pl
SUMMARY:Święto Miasta Tarnowa
DESCRIPTION:Czwartek\, 27 czerwca – Prolog \n17.00: Spotkanie autorskie z Czesławem Markiewiczem i promocja książki „Przeklęta Europa” – czytelnia MBP ul. Krakowska 4 \n18.00: Oxfordzki czwartek – debata „Miasta potrzebują kultury” – Amfiteatr Letni (w razie niepogody Sala Lustrzana) \n21.00: Koncert pod Bimą – Kantor Israel Rand (Izrael)\, w ramach Galicjaner Sztetl \nPiątek\, 28 czerwca \n9.30 – 11.30 oraz 15.00 – 17.00: Zwiedzanie Katedry \n10.30 i 12.00: Zwiedzanie Tarnowa enomeleksem (start TCI – Rynek) \n18.00: Wernisaż wystawy polsko-włoskiej „Szeptem kilka słów” inspirowanej twórczością Wisławy Szymborskiej\, z udziałem tarnowskich artystek: Aleksandry Zuby-Benn\, Anny Śliwińskiej\, Jolanty Więcław – MCA\, ul.Wałowa 25 oraz Galeria ARTEKA\, ul. Wałowa 16 \n19.00: Gala Nagród Miasta Tarnowa. Wystąpią: Oliwia Miś oraz zespół „Dzień Dobry” (Młynarski – Osiecka – Grechuta) – Amfiteatr Letni \n19.30: Czytanie performatywne „Zapolska Superstar” – Tarnowski Teatr\, bilety: 22 zł \nSobota\, 29 czerwca \n9.30 – 11.30: Zwiedzanie Katedry \n10.00: Piknik rodzinny „Bezpieczna Autostrada” – Młodzi bohaterowie bezpieczeństwa. Nauka udzielania pierwszej pomocy\, symulatory dachowania i zderzeń\, badania profilaktyczne\, strefa relaksu\, animacje i zabawy dla dzieci\, edukacja\, upominki\, nagrody – Rynek \n10.00: Turniej szachowy – Amfiteatr Letni \n10:00: Thai Chi na trawie – BWA\, Park Strzelecki\, (w razie niepogody odwołane) \n11.00: Krzysztof Moskal oprowadza po zamku na Górze św. Marcina (zbiórka obok tężni) \n12.00: Spacer z przewodnikiem (start TCI – Rynek) \n13.00: Intronizacja Króla Kurkowego – Zakątek Spycimira Leliwity przy MCA\, Wałowa 25 \n17.00: Scena iluzji – wystąpią: \nKrystian Bączyński – wyczaruje uśmiech na twarzach wszystkich dzieci\nKonrad Mościński – zaprezentuje widowiskowe  przedstawienie w komediowym i interaktywnym wydaniu\nMichał Skubida – tegoroczny finalista programu Mam Talent\, zawodowy iluzjonista\, zaskakujący performer oraz komik – Zaułek Króla W. Łokietka (w razie niepogody Sala Lustrzana) \n18.00: Klasyka w Parku\, koncert  SunDay Quartet – Ogród sensoryczny – Park Strzelecki (w razie niepogody Centrum Dialogu\, ul. Gumniska 30) \n18.00: Czytanie performatywne „Słodki zapach cynamonu” – Tarnowski Teatr \n19.00: DJ Celownik – MCA\, ul. Wałowa 25 \n20:00: Silent disco z udziałem 3 DJ’ów – MCA\, ul. Wałowa 25 \n20.00: Koncert: YASNO\, Meek Oh Why – Amfiteatr Letni \n20.00: Czytanie performatywne „Noc Wittgensteina” – Tarnowski Teatr\, bilety: 22 zł \nNiedziela\, 30 czerwca \n9.00 – 13.00: Bazar na Starówce – Burek \n10.00: „Świętuj z nami! Biegnij z PSONI w DobroDzień’24” – Park Strzelecki \n10.00: Joga na trawie – BWA\, Park Strzelecki (w razie niepogody odwołane) \n12.00: Spacer z przewodnikiem (start TCI – Rynek) \n14.00: DobroDzień’24 czyli dzień integracji osób pełnosprawnych z osobami z niepełnosprawnością\, prezentacje działalności organizacji    pozarządowych\, występy artystyczne oraz animacje – Plac Rybny\, ul. Piekarska\, Rynek \n15.30: Oprowadzanie po wystawie „A co Wy tam macie na ścianie?” przez tarnowskich kolekcjonerów sztuki Kingę i Marcina Mruk – BWA\, Dworzec PKP   \n16.30: 95. rocznica sprowadzenia prochów gen. Józefa Bema – złożenie kwiatów przy Mauzoleum w Parku Strzeleckim \n17.00: Wernisaż wystawy „Otto Shier. Pracownia architektoniczna” – BWA\, Pałacyk Strzelecki \n17.00: Koncert „Tarnowskie Lato Fletowe” – wystąpią fleciści: Urszula Janik – Lipińska\, Natalia Jarząbek\, Jan Krzeszowiec\, Beatriz Macias\, Ewa Murawska\, Miguel Ángel Villanueva\, Ewelina Zawiślak\, Łukasz Zimnik oraz Dominika Peszko – fortepian – Sala Lustrzana \n17:00: Koncert Chór SOLski – plac Rybny \n18.00: Klasyka w Parku – koncert akordeonowy Cebula & Kusion Duo – Ogród Sensoryczny w Parku Strzeleckim (w razie niepogody Centrum Dialogu\, ul. Gumniska 30) \n19.00: Czytanie performatywne „Sekrety Colemanów” – Tarnowski Teatr\, bilety: 22 zł \n19.00: Przeboje Wielkiego Ekranu – Koncert Muzyki Filmowej Warsaw Impressione Orchestra: Milena Lange – sopran\, Michał Janicki – baryton\, Laura Łącz – konferansjer – Amfiteatr Letni\, ul. Kopernika (w razie niepogody sala koncertowa Zespołu Szkół Muzycznych) \n19.00: „Sztafeta pokoleń”– DJ WIKA & DJ SKORP – najstarsza DJ-ka w Polsce – Dom Kultury Westerplatte \n21.00: Aniołki Solskiego na dachu Tarnowskiego Teatru\, bilety: 22 zł \n \nSzczegoły na www.tarnow.pl\, www.kultura.tarnow.pl
URL:https://kultura.tarnow.pl/wydarzenie/swieto-miasta-tarnowa/2024-06-28/
LOCATION:ulice miasta\, Tarnów\, małopolskie\, 33-100\, Polska
CATEGORIES:festiwale
ATTACH;FMTTYPE=image/jpeg:https://kultura.tarnow.pl/wp-content/uploads/slider-9-scaled.jpg
GEO:50.0121011;20.9858407
END:VEVENT
BEGIN:VEVENT
DTSTART;TZID=Europe/Warsaw:20240628T090000
DTEND;TZID=Europe/Warsaw:20240628T150000
DTSTAMP:20260423T045523
CREATED:20240605T081414Z
LAST-MODIFIED:20240605T081437Z
UID:10017209-1719565200-1719586800@kultura.tarnow.pl
SUMMARY:"Malarstwo\, rzeźba\, grafika. Z kolekcji Bogusława Kubisztala"
DESCRIPTION:Jest to kolejna wystawa z muzealnego cyklu „Tarnowscy Kolekcjonerzy”. \nWystawa prezentuje zbiory należące do Bogusława Kubisztala\, który od lat gromadzi przedmioty z różnych dziedzin sztuki. Jego zbiór\, obejmujący malarstwo\, rzeźbę i grafikę\, liczy obecnie 1000 obiektów i wciąż się powiększa. Prace\, które gromadzi wyróżniają się ciekawą formą\, bogatą kolorystyką i różnorodną tematyką. Kolekcjoner zwraca uwagę na warsztat twórców i wielką wrażliwość artystyczną. Jak sam mówi: „chciałby zarazić innych uwielbieniem do sztuki”. \nNa wystawie zaprezentowano obiekty z dziedziny malarstwa\, rzeźby i grafiki pochodzące z początku XX wieku do współczesności. Wśród nich znajdują się nazwiska z kanonu historii sztuki polskiej takie jak: Franciszek Starowieyski\, Wlastimil Hofman\, Wojciech Weiss\, Tadeusz Makowski\, Stanisław Szukalski\, a także współcześnie tworzący artyści: Piotr Jakubczak\, Tomasz Sętowski\, Monika Kwiecińska. W kolekcji znajdziemy również wyjątkowe przykłady grafik takich artystów jak: Pablo Picasso\, Salvador Dali czy Andy Warhol oraz miniaturową rzeźbę Igora Mitoraja. Właściciel kolekcji zdecydował się po raz pierwszy pokazać swoje zbiory w Muzeum Ziemi Tarnowskiej. \nWystawa realizowana w ramach projektu: „Muzea Domowe – ożywianie tożsamości w społecznościach lokalnych Małopolski” \nKuratorki wystawy: Anna Filar\, Manuela Stadnicka-Hoffman \nWystawa czynna od 18 czerwca do 26 lipca 2024 r.
URL:https://kultura.tarnow.pl/wydarzenie/malarstwo-rzezba-grafika-z-kolekcji-boguslawa-kubisztala-2/2024-06-28/
LOCATION:Siedziba Muzeum Ziemi Tarnowskiej\, Rynek 3\, Tarnów\, małopolskie\, 33-100
CATEGORIES:wystawy
ATTACH;FMTTYPE=image/jpeg:https://kultura.tarnow.pl/wp-content/uploads/IMG_5982-m.jpg
GEO:50.0122989;20.9877958
X-APPLE-STRUCTURED-LOCATION;VALUE=URI;X-ADDRESS=Siedziba Muzeum Ziemi Tarnowskiej Rynek 3 Tarnów małopolskie 33-100;X-APPLE-RADIUS=500;X-TITLE=Rynek 3:geo:20.9877958,50.0122989
END:VEVENT
BEGIN:VEVENT
DTSTART;TZID=Europe/Warsaw:20240628T150000
DTEND;TZID=Europe/Warsaw:20240628T200000
DTSTAMP:20260423T045523
CREATED:20240422T135153Z
LAST-MODIFIED:20240520T135409Z
UID:10015886-1719586800-1719604800@kultura.tarnow.pl
SUMMARY:"Świat zmysłów" - wystawa interaktywna
DESCRIPTION:Zapraszamy na wyjątkową wystawę interaktywną „Świat zmysłów”\, która otwiera przed zwiedzającymi drzwi do fascynującego świata ludzkich zmysłów. Przez prawie dwa miesiące odwiedzający mają niepowtarzalną okazję do osobistego zgłębiania tajników wzroku\, słuchu\, dotyku i zapachu poprzez bezpośrednią interakcję i doświadczanie. \nWystawa podzielona jest na trzy części\, każda z nich zaprojektowana\, by odkryć przed nami inne aspekty naszych zmysłów: \n\nReceptory: Poznajemy budowę i funkcje narządów zmysłów\, eksplorując ich kluczowe cechy.\nMono czy Stereo?: Zastanawiamy się\, jaką rolę odgrywa posiadanie pary oczu\, uszu\, czy rąk w postrzeganiu świata i jak różniłoby się nasze doświadczanie bez tej podwójności.\nIluzje: Odkrywamy\, jak nasze zmysły mogą nas wprowadzać w błąd\, ale również jak możemy manipulować zmysłami innych.\n\nKażda sekcja wystawy charakteryzuje się unikalną aranżacją kolorystyczną\, tworząc różnorodne tło dla eksperymentów. \nDlaczego warto odwiedzić? \nWystawa „Świat zmysłów” zapewnia unikalne doświadczenie dzięki 34 stanowiskom doświadczalnym\, które zachęcają do aktywnego uczestnictwa. Jest to zarówno źródło niezwykłej zabawy\, jak i głębokiej edukacji\, pozwalającej zrozumieć nie tylko otaczający nas świat\, ale i samych siebie. \nZapisy dla grup zorganizowanych: Dział Edukacji – tel. 14 633 46 11\n \nZwiedzanie indywidualne: poniedziałek – niedziela\, w godzinach 15:00 – 20:00 \nGrupy zorganizowane\, klasy szkolne: poniedziałek – piątek\, 9:00\, 10:00\, 11:00\, 12:00\, 13:00 (zwiedzanie trwa 45 min.) \nPartner wystawy: Uniwersytet Jagielloński w Krakowie \n 
URL:https://kultura.tarnow.pl/wydarzenie/swiat-zmyslow-wystawa-interaktywna/2024-06-28/
LOCATION:Centrum Sztuki Mościce\, Traugutta 1\, Tarnów\, małopolskie\, 33-101\, Polska
CATEGORIES:wystawy
ATTACH;FMTTYPE=image/jpeg:https://kultura.tarnow.pl/wp-content/uploads/img_c8bb757a3bfcb33b7fd02d7cdbd2e38f-1024x1024-1.jpeg
GEO:50.009833;20.92706
X-APPLE-STRUCTURED-LOCATION;VALUE=URI;X-ADDRESS=Centrum Sztuki Mościce Traugutta 1 Tarnów małopolskie 33-101 Polska;X-APPLE-RADIUS=500;X-TITLE=Traugutta 1:geo:20.92706,50.009833
END:VEVENT
BEGIN:VEVENT
DTSTART;TZID=Europe/Warsaw:20240628T170000
DTEND;TZID=Europe/Warsaw:20240628T190000
DTSTAMP:20260423T045523
CREATED:20240416T064147Z
LAST-MODIFIED:20240416T064147Z
UID:10015216-1719594000-1719601200@kultura.tarnow.pl
SUMMARY:Piotr Bałtroczyk "Starość nie jest dla mięczaków"
DESCRIPTION:Bałtroczyk twierdzi\, że początek jest ważny\, być może nawet ważniejszy od końca. Choć dobrze\, gdy koniec jest równie miły jak początek. Zatem ważne\, by dobrze zacząć. Bałtroczyk zaczyna niebanalnie od: „Dobry wieczór Państwu\, nazywam się Piotr Bałtroczyk i jestem atrakcją\, a Wy jesteście dla mnie atrakcją\, bez Was czułbym się jak w domu\, samotny i niepotrzebny”. To właściwie jedyny powtarzalny fragment wieczoru\, w którym macie szansę uczestniczyć. Co nastąpi po: „Dobry wieczór Państwu”\, jest również zagadką dla Bałtroczyka. \nInwigilowany przez nadobną dziennikarkę (a jest na nadobność wrażliwy) przyznał kiedyś\, że ma głowie jakieś 7 godzin monologu i nieustanną zagadką jest dla niego\, co wybierze z tajemnych szufladek umysłu Bałtroczyk Estradowy. „Są wciąż dla siebie zagadką\, Bałtroczyk Estradowy (BE) i Bałtroczyk Zwykły (BZ) i to być może\, utrzymuje jednego i drugiego w wysokiej dzielności bojowej\, mimo\, że każdy z nich z coraz większym przekonaniem może potwierdzić\, że starość nie jest dla mięczaków.” Z BE – jak uprzejmy był się wyrazić Janusz Grzywacz – „słowa sypią się jak gó….o z barana”. BZ zazwyczaj milcząc okupuje przytulny kącik w rogu\, oddając się lekturze bądź nałogom\, lub usiłując bezskutecznie oddać się nadobnej dziennikarce\, by w końcu jednak wybrać nałóg\, lekturę\, czy gitarę. Wiele jest rzeczy\, które Bałtroczyka interesują. Od budownictwa drewnianego na Warmii ukochanej\, przez nowe techniki szpachlowania\, do przystawek w Telecasterach.  Zobaczcie\, co się przydarzyło Bałtroczykowi\, od czasu Waszego ostatniego z Nim spotkania. Wszystko jest inspiracją… Tak powstają wciąż nowe fragmenty narodowej epopei… Posłuchajcie proszę kolejnej wersji opowieści Piotra Bałtroczyka..
URL:https://kultura.tarnow.pl/wydarzenie/piotr-baltroczyk-starosc-nie-jest-dla-mieczakow/
LOCATION:małopolskie
CATEGORIES:kabarety
END:VEVENT
BEGIN:VEVENT
DTSTART;TZID=Europe/Warsaw:20240628T190000
DTEND;TZID=Europe/Warsaw:20240628T210000
DTSTAMP:20260423T045523
CREATED:20240415T225510Z
LAST-MODIFIED:20240520T225748Z
UID:10015949-1719601200-1719608400@kultura.tarnow.pl
SUMMARY:Piotr Bałtroczyk "Starość nie jest dla mięczaków"
DESCRIPTION:Bałtroczyk twierdzi\, że początek jest ważny\, być może nawet ważniejszy od końca. Choć dobrze\, gdy koniec jest równie miły jak początek. Zatem ważne\, by dobrze zacząć. Bałtroczyk zaczyna niebanalnie od: „Dobry wieczór Państwu\, nazywam się Piotr Bałtroczyk i jestem atrakcją\, a Wy jesteście dla mnie atrakcją\, bez Was czułbym się jak w domu\, samotny i niepotrzebny”. To właściwie jedyny powtarzalny fragment wieczoru\, w którym macie szansę uczestniczyć. Co nastąpi po: „Dobry wieczór Państwu”\, jest również zagadką dla Bałtroczyka. \nInwigilowany przez nadobną dziennikarkę (a jest na nadobność wrażliwy) przyznał kiedyś\, że ma głowie jakieś 7 godzin monologu i nieustanną zagadką jest dla niego\, co wybierze z tajemnych szufladek umysłu Bałtroczyk Estradowy. „Są wciąż dla siebie zagadką\, Bałtroczyk Estradowy (BE) i Bałtroczyk Zwykły (BZ) i to być może\, utrzymuje jednego i drugiego w wysokiej dzielności bojowej\, mimo\, że każdy z nich z coraz większym przekonaniem może potwierdzić\, że starość nie jest dla mięczaków.” Z BE – jak uprzejmy był się wyrazić Janusz Grzywacz – „słowa sypią się jak gó….o z barana”. BZ zazwyczaj milcząc okupuje przytulny kącik w rogu\, oddając się lekturze bądź nałogom\, lub usiłując bezskutecznie oddać się nadobnej dziennikarce\, by w końcu jednak wybrać nałóg\, lekturę\, czy gitarę. Wiele jest rzeczy\, które Bałtroczyka interesują. Od budownictwa drewnianego na Warmii ukochanej\, przez nowe techniki szpachlowania\, do przystawek w Telecasterach.  Zobaczcie\, co się przydarzyło Bałtroczykowi\, od czasu Waszego ostatniego z Nim spotkania. Wszystko jest inspiracją… Tak powstają wciąż nowe fragmenty narodowej epopei… Posłuchajcie proszę kolejnej wersji opowieści Piotra Bałtroczyka.. \n 
URL:https://kultura.tarnow.pl/wydarzenie/piotr-baltroczyk-starosc-nie-jest-dla-mieczakow-2/
LOCATION:Teatr im. L.Solskiego\, Mickiewicza 4\, Tarnów\, małopolskie\, 33-100\, Polska
CATEGORIES:kabarety
ATTACH;FMTTYPE=image/jpeg:https://kultura.tarnow.pl/wp-content/uploads/aubdglarw1oz7syg.jpg
GEO:50.0159214;20.987504
X-APPLE-STRUCTURED-LOCATION;VALUE=URI;X-ADDRESS=Teatr im. L.Solskiego Mickiewicza 4 Tarnów małopolskie 33-100 Polska;X-APPLE-RADIUS=500;X-TITLE=Mickiewicza 4:geo:20.987504,50.0159214
END:VEVENT
BEGIN:VEVENT
DTSTART;TZID=Europe/Warsaw:20240628T190000
DTEND;TZID=Europe/Warsaw:20240628T210000
DTSTAMP:20260423T045523
CREATED:20240618T110118Z
LAST-MODIFIED:20240618T110118Z
UID:10017583-1719601200-1719608400@kultura.tarnow.pl
SUMMARY:Gala wręczenia Nagród Miasta Tarnowa w dziedzinie kultury i stypendiów artystycznych
DESCRIPTION:W piątek 28 czerwca\, na deskach Amfiteatru Letniego zostaną wręczone Nagrody Miasta Tarnowa. Galę uświetni koncert Oliwii Miś oraz zespół „Dzień Dobry”. Początek  o godzinie 19\, wstęp wolny. \nWyróżnienia będą przyznawane w pięciu kategoriach: za osiągnięcia w dziedzinie twórczości artystycznej (w wysokości 7 tysięcy zł)\, za osiągnięcia w dziedzinie upowszechniania kultury (w wysokości 5 tysięcy zł)\, Nagroda „Mecenas Kultury Tarnowa” (prawo posługiwania się przez rok tym tytułem)\, Nagroda Honorowa za całokształt pracy w zakresie twórczości artystycznej lub upowszechniania kultury (w wysokości 10 tysięcy zł) oraz Nagroda „Nadzieja Roku” (w wysokości 5 tysięcy zł). \nPonadto wręczone zostaną stypendia artystyczne na realizację określonego projektu artystycznego w kilku dziedzinach twórczości artystycznej: literatura\, sztuki wizualne\, muzyka\, taniec\, teatr oraz film. \nNagrody Miasta Tarnowa przyznawane są od 2012 r. W ubiegłym roku laureatami Nagród Miasta Tarnowa zostali: Bartłomiej Szułakiewicz w dziedzinie twórczości artystycznej\, Magdalena Trusz za upowszechnianie kultury\, Wojciech Dzikowski – „Mecenas Kultury Tarnowa”\, Jerzy Martynów – Nagroda Honorowa oraz Sad Smiles– „Nadzieja Roku”. \nNa wydarzenie zaprasza Prezydent Tarnowa Jakub Kwaśny\, Przewodnicząca Rady Miejskiej Małgorzata Mękal\, Urząd Miasta Tarnowa i Tarnowskie Centrum Kultury. \nGalę uświetnią występy Oliwi Miś i zespołu „Dzień Dobry” \nOliwi Miś – 16-letnia wokalistka z Zespołu Szkół Muzycznych w Tarnowie\, finalistka programu Mam Talent!. Swoją determinacją i talentem\, zdobyła serca jurorów i widzów. Oliwia nie tylko śpiewa – jest także utalentowaną kompozytorką i instrumentalistką\, grając na pianinie i gitarze. Marzeniem młodej artystki jest kontynuowanie swojej muzycznej podróży\, dążąc do grania koncertów i wydania własnego albumu. Oliwia Miś\, pełna determinacji i talentu\, wkracza na scenę muzyczną z szerokimi uśmiechami i wielkimi marzeniami. \n \nBielski zespół „Dzień Dobry” to wspólne muzykowanie\, które wyzwala silne emocje i ogromną radość. Dążą do tego\, aby ich muzyka podobnie oddziaływała na każdego słuchacza\, to co grają\, określają mianem: pozytywnej akustycznej fali. \nWe wrześniu 2008 roku zespół „Dzień Dobry” zdobył I miejsce i statuetkę „Serce Szczerozłote” na Krakowskim Festiwalu Twórczości „Korowód” im. Marka Grechuty. Konsekwencją tego wydarzenia jest program pod tytułem: „Dzień Dobry Panie Marku”\, który zawiera utwory Marka Grechuty w nowych aranżacjach i autorskie piosenki Zespołu. Wystąpił u boku takich gwiazd polskiej estrady jak: Krystyna Prońko\, Renata Przemyk\, Gaba Kulka\, Jacek Wójcicki\, Grzegorz Markowski\, Zbigniew Wodecki\, Artur Gadowski\, Tadeusz Woźniak czy słynna „Anawa”. Ich energia i talent zostały także docenione w drugiej edycji telewizyjnego show Must be the music\, gdzie prezentując autorskie numery dotarli do półfinału\, zyskując bardzo przychylne opinie jury i publiczności. W sierpniu 2015 roku zespół otrzymał Grand Prix na letniej edycji Grechuta Festival w Świnoujściu. \nZespół tworzą znakomici muzycy: Piotr Mirecki – śpiew\, gitara\, Krzysztof Maciejowski – skrzypce\, Małgorzata Stachura – bas akustyczny\, śpiew\, Jan Stachura – gitara i Stanisław Joneczko – akordeon. \nPodczas koncertu zaprezentują utwory z programu Młynarski – Osiecka – Grechuta. Całość dopełnią  standardy poetyckie i autorskie piosenki zespołu. Będzie to energetyczna muzyczna podróż przez piosenkę poetycką.
URL:https://kultura.tarnow.pl/wydarzenie/gala-wreczenia-nagrod-miasta-tarnowa-w-dziedzinie-kultury-i-stypendiow-artystycznych/
LOCATION:Amfiteatr Letni\, ul. Kopernika 4\, Tarnów\, małopolskie\, 33-100\, Polska
CATEGORIES:koncerty
GEO:50.013519;20.984475
X-APPLE-STRUCTURED-LOCATION;VALUE=URI;X-ADDRESS=Amfiteatr Letni ul. Kopernika 4 Tarnów małopolskie 33-100 Polska;X-APPLE-RADIUS=500;X-TITLE=ul. Kopernika 4:geo:20.984475,50.013519
END:VEVENT
BEGIN:VEVENT
DTSTART;TZID=Europe/Warsaw:20240628T193000
DTEND;TZID=Europe/Warsaw:20240628T203000
DTSTAMP:20260423T045523
CREATED:20240619T090358Z
LAST-MODIFIED:20240619T090358Z
UID:10017587-1719603000-1719606600@kultura.tarnow.pl
SUMMARY:Czytanie performatywne: ZAPOLSKA SUPERSTAR
DESCRIPTION:28.06 piątek godz. 19.30 Mała Scena \n\nZapolska superstar to tekst\, który w barwny sposób prezentuje postać Grażyny Zapolskiej. Postaci nieoczywistej\, wyprzedającej swoją postawą czas\, w którym przyszło jej żyć\, kochać i tworzyć. Autor w lekki i zabawny sposób przygląda się pozycji kobiety ukazując Zapolską jako osobę silną\, zdeterminowaną\, gotową łamać wszelkie konwenanse minionych lat. \nReżyseria: Patryk Szwichtenberg\nInspicjentka: Izabella Wielgus \nObsada: Angelika Smyrgała\, Monika Wenta\, Piotr Hudziak\, Ireneusz Pastuszak\, Tomasz Piasecki\, Paweł Plewa\, Przemysław Płaczek\, Kamil Urban oraz gościnnie: Olga Łukasik i Anna Zachciał. \nCena biletu: 20 zł/os.\, grupa od 4 osób i więcej: 15zł/os.
URL:https://kultura.tarnow.pl/wydarzenie/czytanie-performatywne-zapolska-superstar-2/
LOCATION:Teatr im. L.Solskiego\, Mickiewicza 4\, Tarnów\, małopolskie\, 33-100\, Polska
CATEGORIES:spektakle
GEO:50.0159214;20.987504
X-APPLE-STRUCTURED-LOCATION;VALUE=URI;X-ADDRESS=Teatr im. L.Solskiego Mickiewicza 4 Tarnów małopolskie 33-100 Polska;X-APPLE-RADIUS=500;X-TITLE=Mickiewicza 4:geo:20.987504,50.0159214
END:VEVENT
END:VCALENDAR