BEGIN:VCALENDAR
VERSION:2.0
PRODID:-//kultura.tarnów - ECPv6.4.0.1//NONSGML v1.0//EN
CALSCALE:GREGORIAN
METHOD:PUBLISH
X-ORIGINAL-URL:https://kultura.tarnow.pl
X-WR-CALDESC:Wydarzenia dla
REFRESH-INTERVAL;VALUE=DURATION:PT1H
X-Robots-Tag:noindex
X-PUBLISHED-TTL:PT1H
BEGIN:VTIMEZONE
TZID:Europe/Warsaw
BEGIN:DAYLIGHT
TZOFFSETFROM:+0100
TZOFFSETTO:+0200
TZNAME:CEST
DTSTART:20240331T010000
END:DAYLIGHT
BEGIN:STANDARD
TZOFFSETFROM:+0200
TZOFFSETTO:+0100
TZNAME:CET
DTSTART:20241027T010000
END:STANDARD
END:VTIMEZONE
BEGIN:VEVENT
DTSTART;TZID=Europe/Warsaw:20240620T090000
DTEND;TZID=Europe/Warsaw:20240620T150000
DTSTAMP:20260423T120127
CREATED:20240605T081414Z
LAST-MODIFIED:20240605T081437Z
UID:10017204-1718874000-1718895600@kultura.tarnow.pl
SUMMARY:"Malarstwo\, rzeźba\, grafika. Z kolekcji Bogusława Kubisztala"
DESCRIPTION:Jest to kolejna wystawa z muzealnego cyklu „Tarnowscy Kolekcjonerzy”. \nWystawa prezentuje zbiory należące do Bogusława Kubisztala\, który od lat gromadzi przedmioty z różnych dziedzin sztuki. Jego zbiór\, obejmujący malarstwo\, rzeźbę i grafikę\, liczy obecnie 1000 obiektów i wciąż się powiększa. Prace\, które gromadzi wyróżniają się ciekawą formą\, bogatą kolorystyką i różnorodną tematyką. Kolekcjoner zwraca uwagę na warsztat twórców i wielką wrażliwość artystyczną. Jak sam mówi: „chciałby zarazić innych uwielbieniem do sztuki”. \nNa wystawie zaprezentowano obiekty z dziedziny malarstwa\, rzeźby i grafiki pochodzące z początku XX wieku do współczesności. Wśród nich znajdują się nazwiska z kanonu historii sztuki polskiej takie jak: Franciszek Starowieyski\, Wlastimil Hofman\, Wojciech Weiss\, Tadeusz Makowski\, Stanisław Szukalski\, a także współcześnie tworzący artyści: Piotr Jakubczak\, Tomasz Sętowski\, Monika Kwiecińska. W kolekcji znajdziemy również wyjątkowe przykłady grafik takich artystów jak: Pablo Picasso\, Salvador Dali czy Andy Warhol oraz miniaturową rzeźbę Igora Mitoraja. Właściciel kolekcji zdecydował się po raz pierwszy pokazać swoje zbiory w Muzeum Ziemi Tarnowskiej. \nWystawa realizowana w ramach projektu: „Muzea Domowe – ożywianie tożsamości w społecznościach lokalnych Małopolski” \nKuratorki wystawy: Anna Filar\, Manuela Stadnicka-Hoffman \nWystawa czynna od 18 czerwca do 26 lipca 2024 r.
URL:https://kultura.tarnow.pl/wydarzenie/malarstwo-rzezba-grafika-z-kolekcji-boguslawa-kubisztala-2/2024-06-20/
LOCATION:Siedziba Muzeum Ziemi Tarnowskiej\, Rynek 3\, Tarnów\, małopolskie\, 33-100
CATEGORIES:wystawy
ATTACH;FMTTYPE=image/jpeg:https://kultura.tarnow.pl/wp-content/uploads/IMG_5982-m.jpg
GEO:50.0122989;20.9877958
X-APPLE-STRUCTURED-LOCATION;VALUE=URI;X-ADDRESS=Siedziba Muzeum Ziemi Tarnowskiej Rynek 3 Tarnów małopolskie 33-100;X-APPLE-RADIUS=500;X-TITLE=Rynek 3:geo:20.9877958,50.0122989
END:VEVENT
BEGIN:VEVENT
DTSTART;TZID=Europe/Warsaw:20240620T100000
DTEND;TZID=Europe/Warsaw:20240620T160000
DTSTAMP:20260423T120127
CREATED:20240607T103451Z
LAST-MODIFIED:20240607T103451Z
UID:10017244-1718877600-1718899200@kultura.tarnow.pl
SUMMARY:Elżbieta Remian "Wibracje"
DESCRIPTION:Zapraszamy do naszej galerii ARTEKA na Wałową 16 w Tarnowie na wernisaż wystawy malarstwa Elżbiety Remian-“WIBRACJE”.\nWernisaż odbędzie się 07.06.2024 r. o godz.18.00.\nZarówno przed jak i po wernisażu zapraszamy na koncert duetu Thomas Celis Sanches i Wassim Ibrahim\, muzyków pochodzących z Meksyku i Syrii\, a koncert będzie miał tytuł – “Pieśni Lewantu”.
URL:https://kultura.tarnow.pl/wydarzenie/elzbieta-remian-wibracje-2/2024-06-20/
LOCATION:Galeria ARTEKA\, Wałowa 16\, Tarnów\, 33-100
CATEGORIES:wystawy
ATTACH;FMTTYPE=image/jpeg:https://kultura.tarnow.pl/wp-content/uploads/445811612_3976228749327486_8485445081643210379_n.jpg
ORGANIZER;CN="Stowarzyszenie Tarnowskich Artyst%C3%B3w Plastyk%C3%B3w":MAILTO:stowarzyszenie.arteka@gmail.com
END:VEVENT
BEGIN:VEVENT
DTSTART;TZID=Europe/Warsaw:20240620T100000
DTEND;TZID=Europe/Warsaw:20240620T170000
DTSTAMP:20260423T120127
CREATED:20240604T065221Z
LAST-MODIFIED:20240604T065221Z
UID:10017193-1718877600-1718902800@kultura.tarnow.pl
SUMMARY:"Żyj roślinniej!" Wystawa ulepów i badyli
DESCRIPTION:Z okazji Światowego Dnia Ochrony Środowiska prezentujemy wystawę\, na której można zobaczyć innowacyjne produkty wykonane z re-granulatu od Potsi oraz kompozycje roślinne od Moje Badyle. Celem wystawy jest zwrócenie uwagi na konieczność recyklingu i ochrony środowiska poprzez promowanie zrównoważonych i ekologicznych rozwiązań. \nProdukty z re-granulatu to doskonały przykład\, jak z odpadów plastikowych można tworzyć funkcjonalne przedmioty. Re-granulat\, powstający w procesie recyklingu tworzyw sztucznych\, umożliwia produkcję wielu różnych artykułów\, od przedmiotów codziennego użytku po elementy wyposażenia wnętrz. Dodatkowo\, na wystawie pojawią się aranżacje roślinne – przypominające o potrzebie dbania o przyrodę\, stanowiąc inspirację do tworzenia zielonych przestrzeni w naszych domach i miejscach pracy\, co pozytywnie wpływa na nasze zdrowie i samopoczucie. \nŻyj roślinniej – tytuł wystawy zaczerpnięty z książki Arety Szpury „Jak uratować świat?” \nAnna Korus – założycielka firmy Moje Badyle. Swoją największą pasję\, jaką są rośliny przeniosła na biznes. Swoimi prywatnymi roślinami zaczęła wymieniać się z innymi pasjonatami. W 2020 roku w dobie pandemii w Krakowie narodził się pomysł otworzenia sklepu internetowego z roślinami domowymi. Badyle zaczęły być wysyłane w paczkach na terenie całego kraju. W związku z coraz większym zainteresowaniem roślinami już w 2022 roku zdecydowała się wrócić do Tarnowa skąd pochodzi\, otwierając się na klientów stacjonarnych. Sklep zaczęły wypełniać osoby kochające zieleń a samo miejsce zyskało niesamowitą energię ludzi o takiej samej pasji. Moje badyle udowodniają\, że wspaniale jest wrócić do natury i wypełnić nią swoje zacisze domowe. Swoją zieloną pasją i wiedzą często dzieli się na roślinnych wydarzeniach organizowanych w Tarnowie oraz pomaga zazielenić tarnowskie firmy. \nMarcin Sak – założyciel marki Potsi\, wykorzystuje swoje edukacyjne tło z fotografii i produkcji filmowej oraz telewizyjnej. Jego zamiłowanie do sztuki audiowizualnej przeobraziło się w chęć tworzenia funkcjonalnych przedmiotów\, które łączą fantazyjne połączenie barw zatopionych w recyklingowanym plastiku. Dzięki innowacyjnemu podejściu i wykorzystaniu autorskiej maszyny tworzy unikatowe doniczki z recyklingowanego plastiku. Z sukcesem przekształca fascynację tego typu tworzywa w innowacyjną produkcję\, oferując produkty promujące zrównoważony rozwój. Działania Marcina skupiają się na jakości\, unikalności wzorów i szerokiej dostępności jego doniczek\, które są świadectwem możliwości połączenia sztuki użytkowej z odpowiedzialnością środowiskową. Swoim zaangażowaniem w tworzenie nowych form daje sobie przestrzeń na wyraz artystycznej ekspresji i ciągłe poszerzanie granic kreatywności. \nNiedziela 16.06\, g.12:00-16:00 – wymiana roślin na placu MCA. Każdy może przynieść swoje rośliny\, sadzonki\, szczepki czy pędy do ukorzenienia. Dajmy im szansę na drugie życie! \nOprawa graficzna wystawy: Natalia Sikorska \nWystawa czynna: poniedziałek\, środa\, czwartek 10:00-17:00\, niedziela: 10:00-17:00\, wstęp wolny.
URL:https://kultura.tarnow.pl/wydarzenie/zyj-roslinniej-wystawa-ulepow-i-badyli-2/2024-06-20/
LOCATION:Multimedialne Centrum Artystyczne\, Wałowa 25\, Tarnów\, małopolskie\, 33-100\, Polska
CATEGORIES:wystawy
ORGANIZER;CN="Biuro Wystaw Artystycznych":MAILTO:biuro@bwa.tarnow.pl
GEO:50.013866931068;20.987989998201
X-APPLE-STRUCTURED-LOCATION;VALUE=URI;X-ADDRESS=Multimedialne Centrum Artystyczne Wałowa 25 Tarnów małopolskie 33-100 Polska;X-APPLE-RADIUS=500;X-TITLE=Wałowa 25:geo:20.987989998201,50.013866931068
END:VEVENT
BEGIN:VEVENT
DTSTART;TZID=Europe/Warsaw:20240620T150000
DTEND;TZID=Europe/Warsaw:20240620T200000
DTSTAMP:20260423T120127
CREATED:20240422T135153Z
LAST-MODIFIED:20240520T135409Z
UID:10015878-1718895600-1718913600@kultura.tarnow.pl
SUMMARY:"Świat zmysłów" - wystawa interaktywna
DESCRIPTION:Zapraszamy na wyjątkową wystawę interaktywną „Świat zmysłów”\, która otwiera przed zwiedzającymi drzwi do fascynującego świata ludzkich zmysłów. Przez prawie dwa miesiące odwiedzający mają niepowtarzalną okazję do osobistego zgłębiania tajników wzroku\, słuchu\, dotyku i zapachu poprzez bezpośrednią interakcję i doświadczanie. \nWystawa podzielona jest na trzy części\, każda z nich zaprojektowana\, by odkryć przed nami inne aspekty naszych zmysłów: \n\nReceptory: Poznajemy budowę i funkcje narządów zmysłów\, eksplorując ich kluczowe cechy.\nMono czy Stereo?: Zastanawiamy się\, jaką rolę odgrywa posiadanie pary oczu\, uszu\, czy rąk w postrzeganiu świata i jak różniłoby się nasze doświadczanie bez tej podwójności.\nIluzje: Odkrywamy\, jak nasze zmysły mogą nas wprowadzać w błąd\, ale również jak możemy manipulować zmysłami innych.\n\nKażda sekcja wystawy charakteryzuje się unikalną aranżacją kolorystyczną\, tworząc różnorodne tło dla eksperymentów. \nDlaczego warto odwiedzić? \nWystawa „Świat zmysłów” zapewnia unikalne doświadczenie dzięki 34 stanowiskom doświadczalnym\, które zachęcają do aktywnego uczestnictwa. Jest to zarówno źródło niezwykłej zabawy\, jak i głębokiej edukacji\, pozwalającej zrozumieć nie tylko otaczający nas świat\, ale i samych siebie. \nZapisy dla grup zorganizowanych: Dział Edukacji – tel. 14 633 46 11\n \nZwiedzanie indywidualne: poniedziałek – niedziela\, w godzinach 15:00 – 20:00 \nGrupy zorganizowane\, klasy szkolne: poniedziałek – piątek\, 9:00\, 10:00\, 11:00\, 12:00\, 13:00 (zwiedzanie trwa 45 min.) \nPartner wystawy: Uniwersytet Jagielloński w Krakowie \n 
URL:https://kultura.tarnow.pl/wydarzenie/swiat-zmyslow-wystawa-interaktywna/2024-06-20/
LOCATION:Centrum Sztuki Mościce\, Traugutta 1\, Tarnów\, małopolskie\, 33-101\, Polska
CATEGORIES:wystawy
ATTACH;FMTTYPE=image/jpeg:https://kultura.tarnow.pl/wp-content/uploads/img_c8bb757a3bfcb33b7fd02d7cdbd2e38f-1024x1024-1.jpeg
GEO:50.009833;20.92706
X-APPLE-STRUCTURED-LOCATION;VALUE=URI;X-ADDRESS=Centrum Sztuki Mościce Traugutta 1 Tarnów małopolskie 33-101 Polska;X-APPLE-RADIUS=500;X-TITLE=Traugutta 1:geo:20.92706,50.009833
END:VEVENT
BEGIN:VEVENT
DTSTART;TZID=Europe/Warsaw:20240620T190000
DTEND;TZID=Europe/Warsaw:20240620T213000
DTSTAMP:20260423T120127
CREATED:20240607T112438Z
LAST-MODIFIED:20240607T112438Z
UID:10017250-1718910000-1718919000@kultura.tarnow.pl
SUMMARY:Koncert S.M. Rock
DESCRIPTION:Przygotujcie się na niezapomniany wieczór pełen różnorodnych brzmień i gatunków muzycznych\, od rocka po pop i bluesa. Młodzi muzycy wykonają utwory takich artystów jak Amy Winehouse\, U2\, Paramore\, Harry Styles\, Ed Sheeran\, Kayah\, Ewa Farna\, Natalia Nykiel\, Sanah i wielu innych.\n\nNa scenie wystąpią uczniowie i nauczyciele Szkoły Muzyków Rockowych. W skład kadry nauczycielskiej wchodzą: Agnieszka Nazimek\, Weronika Kukla\, Sławomir Ramian (wokal)\, Łukasz Wełna (gitara)\, Piotr Niedojadło (instrumenty klawiszowe)\, Grzegorz Nosek (gitara basowa)\, Sebastian Mnich (perkusja).\nNa scenie pojawią się również zespoły założone przez uczniów S.M.Rock: Red Minds\, A Bit Big Boys oraz Ania Stasiczak.\n\nSzkoła Muzyków Rockowych\, działająca przy Tarnowskim Centrum Kultury\, to miejsce\, gdzie można nauczyć się śpiewu i gry na instrumentach\, rozwijając przy tym kreatywność i wyrażając siebie przez muzykę. Z zajęć korzysta obecnie około 70 osób\, które mają możliwość występowania przed publicznością i prezentowania efektów swojej pracy. Koncerty stanowią praktyczny aspekt nauki\, dostarczając uczniom nie tylko satysfakcji\, ale i cennego doświadczenia oraz pewności siebie. Szkoła oferuje szeroki zakres gatunków muzycznych\, dostosowanych do indywidualnych preferencji uczniów\, od hard rocka\, przez metal\, punk\, indie\, po inne style muzyczne.
URL:https://kultura.tarnow.pl/wydarzenie/koncert-s-m-rock/
LOCATION:Amfiteatr Letni\, ul. Kopernika 4\, Tarnów\, małopolskie\, 33-100\, Polska
CATEGORIES:koncerty
ATTACH;FMTTYPE=image/jpeg:https://kultura.tarnow.pl/wp-content/uploads/447634257_980649040728057_2945507345970362525_n.jpg
GEO:50.013519;20.984475
X-APPLE-STRUCTURED-LOCATION;VALUE=URI;X-ADDRESS=Amfiteatr Letni ul. Kopernika 4 Tarnów małopolskie 33-100 Polska;X-APPLE-RADIUS=500;X-TITLE=ul. Kopernika 4:geo:20.984475,50.013519
END:VEVENT
END:VCALENDAR