BEGIN:VCALENDAR
VERSION:2.0
PRODID:-//kultura.tarnów - ECPv6.4.0.1//NONSGML v1.0//EN
CALSCALE:GREGORIAN
METHOD:PUBLISH
X-WR-CALNAME:kultura.tarnów
X-ORIGINAL-URL:https://kultura.tarnow.pl
X-WR-CALDESC:Wydarzenia dla
REFRESH-INTERVAL;VALUE=DURATION:PT1H
X-Robots-Tag:noindex
X-PUBLISHED-TTL:PT1H
BEGIN:VTIMEZONE
TZID:Europe/Warsaw
BEGIN:DAYLIGHT
TZOFFSETFROM:+0100
TZOFFSETTO:+0200
TZNAME:CEST
DTSTART:20240331T010000
END:DAYLIGHT
BEGIN:STANDARD
TZOFFSETFROM:+0200
TZOFFSETTO:+0100
TZNAME:CET
DTSTART:20241027T010000
END:STANDARD
END:VTIMEZONE
BEGIN:VEVENT
DTSTART;TZID=Europe/Warsaw:20240618T090000
DTEND;TZID=Europe/Warsaw:20240618T150000
DTSTAMP:20260423T065200
CREATED:20240605T081414Z
LAST-MODIFIED:20240605T081437Z
UID:10017202-1718701200-1718722800@kultura.tarnow.pl
SUMMARY:"Malarstwo\, rzeźba\, grafika. Z kolekcji Bogusława Kubisztala"
DESCRIPTION:Jest to kolejna wystawa z muzealnego cyklu „Tarnowscy Kolekcjonerzy”. \nWystawa prezentuje zbiory należące do Bogusława Kubisztala\, który od lat gromadzi przedmioty z różnych dziedzin sztuki. Jego zbiór\, obejmujący malarstwo\, rzeźbę i grafikę\, liczy obecnie 1000 obiektów i wciąż się powiększa. Prace\, które gromadzi wyróżniają się ciekawą formą\, bogatą kolorystyką i różnorodną tematyką. Kolekcjoner zwraca uwagę na warsztat twórców i wielką wrażliwość artystyczną. Jak sam mówi: „chciałby zarazić innych uwielbieniem do sztuki”. \nNa wystawie zaprezentowano obiekty z dziedziny malarstwa\, rzeźby i grafiki pochodzące z początku XX wieku do współczesności. Wśród nich znajdują się nazwiska z kanonu historii sztuki polskiej takie jak: Franciszek Starowieyski\, Wlastimil Hofman\, Wojciech Weiss\, Tadeusz Makowski\, Stanisław Szukalski\, a także współcześnie tworzący artyści: Piotr Jakubczak\, Tomasz Sętowski\, Monika Kwiecińska. W kolekcji znajdziemy również wyjątkowe przykłady grafik takich artystów jak: Pablo Picasso\, Salvador Dali czy Andy Warhol oraz miniaturową rzeźbę Igora Mitoraja. Właściciel kolekcji zdecydował się po raz pierwszy pokazać swoje zbiory w Muzeum Ziemi Tarnowskiej. \nWystawa realizowana w ramach projektu: „Muzea Domowe – ożywianie tożsamości w społecznościach lokalnych Małopolski” \nKuratorki wystawy: Anna Filar\, Manuela Stadnicka-Hoffman \nWystawa czynna od 18 czerwca do 26 lipca 2024 r.
URL:https://kultura.tarnow.pl/wydarzenie/malarstwo-rzezba-grafika-z-kolekcji-boguslawa-kubisztala-2/2024-06-18/
LOCATION:Siedziba Muzeum Ziemi Tarnowskiej\, Rynek 3\, Tarnów\, małopolskie\, 33-100
CATEGORIES:wystawy
ATTACH;FMTTYPE=image/jpeg:https://kultura.tarnow.pl/wp-content/uploads/IMG_5982-m.jpg
GEO:50.0122989;20.9877958
X-APPLE-STRUCTURED-LOCATION;VALUE=URI;X-ADDRESS=Siedziba Muzeum Ziemi Tarnowskiej Rynek 3 Tarnów małopolskie 33-100;X-APPLE-RADIUS=500;X-TITLE=Rynek 3:geo:20.9877958,50.0122989
END:VEVENT
BEGIN:VEVENT
DTSTART;TZID=Europe/Warsaw:20240618T150000
DTEND;TZID=Europe/Warsaw:20240618T200000
DTSTAMP:20260423T065200
CREATED:20240422T135153Z
LAST-MODIFIED:20240520T135409Z
UID:10015876-1718722800-1718740800@kultura.tarnow.pl
SUMMARY:"Świat zmysłów" - wystawa interaktywna
DESCRIPTION:Zapraszamy na wyjątkową wystawę interaktywną „Świat zmysłów”\, która otwiera przed zwiedzającymi drzwi do fascynującego świata ludzkich zmysłów. Przez prawie dwa miesiące odwiedzający mają niepowtarzalną okazję do osobistego zgłębiania tajników wzroku\, słuchu\, dotyku i zapachu poprzez bezpośrednią interakcję i doświadczanie. \nWystawa podzielona jest na trzy części\, każda z nich zaprojektowana\, by odkryć przed nami inne aspekty naszych zmysłów: \n\nReceptory: Poznajemy budowę i funkcje narządów zmysłów\, eksplorując ich kluczowe cechy.\nMono czy Stereo?: Zastanawiamy się\, jaką rolę odgrywa posiadanie pary oczu\, uszu\, czy rąk w postrzeganiu świata i jak różniłoby się nasze doświadczanie bez tej podwójności.\nIluzje: Odkrywamy\, jak nasze zmysły mogą nas wprowadzać w błąd\, ale również jak możemy manipulować zmysłami innych.\n\nKażda sekcja wystawy charakteryzuje się unikalną aranżacją kolorystyczną\, tworząc różnorodne tło dla eksperymentów. \nDlaczego warto odwiedzić? \nWystawa „Świat zmysłów” zapewnia unikalne doświadczenie dzięki 34 stanowiskom doświadczalnym\, które zachęcają do aktywnego uczestnictwa. Jest to zarówno źródło niezwykłej zabawy\, jak i głębokiej edukacji\, pozwalającej zrozumieć nie tylko otaczający nas świat\, ale i samych siebie. \nZapisy dla grup zorganizowanych: Dział Edukacji – tel. 14 633 46 11\n \nZwiedzanie indywidualne: poniedziałek – niedziela\, w godzinach 15:00 – 20:00 \nGrupy zorganizowane\, klasy szkolne: poniedziałek – piątek\, 9:00\, 10:00\, 11:00\, 12:00\, 13:00 (zwiedzanie trwa 45 min.) \nPartner wystawy: Uniwersytet Jagielloński w Krakowie \n 
URL:https://kultura.tarnow.pl/wydarzenie/swiat-zmyslow-wystawa-interaktywna/2024-06-18/
LOCATION:Centrum Sztuki Mościce\, Traugutta 1\, Tarnów\, małopolskie\, 33-101\, Polska
CATEGORIES:wystawy
ATTACH;FMTTYPE=image/jpeg:https://kultura.tarnow.pl/wp-content/uploads/img_c8bb757a3bfcb33b7fd02d7cdbd2e38f-1024x1024-1.jpeg
GEO:50.009833;20.92706
X-APPLE-STRUCTURED-LOCATION;VALUE=URI;X-ADDRESS=Centrum Sztuki Mościce Traugutta 1 Tarnów małopolskie 33-101 Polska;X-APPLE-RADIUS=500;X-TITLE=Traugutta 1:geo:20.92706,50.009833
END:VEVENT
BEGIN:VEVENT
DTSTART;TZID=Europe/Warsaw:20240618T180000
DTEND;TZID=Europe/Warsaw:20240618T190000
DTSTAMP:20260423T065200
CREATED:20240614T103907Z
LAST-MODIFIED:20240614T103907Z
UID:10017579-1718733600-1718737200@kultura.tarnow.pl
SUMMARY:"Lekcja Anatomii - rekonfiguracja"
DESCRIPTION:Teatralna produkcja Cricoteki \n„Lekcja anatomii – rekonfiguracja” to teatralna produkcja Cricoteki\, która jest wspólnym projektem Agaty Skwarczyńskiej i grupy osób z różnymi potrzebami. Projekt powstał w zeszłym roku. Praca nad nim jest ciągłym procesem\, dla którego inspirację i punkt odniesienia stanowi obraz Rembrandta „Lekcja anatomii doktora Tulpa” oraz happening Tadeusza Kantora „Lekcja anatomii wedle Rembrandta”.  \nCelem jest rekonfiguracja – przesunięcie gestów i sensów pierwowzorów. Premiera odbyła się 24 września 2023 roku podczas inauguracji Festiwalu Kultury Wrażliwej. \nKoncept i inscenizacja: Agata Skwarczyńska\nWykonawcy: Amelia Blus\, Julia Karaś\, Władysław Kita\, Anna Komorek\, Magdalena Mrzygłocka\, Maciej Rams\, Agnieszka Sito\, Klaudia Surman\, Maciej Trybus\, Dorota Wach\nKonsultacja dramaturgiczna: Monika Świerkosz\nKażdemu z pokazów będzie towarzyszyła rozmowa z artystami. \nWtorek\, 18.06\, g. 18:00\nBWA Tarnów / Pałacyk Strzelecki\, Słowackiego 1\nWydarzenie bezpłatne. Obowiązują bilety*\nCzas spektaklu około 45 minut.\nOrganizator: Cricoteka\n \n*Darmowe wejściówki do odebrania w BWA w Tarnowie w godzinach pracy galerii (Pałacyk Strzelecki / główna siedziba ul. Słowackiego 1). 
URL:https://kultura.tarnow.pl/wydarzenie/lekcja-anatomii-rekonfiguracja/
LOCATION:Biuro Wystaw Artystycznych\, ul. Słowackiego 1\, Tarnów\, małopolskie\, 33-100\, Polska
CATEGORIES:spektakle
ORGANIZER;CN="Biuro Wystaw Artystycznych":MAILTO:biuro@bwa.tarnow.pl
GEO:50.0178761;20.9827521
X-APPLE-STRUCTURED-LOCATION;VALUE=URI;X-ADDRESS=Biuro Wystaw Artystycznych ul. Słowackiego 1 Tarnów małopolskie 33-100 Polska;X-APPLE-RADIUS=500;X-TITLE=ul. Słowackiego 1:geo:20.9827521,50.0178761
END:VEVENT
END:VCALENDAR