BEGIN:VCALENDAR
VERSION:2.0
PRODID:-//kultura.tarnów - ECPv6.4.0.1//NONSGML v1.0//EN
CALSCALE:GREGORIAN
METHOD:PUBLISH
X-ORIGINAL-URL:https://kultura.tarnow.pl
X-WR-CALDESC:Wydarzenia dla
REFRESH-INTERVAL;VALUE=DURATION:PT1H
X-Robots-Tag:noindex
X-PUBLISHED-TTL:PT1H
BEGIN:VTIMEZONE
TZID:Europe/Warsaw
BEGIN:DAYLIGHT
TZOFFSETFROM:+0100
TZOFFSETTO:+0200
TZNAME:CEST
DTSTART:20240331T010000
END:DAYLIGHT
BEGIN:STANDARD
TZOFFSETFROM:+0200
TZOFFSETTO:+0100
TZNAME:CET
DTSTART:20241027T010000
END:STANDARD
END:VTIMEZONE
BEGIN:VEVENT
DTSTART;TZID=Europe/Warsaw:20240607T090000
DTEND;TZID=Europe/Warsaw:20240607T150000
DTSTAMP:20260424T211621
CREATED:20240512T231449Z
LAST-MODIFIED:20240520T231645Z
UID:10015969-1717750800-1717772400@kultura.tarnow.pl
SUMMARY:„Albrecht Dürer – grafiki”
DESCRIPTION:Albrecht Dürer (1471-1528)\, uważany jest na jednego z największych niemieckich malarzy\, grafików i rysowników. W kolekcji grafiki pochodzącej z pałacu książąt Sanguszków w Gumniskach (od 1945 roku w Muzeum Ziemi Tarnowskiej)\, przechowywanych jest kilkanaście rycin jego autorstwa. Są to drzeworyty z serii: „Wielka Pasja” z 1510 roku – 2 sztuki („Chrystus w otchłani”\, „Złożenie do grobu”) i „Mała Pasja” (1509-1511) – 4 sztuki („Chrystus opuszczający Matkę”\, „Ostatnia Wieczerza”\, „Zmartwychwstanie” oraz „Zesłanie Ducha Świętego”). Kolejne cykle reprezentuje w zbiorze 5 rycin z serii „Żywot Marii” \, a także pojedyncze sztychy „Św. Hieronim” i „Św. Rodzina”\, obydwa z 1511 roku. Prace artysty są sygnowane monogramem „AD”. Pierwotnie znajdowały się w pałacu w Sławucie\, należącym do ordynata zasławskiego Romana Damiana Sanguszki (1832-1917). Książe systematycznie\, od lat 60. XIX wieku\, tworzył swoją kolekcję\, głównie drogą zakupów antykwarycznych. Jego zbiór opatrzony okrągłą pieczęcią z napisem: „Biblioteka Romana Sanguszki”\, znacznie ucierpiał w czasie I i II wojny światowej. Znajdują się w nim grafiki ze szkoły niemieckiej\, niderlandzkiej\, włoskiej i angielskiej\, a także francuskiej\, z okresu od XVI do XVIII wieku. Wśród nich są także prace naśladowców Dürera wykonane w technice akwaforty\, współczesnych mu grafików\, m.in. Hieronymusa Hopfera: „Św. Hubert” i „Wielka armata”. Jak również działającego w Antwerpii Johannesa Wierixa „Św. Hieronim w celi” i „Adoracja Dzieciątka w stajence”. \nZe względu na charakter obiektów oraz ich stan zachowania prezentacja prac A. Dürera będzie ograniczona czasowo. Znaczące obostrzenia konserwatorskie\, pozwalają na eksponowanie ich tylko do 9 czerwca br. Wystawę będzie można zobaczyć w trakcie trwania tegorocznej Nocy Muzeów. Serdecznie Państwa zapraszamy! \nponiedziałek nieczynne\nwtorek 9.00 – 15.00\nśroda 9.00 – 15.00\nczwartek 9.00 – 15.00\npiątek 9.00 – 17.00\nsobota 10.00 – 15.00 (od 1 maja do 30 września); nieczynne (od 1 października do 30 kwietnia)\nniedziela 10.00 – 15.00 (od 1 maja do 30 września); 10.00 – 14.00 (od 1 października do 30 kwietnia) \nKuratorka wystawy: Barbara Bułdys \nWystawa czynna: 17 maja – 9 czerwca 2024 r.
URL:https://kultura.tarnow.pl/wydarzenie/albrecht-durer-grafiki/2024-06-07/
LOCATION:Muzeum Historii Tarnowa i Regionu\, Rynek 20-21\, Tarnów\, małopolskie\, 33-100\, Polska
CATEGORIES:wystawy
ATTACH;FMTTYPE=image/png:https://kultura.tarnow.pl/wp-content/uploads/baner-DURER-1-1.png
GEO:50.01295;20.9883
X-APPLE-STRUCTURED-LOCATION;VALUE=URI;X-ADDRESS=Muzeum Historii Tarnowa i Regionu Rynek 20-21 Tarnów małopolskie 33-100 Polska;X-APPLE-RADIUS=500;X-TITLE=Rynek 20-21:geo:20.9883,50.01295
END:VEVENT
BEGIN:VEVENT
DTSTART;TZID=Europe/Warsaw:20240607T100000
DTEND;TZID=Europe/Warsaw:20240607T113000
DTSTAMP:20260424T211621
CREATED:20240421T130222Z
LAST-MODIFIED:20240528T101733Z
UID:10016731-1717754400-1717759800@kultura.tarnow.pl
SUMMARY:OSKAR I PANI RÓŻA - Eric-Emmanuel Schmitt
DESCRIPTION:6 czerwca (czwartek) godz. 9.00 i 11.30 oraz 7 czerwca (piątek) godz. 10.00 Mała Scena \nDziesięcioletniego Oskara czeka bardzo intensywny czas. Nadchodzące dni będą pełne wrażeń i nowych doświadczeń\, o których chłopiec opowie nagrywając videobloga. Na początek pozna smak pierwszej miłości i prawdziwej przyjaźni\, później zrozumie z jaką odpowiedzialnością wiąże się założenie rodziny\, doświadczy goryczy rozstania i radości z pojednania. Choć nie będzie łatwo\, nauczy się wybaczać i nabierze zrozumienia dla dorosłych i ich problemów. W końcu dowie się z iloma trudnościami trzeba mierzyć się w dojrzałym wieku. Te wszystkie doświadczenia pozwolą mu cieszyć się drobiazgami i doceniać to\, co przynosi los. Przekona się\, że sto lat życia może upłynąć zaskakująco szybko\, więc trzeba przeżyć je z całych sił. Przez te wszystkie dni chłopcu towarzyszyć będzie Pani Róża\, która zachwyci go opowieściami o swojej niezwykłej przeszłości. Pełna serdeczności\, fantazji i optymizmu starsza pani dla Oskara stanie się nieustraszoną „Dusicielką z Langwedocji”\, namówi chłopca do rzeczy niemożliwych\, pomoże mu zaprzyjaźnić się z Panem Bogiem i znaleźć w sobie odwagę\, której brakuje niejednemu dorosłemu. \nSpektakl na podstawie bestsellerowej książki Erica – Emmanuela Schmitta jest piękną i pełną nadziei opowieścią o wartości życia\, miłości\, odwadze\, sile wyobraźni i zgodzie na to\, co nieuniknione. \nAutor: Eric-Emmanuel Schmitt\nTłumaczenie: Barbara Grzegorzewska\nAdaptacja i reżyseria: Mateusz Olszewski\nScenografia i kostiumy: Joanna Walisiak-Jankowska\nMuzyka: Zuzanna Falkowska\nChoreografia: Agnieszka Janicka\nAnimacje: Jakub Dudek\nProjekcje: Maciej Rybski\nAsystent reżysera: Filip Kowalczyk\nInspicjentka\, suflerka: Aleksandra Stach \n 
URL:https://kultura.tarnow.pl/wydarzenie/oskar-i-pani-roza-eric-emmanuel-schmitt/2024-06-07/
LOCATION:Teatr im. L.Solskiego\, Mickiewicza 4\, Tarnów\, małopolskie\, 33-100\, Polska
CATEGORIES:spektakle
ATTACH;FMTTYPE=image/png:https://kultura.tarnow.pl/wp-content/uploads/TARNOW-OSKAR-POZIOM-1-1.png
GEO:50.0159214;20.987504
X-APPLE-STRUCTURED-LOCATION;VALUE=URI;X-ADDRESS=Teatr im. L.Solskiego Mickiewicza 4 Tarnów małopolskie 33-100 Polska;X-APPLE-RADIUS=500;X-TITLE=Mickiewicza 4:geo:20.987504,50.0159214
END:VEVENT
BEGIN:VEVENT
DTSTART;TZID=Europe/Warsaw:20240607T100000
DTEND;TZID=Europe/Warsaw:20240607T220000
DTSTAMP:20260424T211621
CREATED:20240220T233822Z
LAST-MODIFIED:20240520T224027Z
UID:10015940-1717754400-1717797600@kultura.tarnow.pl
SUMMARY:38. Tarnowskia Nagroda Filmowa
DESCRIPTION:Tarnów ponownie stanie się stolicą polskiej kinematografii! Zbliża się 38. Tarnowska Nagroda Filmowa – Festiwal Polskich Filmów Pełnometrażowych. \nFestiwal rozpocznie się 31 maja i potrwa do 8 czerwca 2024 r. Projekcje konkursowe\, pokazy specjalne oraz cykl Filmy Młodego Widza będą prezentowane w jednym z najstarszych działających kin w Polsce – Marzeniu. W Konkursie Głównym – filmów pełnometrażowych – reżyserzy ubiegają się o nagrody: Grand Prix „Maszkaron”\, Nagrodę Publiczności „Publika” i Jury Młodzieżowego „Kamerzysta”. Drugim konkursem Festiwalu jest konkurs bajek prezentowany w przeglądzie „Filmy Młodego Widza” – Jury Dziecięce nagrodzi Statuetką „Maszkaronka” producenta najlepszej animacji. \nKto w tym roku ma szansę na statuetkę „Maszkarona”? O najważniejsze laury Festiwalu powalczy 12 polskich produkcji\, wśród których znalazło się miejsce zarówno dla filmów fabularnych\, jak i dokumentów\, w tym kilku debiutów reżyserskich. Będą to: „Biała odwaga”\, „Chłopi”\, „Doppelganger. Sobowtór”\, „Horror story”\, „Imago”\, „Kobieta z…”\, „Kos”\, „Skąd dokąd”\, „Tyle co nic”\, „Tylko dzień i noc”\, „Ukryta sieć” oraz „Zielona granica”. \nPracom Jury profesjonalnego będzie przewodniczył znakomity dokumentalista Paweł Łoziński\, a skład uzupełnią przedstawiciele filmowych profesji – Weronika Bilska (operatorka)\, Julia Kijowska (aktorka)\, Marta Kownacka (reżyserka castingu)\, Tomasz Kolankiewicz (filmoznawca) oraz Mariusz Włodarski (producent). Werdykt poznamy podczas Gali Wręczenia Nagród 8 czerwca w tarnowskim kinie Marzenie. Finał zwieńczy koncert muzyki filmowej w wykonaniu Royal String Quartet. \nObrady Jury Profesjonalnego oraz dwóch pozostałych gremiów jurorskich dopiero w czerwcu\, jednak znamy już pierwszą Laureatkę. Decyzją kapituły Festiwalu Nagrodą za całokształt twórczości i wkład w polską kinematografię zostanie uhonorowana wybitna postać rodzimego kina – Krystyna Janda. Nagroda zostanie wręczona podczas wydarzenia specjalnego – spektaklu „My Way” w reżyserii Laureatki. \nTo jednak niejedyne wydarzenie towarzyszące Festiwalu.  Program wzbogacą koncerty\, wystawy plakatu\, fotografii oraz sztuki ulicznej\, warsztaty z zakresu edukacji filmowej\, ale przede wszystkim projekcje specjalne filmów krótkometrażowych i wideoklipów oraz spotkania z twórcami. Pełny program 38. Tarnowskiej Nagrody Filmowej jest dostępny na stronie www.tarnowskanagrodafilmowa.pl. Zapraszamy na wielkie święto polskiego kina w Tarnowie. \n38. Tarnowska Nagroda Filmowa Festiwal Polskich Filmów Pełnometrażowych \nProgram ramowy \nFilmy konkursowe (12): \n„Biała odwaga”\, reż. Marcin Koszałka\n„Chłopi”\, reż. DK & Hugh Welchman\n„Sobowtór”\, reż. Jan Holoubek\n„Horror story”\, reż. Adrian Apanel\n„Imago”\, reż. Olga Chajdas\n„Kobieta z…”\, reż. Małgorzata Szumowska\, Michał Englert\n„Kos”\, reż. Paweł Maślona\n„Skąd dokąd”\, reż. Maciej Hamela\n„Tyle co nic”\, reż. Grzegorz Dębowski\n„Tylko dzień i noc”\, reż. Grzegorz Brzozowski\n„Ukryta sieć”\, reż. Piotr Adamski\n„Zielona granica”\, reż. Agnieszka Holland \nProjekcje specjalne – krótkie metraże \n„As it was”\, reż. Anastasiia Solonevych\, Damian Kocur\n„Być kimś”\, reż. Michał Toczek\n„Misie polarne”\, reż. Bartosz Stankiewicz\n„Moje stare”\, reż. Natasza Parzymies\n„Piękna łąka kwietna”\, reż. Emi Buchwald\n„Sprzedawca”\, reż. Patryk Kaflowski\n„Te cholerne peonie”\, reż. Polina Biliaieva\n„Warszawa\, Holandia”\, reż. Chiang Ming-Wei \nProjekcje specjalne \n„Jeszcze krótsze metraże” – pokaz wideoklipów (prowadzenie: Hirek Wrona) \nFilmy Młodego Widza – Konkurs \nKonkurs bajek – projekcje specjalne \n„Jestem w sam raz”\, reż. Marcin Wasilewski\n„Kicia Kocia w Przedszkolu”\, reż. Anita Głowińska\n„Za duży na bajki 2”\, reż. Kristoffer Rus \nEpilog \nPokaz filmów Laureatów 38. TNF \nPodsumowanie Festiwalu. \nProjekcja specjalna oraz spotkanie z Dianą Dąbrowską \nKoncerty: \nTomek Ziętek\nRoyal String Quartet (Gala Wręczenia Nagród) \nSpektakle: \n„My Way” Monolog Krystyny Jandy\n„Stramerowie”\, reż. Tomasz Cyz\n„Dzień dziecka: O świerszczu Maurycym i bandzie komara” (Teatr Za jeden uśmiech) \nWystawy: \n„© Plakiat. Wystawa wybranych plakatów artystycznych vol. 2” (Maks Bereski) – BWA Tarnów (31.05-16.06.2024)\n„Nie mogę na to patrzeć. Inka Rosocha” – Galeria TCK (25.05-806.2024)\n„Filmowa wystawa uliczna” (szczegóły wkrótce) \nWarsztaty \nWarsztaty aktorskie „Tu i teraz” (prowadzenie Dagmara Brodziak i Michał Krzywicki) \nKino plenerowe \n1 seans pod Gemini Park Tarnów\n4 seanse w plenerze przy Domu Kultury Westerplatte \nCENY BILETÓW \nProjekcje w kinie Marzenie: 10 zł (wszystkie projekcje)\nKoncert Tomka Ziętka (Inauguracja TNF): 30 zł\nGala Wręczenia Nagród/Koncert Royal String Quartet: 50 zł\nSpektakl „My Way”: 150 zł\nSpektakl „Stramerowie”: 40 zł \nBezpłatnie: spektakl dla dzieci\, kino plenerowe\, wystawy\, warsztaty\, spotkania z twórcami
URL:https://kultura.tarnow.pl/wydarzenie/38-tarnowskia-nagroda-filmowa-2/2024-06-07/
LOCATION:Kino „Marzenie”\, ul. Staszica 4\, Tarnów\, małopolskie\, 33-100\, Polska
CATEGORIES:festiwale
ATTACH;FMTTYPE=image/jpeg:https://kultura.tarnow.pl/wp-content/uploads/tnf_16x9-poziom_small.jpg
GEO:50.011762;20.9833798
X-APPLE-STRUCTURED-LOCATION;VALUE=URI;X-ADDRESS=Kino „Marzenie” ul. Staszica 4 Tarnów małopolskie 33-100 Polska;X-APPLE-RADIUS=500;X-TITLE=ul. Staszica 4:geo:20.9833798,50.011762
END:VEVENT
BEGIN:VEVENT
DTSTART;TZID=Europe/Warsaw:20240607T150000
DTEND;TZID=Europe/Warsaw:20240607T200000
DTSTAMP:20260424T211621
CREATED:20240422T135153Z
LAST-MODIFIED:20240520T135409Z
UID:10015865-1717772400-1717790400@kultura.tarnow.pl
SUMMARY:"Świat zmysłów" - wystawa interaktywna
DESCRIPTION:Zapraszamy na wyjątkową wystawę interaktywną „Świat zmysłów”\, która otwiera przed zwiedzającymi drzwi do fascynującego świata ludzkich zmysłów. Przez prawie dwa miesiące odwiedzający mają niepowtarzalną okazję do osobistego zgłębiania tajników wzroku\, słuchu\, dotyku i zapachu poprzez bezpośrednią interakcję i doświadczanie. \nWystawa podzielona jest na trzy części\, każda z nich zaprojektowana\, by odkryć przed nami inne aspekty naszych zmysłów: \n\nReceptory: Poznajemy budowę i funkcje narządów zmysłów\, eksplorując ich kluczowe cechy.\nMono czy Stereo?: Zastanawiamy się\, jaką rolę odgrywa posiadanie pary oczu\, uszu\, czy rąk w postrzeganiu świata i jak różniłoby się nasze doświadczanie bez tej podwójności.\nIluzje: Odkrywamy\, jak nasze zmysły mogą nas wprowadzać w błąd\, ale również jak możemy manipulować zmysłami innych.\n\nKażda sekcja wystawy charakteryzuje się unikalną aranżacją kolorystyczną\, tworząc różnorodne tło dla eksperymentów. \nDlaczego warto odwiedzić? \nWystawa „Świat zmysłów” zapewnia unikalne doświadczenie dzięki 34 stanowiskom doświadczalnym\, które zachęcają do aktywnego uczestnictwa. Jest to zarówno źródło niezwykłej zabawy\, jak i głębokiej edukacji\, pozwalającej zrozumieć nie tylko otaczający nas świat\, ale i samych siebie. \nZapisy dla grup zorganizowanych: Dział Edukacji – tel. 14 633 46 11\n \nZwiedzanie indywidualne: poniedziałek – niedziela\, w godzinach 15:00 – 20:00 \nGrupy zorganizowane\, klasy szkolne: poniedziałek – piątek\, 9:00\, 10:00\, 11:00\, 12:00\, 13:00 (zwiedzanie trwa 45 min.) \nPartner wystawy: Uniwersytet Jagielloński w Krakowie \n 
URL:https://kultura.tarnow.pl/wydarzenie/swiat-zmyslow-wystawa-interaktywna/2024-06-07/
LOCATION:Centrum Sztuki Mościce\, Traugutta 1\, Tarnów\, małopolskie\, 33-101\, Polska
CATEGORIES:wystawy
ATTACH;FMTTYPE=image/jpeg:https://kultura.tarnow.pl/wp-content/uploads/img_c8bb757a3bfcb33b7fd02d7cdbd2e38f-1024x1024-1.jpeg
GEO:50.009833;20.92706
X-APPLE-STRUCTURED-LOCATION;VALUE=URI;X-ADDRESS=Centrum Sztuki Mościce Traugutta 1 Tarnów małopolskie 33-101 Polska;X-APPLE-RADIUS=500;X-TITLE=Traugutta 1:geo:20.92706,50.009833
END:VEVENT
BEGIN:VEVENT
DTSTART;TZID=Europe/Warsaw:20240607T170000
DTEND;TZID=Europe/Warsaw:20240607T183000
DTSTAMP:20260424T211621
CREATED:20240531T105825Z
LAST-MODIFIED:20240531T111140Z
UID:10017123-1717779600-1717785000@kultura.tarnow.pl
SUMMARY:Jakub Małecki - spotkanie autorskie
DESCRIPTION:Miejska Biblioteka Publiczna im. Juliusza Słowackiego w Tarnowie zaprasza na spotkanie z jednym z najpopularniejszych pisarzy młodego pokolenia\, autorem wielu powieści – Jakubem Małeckim. Spotkanie odbędzie się w piątek 7 czerwca o godzinie 17:00 w Czytelni Czasopism MBP\, przy ul. Krakowskiej 4 (parter). Rozmowę poprowadzi Iwona Gleisner. \n \nJAKUB MAŁECKI\nPisarz\, autor m.in. „Dygotu”\, „Rdzy” i „Święta ognia”\, laureat Nagrody im. Cypriana Kamila Norwida. Nominowany m.in. do Nagrody Literackiej Nike\, Nagrody Literackiej Europy Środkowej „Angelus”\, nagrody Europese Literaturprijs\, nagrody im. Stanisława Barańczaka i nagrody Yasnaya Polyana przyznawanej przez Muzeum Lwa Tołstoja. Magazyn Literacki “Książki” uznał Horyzont Książką Roku 2019. Jego powieści ukazały się w przekładzie na języki: niemiecki\, rosyjski\, niderlandzki\, fiński\, słoweński\, macedoński i azerbejdżański.\nFragment „Historii podniebnych” znalazł się w nowym podręczniku do języka polskiego dla szkół średnich. W 2023 r. ukazała się ekranizacja „Święta ognia” w reżyserii Kingi Dębskiej\, którą wyprodukowała wytwórnia Opus Film („Ida”\, „Zimna wojna”). \n  \nWydarzenie jest dofinansowane ze środków Instytutu Książki pochodzących z dotacji celowej MKiDN.
URL:https://kultura.tarnow.pl/wydarzenie/73402/
LOCATION:Czytelnia Czasopism Bieżących\, ul. Krakowska 4 (parter)\, Tarnów\, 33-100\, Polska
CATEGORIES:wieczory autorskie
ATTACH;FMTTYPE=image/jpeg:https://kultura.tarnow.pl/wp-content/uploads/Malecki_plakat_17-scaled.jpg
END:VEVENT
BEGIN:VEVENT
DTSTART;TZID=Europe/Warsaw:20240607T180000
DTEND;TZID=Europe/Warsaw:20240607T190000
DTSTAMP:20260424T211621
CREATED:20240603T070211Z
LAST-MODIFIED:20240603T070211Z
UID:10017126-1717783200-1717786800@kultura.tarnow.pl
SUMMARY:Elżbieta Remian "Wibracje"
DESCRIPTION:Zapraszamy do naszej galerii ARTEKA na Wałową 16 w Tarnowie na wernisaż wystawy malarstwa Elżbiety Remian-„WIBRACJE”.\nWernisaż odbędzie się 07.06.2024 r. o godz.18.00.\nZarówno przed jak i po wernisażu zapraszamy na koncert duetu Thomas Celis Sanches i Wassim Ibrahim\, muzyków pochodzących z Meksyku i Syrii\, a koncert będzie miał tytuł – „Pieśni Lewantu”.
URL:https://kultura.tarnow.pl/wydarzenie/elzbieta-remian-wibracje/
LOCATION:Galeria ARTEKA\, Wałowa 16\, Tarnów\, 33-100
CATEGORIES:wernisaże
ORGANIZER;CN="Stowarzyszenie Tarnowskich Artyst%C3%B3w Plastyk%C3%B3w":MAILTO:stowarzyszenie.arteka@gmail.com
END:VEVENT
BEGIN:VEVENT
DTSTART;TZID=Europe/Warsaw:20240607T190000
DTEND;TZID=Europe/Warsaw:20240607T203000
DTSTAMP:20260424T211621
CREATED:20240528T103342Z
LAST-MODIFIED:20240528T103636Z
UID:10016735-1717786800-1717792200@kultura.tarnow.pl
SUMMARY:MAYDAY - Ray Cooney
DESCRIPTION:7\, 8\, 9 czerwca (piątek\, sobota\, niedziela) godz. 19.00\, Duża Scena \nMayday jest klasyką gatunku i klasą samą dla siebie. Tutaj nawet didaskalia są opisane bardzo precyzyjnie. Maydaya można by porównać do paczki ze znanej sieci meblarskiej\, w której można kupić gotowy produkt z instrukcją montażu i prawie każdy jest w stanie go poskładać z gwarancją\, że zawsze wyjdzie podobnie\, czyli dobrze. Można jednak\, odnosząc się do tej metafory\, pozostawić funkcjonalność i ogólny wygląd mebli\, ale użyć innych (lepszych) materiałów i ciekawszych (ładniejszych) dodatków. \nMayday jest bardzo dobrze pomyślany\, zarówno koncepcyjnie\, jak i intuicyjnie. Jest świetnie napisany pod względem komediowości\, ale również poszczególnych postaci i sytuacji\, w których ci się znajdują. Pomyślałem sobie\, że ciekawie byłoby bliżej się temu przyjrzeć. Nie tracąc komediowości tego tekstu poszukać w nim ludzi\, którzy jakoś sobie urządzają świat\, czegoś chcą\, o coś walczą i w końcu\, czegoś nie są świadomi. Pomimo tego\, że w moim odczuciu farsa jest bajką dla dorosłych\, nic nie stoi na przeszkodzie by poszukać tam bohaterów\, którzy żyją wokół nas i może tym się tylko od nas różnią\, że czegoś tam mają więcej\, w coś są bardziej od nas zaangażowani i w końcu nie widzą tego co my – stojący nieco z boku.\nTadeusz Łomnicki\, reżyser \nSpektakl zdobył Nagrodę Publiczności podczas XXV Ogólnopolskiego Festiwalu Komedii Talia 2021. \n 
URL:https://kultura.tarnow.pl/wydarzenie/mayday-ray-cooney-2/2024-06-07/
LOCATION:Teatr im. L.Solskiego\, Mickiewicza 4\, Tarnów\, małopolskie\, 33-100\, Polska
CATEGORIES:spektakle
ATTACH;FMTTYPE=image/jpeg:https://kultura.tarnow.pl/wp-content/uploads/mayday-www-1-1.jpg
GEO:50.0159214;20.987504
X-APPLE-STRUCTURED-LOCATION;VALUE=URI;X-ADDRESS=Teatr im. L.Solskiego Mickiewicza 4 Tarnów małopolskie 33-100 Polska;X-APPLE-RADIUS=500;X-TITLE=Mickiewicza 4:geo:20.987504,50.0159214
END:VEVENT
BEGIN:VEVENT
DTSTART;TZID=Europe/Warsaw:20240607T190000
DTEND;TZID=Europe/Warsaw:20240607T210000
DTSTAMP:20260424T211621
CREATED:20240420T225006Z
LAST-MODIFIED:20240520T225132Z
UID:10015946-1717786800-1717794000@kultura.tarnow.pl
SUMMARY:Spektakl „Stramerowie”
DESCRIPTION:„Stramerowie” to kontynuacja przejmującej powieści Mikołaja Łozińskiego o pierwszych miłościach\, kłamstwach i sekretach rodziny Stramerów. Zrealizowany na a jej podstawie kameralny spektakl zostanie zaprezentowany podczas 38. Tarnowskiej Nagrody Filmowej. \nSztuka w reżyserii tarnowianina Tomasza Cyza powstała na podstawie kolejnej części wielogłosowej powieści o losach żydowskiej rodziny\, autorstwa Mikołaja Łozińskiego\, której premiera miała miejsce jesienią 2023 r. \nRodzeństwo Stramerów\, które zostało wychowane w międzywojennym Tarnowie zostaje rozdzielone przez niszczycielskie działania drugiej wojny światowej. Odcięci od swojej żydowskiej tożsamości\, odcięci od siebie walczą o przetrwanie\, jednocześnie pielęgnując pamięć o rodzinie. Świat Stramerów to świat zwykłych ludzi\, Żydów i Polaków\, chcących przetrwać za wszelką cenę w obliczu toczącej się wokół wojny. Wszyscy oni pragną choć namiastki normalnego życia w świecie zwykłych ludzi chcących przetrwać wojnę. Język Mikołaja Łozińskiego (prywatnie brata przewodniczącego Jury 38. TNF – Pawła Łozińskiego)\, charakteryzujący się czułością i bogactwem skojarzeń przeniesiony na scenę kameralnego spektaklu. \nObsada: Karolina Bruchnicka\, Weronika Humaj\, Zuzanna Lit i Józef Pawłowski\nMuzyka: Pablopavo i Patryk Kraśniewski\nKostiumy: Aleksandra Grabowska\nFotografie: Marta Machej \nProdukcja: Fundacja „Kultura nie boli”\nPrzedstawienie powstało przy wsparciu Miasta Stołecznego Warszawa\nSpektakl miał swoją premierę w warszawskim Big Book Cafe MDM w lutym 2024 r. \nData i godzina: 07.06.2024 r.\, godz. 19.00\nMiejsce: Piwnice TCK (Tarnów\, Rynek 5)\nBilety: 40 zł (dostępne online na www.tck.pl oraz w TCK)\nOrganizator: Tarnowskie Centrum Kultury \nOficjalna strona Festiwalu www.tarnowskanagrodafilmowa.pl
URL:https://kultura.tarnow.pl/wydarzenie/spektakl-stramerowie/
LOCATION:Tarnowskie Centrum Kultury\, Rynek 5\, Tarnów\, małopolskie\, 33-100\, Polska
CATEGORIES:spektakle
GEO:50.012155;20.9878542
X-APPLE-STRUCTURED-LOCATION;VALUE=URI;X-ADDRESS=Tarnowskie Centrum Kultury Rynek 5 Tarnów małopolskie 33-100 Polska;X-APPLE-RADIUS=500;X-TITLE=Rynek 5:geo:20.9878542,50.012155
END:VEVENT
BEGIN:VEVENT
DTSTART;TZID=Europe/Warsaw:20240607T190000
DTEND;TZID=Europe/Warsaw:20240607T210000
DTSTAMP:20260424T211621
CREATED:20240605T122759Z
LAST-MODIFIED:20240606T110659Z
UID:10017228-1717786800-1717794000@kultura.tarnow.pl
SUMMARY:Wieczór uwielbienia - koncert "Jedno"
DESCRIPTION:Już po raz czwarty pod hasłem 'Serce\, które widzi” odbędzie się Wieczór uwielbienia na Placu przy tarnowskiej katedrze. Centralnym punktem wieczoru będzie spotkanie z Jezusem Eucharystycznym\, które zostanie zakończone błogosławieństwem Najświętszym Sakramentem. \nModlitwę poprowadzi zespół Jedno oraz ks. Bartosz Chęciek. \nWieczór uwielbienia odpędzie się w piątek\, 7 czerwca o godz. 19:00 na Placu Katedralnym w Tarnowie. \nWydarzenie organizowane jest przez Parafię Katedralną. \nWydarzenie współfinansowane ze środków Urzędu Miasta Tarnowa.
URL:https://kultura.tarnow.pl/wydarzenie/73528/
LOCATION:Plac Katedralny\, Plac Katedralny\, Tarnów\, małopolskie\, 33-100\, Polska
CATEGORIES:koncerty
ATTACH;FMTTYPE=image/jpeg:https://kultura.tarnow.pl/wp-content/uploads/Fb-post-pionowy-1080x1620-Serce-ktore-widzi-2024-01.jpg
GEO:50.0129768;20.9875165
X-APPLE-STRUCTURED-LOCATION;VALUE=URI;X-ADDRESS=Plac Katedralny Plac Katedralny Tarnów małopolskie 33-100 Polska;X-APPLE-RADIUS=500;X-TITLE=Plac Katedralny:geo:20.9875165,50.0129768
END:VEVENT
END:VCALENDAR