BEGIN:VCALENDAR
VERSION:2.0
PRODID:-//kultura.tarnów - ECPv6.4.0.1//NONSGML v1.0//EN
CALSCALE:GREGORIAN
METHOD:PUBLISH
X-ORIGINAL-URL:https://kultura.tarnow.pl
X-WR-CALDESC:Wydarzenia dla
REFRESH-INTERVAL;VALUE=DURATION:PT1H
X-Robots-Tag:noindex
X-PUBLISHED-TTL:PT1H
BEGIN:VTIMEZONE
TZID:Europe/Warsaw
BEGIN:DAYLIGHT
TZOFFSETFROM:+0100
TZOFFSETTO:+0200
TZNAME:CEST
DTSTART:20240331T010000
END:DAYLIGHT
BEGIN:STANDARD
TZOFFSETFROM:+0200
TZOFFSETTO:+0100
TZNAME:CET
DTSTART:20241027T010000
END:STANDARD
END:VTIMEZONE
BEGIN:VEVENT
DTSTART;TZID=Europe/Warsaw:20240606T090000
DTEND;TZID=Europe/Warsaw:20240606T103000
DTSTAMP:20260423T120131
CREATED:20240421T130222Z
LAST-MODIFIED:20240528T101733Z
UID:10016729-1717664400-1717669800@kultura.tarnow.pl
SUMMARY:OSKAR I PANI RÓŻA - Eric-Emmanuel Schmitt
DESCRIPTION:6 czerwca (czwartek) godz. 9.00 i 11.30 oraz 7 czerwca (piątek) godz. 10.00 Mała Scena \nDziesięcioletniego Oskara czeka bardzo intensywny czas. Nadchodzące dni będą pełne wrażeń i nowych doświadczeń\, o których chłopiec opowie nagrywając videobloga. Na początek pozna smak pierwszej miłości i prawdziwej przyjaźni\, później zrozumie z jaką odpowiedzialnością wiąże się założenie rodziny\, doświadczy goryczy rozstania i radości z pojednania. Choć nie będzie łatwo\, nauczy się wybaczać i nabierze zrozumienia dla dorosłych i ich problemów. W końcu dowie się z iloma trudnościami trzeba mierzyć się w dojrzałym wieku. Te wszystkie doświadczenia pozwolą mu cieszyć się drobiazgami i doceniać to\, co przynosi los. Przekona się\, że sto lat życia może upłynąć zaskakująco szybko\, więc trzeba przeżyć je z całych sił. Przez te wszystkie dni chłopcu towarzyszyć będzie Pani Róża\, która zachwyci go opowieściami o swojej niezwykłej przeszłości. Pełna serdeczności\, fantazji i optymizmu starsza pani dla Oskara stanie się nieustraszoną „Dusicielką z Langwedocji”\, namówi chłopca do rzeczy niemożliwych\, pomoże mu zaprzyjaźnić się z Panem Bogiem i znaleźć w sobie odwagę\, której brakuje niejednemu dorosłemu. \nSpektakl na podstawie bestsellerowej książki Erica – Emmanuela Schmitta jest piękną i pełną nadziei opowieścią o wartości życia\, miłości\, odwadze\, sile wyobraźni i zgodzie na to\, co nieuniknione. \nAutor: Eric-Emmanuel Schmitt\nTłumaczenie: Barbara Grzegorzewska\nAdaptacja i reżyseria: Mateusz Olszewski\nScenografia i kostiumy: Joanna Walisiak-Jankowska\nMuzyka: Zuzanna Falkowska\nChoreografia: Agnieszka Janicka\nAnimacje: Jakub Dudek\nProjekcje: Maciej Rybski\nAsystent reżysera: Filip Kowalczyk\nInspicjentka\, suflerka: Aleksandra Stach \n 
URL:https://kultura.tarnow.pl/wydarzenie/oskar-i-pani-roza-eric-emmanuel-schmitt/2024-06-06/1/
LOCATION:Teatr im. L.Solskiego\, Mickiewicza 4\, Tarnów\, małopolskie\, 33-100\, Polska
CATEGORIES:spektakle
ATTACH;FMTTYPE=image/png:https://kultura.tarnow.pl/wp-content/uploads/TARNOW-OSKAR-POZIOM-1-1.png
GEO:50.0159214;20.987504
X-APPLE-STRUCTURED-LOCATION;VALUE=URI;X-ADDRESS=Teatr im. L.Solskiego Mickiewicza 4 Tarnów małopolskie 33-100 Polska;X-APPLE-RADIUS=500;X-TITLE=Mickiewicza 4:geo:20.987504,50.0159214
END:VEVENT
BEGIN:VEVENT
DTSTART;TZID=Europe/Warsaw:20240606T090000
DTEND;TZID=Europe/Warsaw:20240606T150000
DTSTAMP:20260423T120131
CREATED:20240512T231449Z
LAST-MODIFIED:20240520T231645Z
UID:10015968-1717664400-1717686000@kultura.tarnow.pl
SUMMARY:„Albrecht Dürer – grafiki”
DESCRIPTION:Albrecht Dürer (1471-1528)\, uważany jest na jednego z największych niemieckich malarzy\, grafików i rysowników. W kolekcji grafiki pochodzącej z pałacu książąt Sanguszków w Gumniskach (od 1945 roku w Muzeum Ziemi Tarnowskiej)\, przechowywanych jest kilkanaście rycin jego autorstwa. Są to drzeworyty z serii: „Wielka Pasja” z 1510 roku – 2 sztuki („Chrystus w otchłani”\, „Złożenie do grobu”) i „Mała Pasja” (1509-1511) – 4 sztuki („Chrystus opuszczający Matkę”\, „Ostatnia Wieczerza”\, „Zmartwychwstanie” oraz „Zesłanie Ducha Świętego”). Kolejne cykle reprezentuje w zbiorze 5 rycin z serii „Żywot Marii” \, a także pojedyncze sztychy „Św. Hieronim” i „Św. Rodzina”\, obydwa z 1511 roku. Prace artysty są sygnowane monogramem „AD”. Pierwotnie znajdowały się w pałacu w Sławucie\, należącym do ordynata zasławskiego Romana Damiana Sanguszki (1832-1917). Książe systematycznie\, od lat 60. XIX wieku\, tworzył swoją kolekcję\, głównie drogą zakupów antykwarycznych. Jego zbiór opatrzony okrągłą pieczęcią z napisem: „Biblioteka Romana Sanguszki”\, znacznie ucierpiał w czasie I i II wojny światowej. Znajdują się w nim grafiki ze szkoły niemieckiej\, niderlandzkiej\, włoskiej i angielskiej\, a także francuskiej\, z okresu od XVI do XVIII wieku. Wśród nich są także prace naśladowców Dürera wykonane w technice akwaforty\, współczesnych mu grafików\, m.in. Hieronymusa Hopfera: „Św. Hubert” i „Wielka armata”. Jak również działającego w Antwerpii Johannesa Wierixa „Św. Hieronim w celi” i „Adoracja Dzieciątka w stajence”. \nZe względu na charakter obiektów oraz ich stan zachowania prezentacja prac A. Dürera będzie ograniczona czasowo. Znaczące obostrzenia konserwatorskie\, pozwalają na eksponowanie ich tylko do 9 czerwca br. Wystawę będzie można zobaczyć w trakcie trwania tegorocznej Nocy Muzeów. Serdecznie Państwa zapraszamy! \nponiedziałek nieczynne\nwtorek 9.00 – 15.00\nśroda 9.00 – 15.00\nczwartek 9.00 – 15.00\npiątek 9.00 – 17.00\nsobota 10.00 – 15.00 (od 1 maja do 30 września); nieczynne (od 1 października do 30 kwietnia)\nniedziela 10.00 – 15.00 (od 1 maja do 30 września); 10.00 – 14.00 (od 1 października do 30 kwietnia) \nKuratorka wystawy: Barbara Bułdys \nWystawa czynna: 17 maja – 9 czerwca 2024 r.
URL:https://kultura.tarnow.pl/wydarzenie/albrecht-durer-grafiki/2024-06-06/
LOCATION:Muzeum Historii Tarnowa i Regionu\, Rynek 20-21\, Tarnów\, małopolskie\, 33-100\, Polska
CATEGORIES:wystawy
ATTACH;FMTTYPE=image/png:https://kultura.tarnow.pl/wp-content/uploads/baner-DURER-1-1.png
GEO:50.01295;20.9883
X-APPLE-STRUCTURED-LOCATION;VALUE=URI;X-ADDRESS=Muzeum Historii Tarnowa i Regionu Rynek 20-21 Tarnów małopolskie 33-100 Polska;X-APPLE-RADIUS=500;X-TITLE=Rynek 20-21:geo:20.9883,50.01295
END:VEVENT
BEGIN:VEVENT
DTSTART;TZID=Europe/Warsaw:20240606T100000
DTEND;TZID=Europe/Warsaw:20240606T170000
DTSTAMP:20260423T120131
CREATED:20240604T065221Z
LAST-MODIFIED:20240604T065221Z
UID:10017185-1717668000-1717693200@kultura.tarnow.pl
SUMMARY:"Żyj roślinniej!" Wystawa ulepów i badyli
DESCRIPTION:Z okazji Światowego Dnia Ochrony Środowiska prezentujemy wystawę\, na której można zobaczyć innowacyjne produkty wykonane z re-granulatu od Potsi oraz kompozycje roślinne od Moje Badyle. Celem wystawy jest zwrócenie uwagi na konieczność recyklingu i ochrony środowiska poprzez promowanie zrównoważonych i ekologicznych rozwiązań. \nProdukty z re-granulatu to doskonały przykład\, jak z odpadów plastikowych można tworzyć funkcjonalne przedmioty. Re-granulat\, powstający w procesie recyklingu tworzyw sztucznych\, umożliwia produkcję wielu różnych artykułów\, od przedmiotów codziennego użytku po elementy wyposażenia wnętrz. Dodatkowo\, na wystawie pojawią się aranżacje roślinne – przypominające o potrzebie dbania o przyrodę\, stanowiąc inspirację do tworzenia zielonych przestrzeni w naszych domach i miejscach pracy\, co pozytywnie wpływa na nasze zdrowie i samopoczucie. \nŻyj roślinniej – tytuł wystawy zaczerpnięty z książki Arety Szpury „Jak uratować świat?” \nAnna Korus – założycielka firmy Moje Badyle. Swoją największą pasję\, jaką są rośliny przeniosła na biznes. Swoimi prywatnymi roślinami zaczęła wymieniać się z innymi pasjonatami. W 2020 roku w dobie pandemii w Krakowie narodził się pomysł otworzenia sklepu internetowego z roślinami domowymi. Badyle zaczęły być wysyłane w paczkach na terenie całego kraju. W związku z coraz większym zainteresowaniem roślinami już w 2022 roku zdecydowała się wrócić do Tarnowa skąd pochodzi\, otwierając się na klientów stacjonarnych. Sklep zaczęły wypełniać osoby kochające zieleń a samo miejsce zyskało niesamowitą energię ludzi o takiej samej pasji. Moje badyle udowodniają\, że wspaniale jest wrócić do natury i wypełnić nią swoje zacisze domowe. Swoją zieloną pasją i wiedzą często dzieli się na roślinnych wydarzeniach organizowanych w Tarnowie oraz pomaga zazielenić tarnowskie firmy. \nMarcin Sak – założyciel marki Potsi\, wykorzystuje swoje edukacyjne tło z fotografii i produkcji filmowej oraz telewizyjnej. Jego zamiłowanie do sztuki audiowizualnej przeobraziło się w chęć tworzenia funkcjonalnych przedmiotów\, które łączą fantazyjne połączenie barw zatopionych w recyklingowanym plastiku. Dzięki innowacyjnemu podejściu i wykorzystaniu autorskiej maszyny tworzy unikatowe doniczki z recyklingowanego plastiku. Z sukcesem przekształca fascynację tego typu tworzywa w innowacyjną produkcję\, oferując produkty promujące zrównoważony rozwój. Działania Marcina skupiają się na jakości\, unikalności wzorów i szerokiej dostępności jego doniczek\, które są świadectwem możliwości połączenia sztuki użytkowej z odpowiedzialnością środowiskową. Swoim zaangażowaniem w tworzenie nowych form daje sobie przestrzeń na wyraz artystycznej ekspresji i ciągłe poszerzanie granic kreatywności. \nNiedziela 16.06\, g.12:00-16:00 – wymiana roślin na placu MCA. Każdy może przynieść swoje rośliny\, sadzonki\, szczepki czy pędy do ukorzenienia. Dajmy im szansę na drugie życie! \nOprawa graficzna wystawy: Natalia Sikorska \nWystawa czynna: poniedziałek\, środa\, czwartek 10:00-17:00\, niedziela: 10:00-17:00\, wstęp wolny.
URL:https://kultura.tarnow.pl/wydarzenie/zyj-roslinniej-wystawa-ulepow-i-badyli-2/2024-06-06/
LOCATION:Multimedialne Centrum Artystyczne\, Wałowa 25\, Tarnów\, małopolskie\, 33-100\, Polska
CATEGORIES:wystawy
ORGANIZER;CN="Biuro Wystaw Artystycznych":MAILTO:biuro@bwa.tarnow.pl
GEO:50.013866931068;20.987989998201
X-APPLE-STRUCTURED-LOCATION;VALUE=URI;X-ADDRESS=Multimedialne Centrum Artystyczne Wałowa 25 Tarnów małopolskie 33-100 Polska;X-APPLE-RADIUS=500;X-TITLE=Wałowa 25:geo:20.987989998201,50.013866931068
END:VEVENT
BEGIN:VEVENT
DTSTART;TZID=Europe/Warsaw:20240606T100000
DTEND;TZID=Europe/Warsaw:20240606T220000
DTSTAMP:20260423T120131
CREATED:20240220T233822Z
LAST-MODIFIED:20240520T224027Z
UID:10015939-1717668000-1717711200@kultura.tarnow.pl
SUMMARY:38. Tarnowskia Nagroda Filmowa
DESCRIPTION:Tarnów ponownie stanie się stolicą polskiej kinematografii! Zbliża się 38. Tarnowska Nagroda Filmowa – Festiwal Polskich Filmów Pełnometrażowych. \nFestiwal rozpocznie się 31 maja i potrwa do 8 czerwca 2024 r. Projekcje konkursowe\, pokazy specjalne oraz cykl Filmy Młodego Widza będą prezentowane w jednym z najstarszych działających kin w Polsce – Marzeniu. W Konkursie Głównym – filmów pełnometrażowych – reżyserzy ubiegają się o nagrody: Grand Prix „Maszkaron”\, Nagrodę Publiczności „Publika” i Jury Młodzieżowego „Kamerzysta”. Drugim konkursem Festiwalu jest konkurs bajek prezentowany w przeglądzie „Filmy Młodego Widza” – Jury Dziecięce nagrodzi Statuetką „Maszkaronka” producenta najlepszej animacji. \nKto w tym roku ma szansę na statuetkę „Maszkarona”? O najważniejsze laury Festiwalu powalczy 12 polskich produkcji\, wśród których znalazło się miejsce zarówno dla filmów fabularnych\, jak i dokumentów\, w tym kilku debiutów reżyserskich. Będą to: „Biała odwaga”\, „Chłopi”\, „Doppelganger. Sobowtór”\, „Horror story”\, „Imago”\, „Kobieta z…”\, „Kos”\, „Skąd dokąd”\, „Tyle co nic”\, „Tylko dzień i noc”\, „Ukryta sieć” oraz „Zielona granica”. \nPracom Jury profesjonalnego będzie przewodniczył znakomity dokumentalista Paweł Łoziński\, a skład uzupełnią przedstawiciele filmowych profesji – Weronika Bilska (operatorka)\, Julia Kijowska (aktorka)\, Marta Kownacka (reżyserka castingu)\, Tomasz Kolankiewicz (filmoznawca) oraz Mariusz Włodarski (producent). Werdykt poznamy podczas Gali Wręczenia Nagród 8 czerwca w tarnowskim kinie Marzenie. Finał zwieńczy koncert muzyki filmowej w wykonaniu Royal String Quartet. \nObrady Jury Profesjonalnego oraz dwóch pozostałych gremiów jurorskich dopiero w czerwcu\, jednak znamy już pierwszą Laureatkę. Decyzją kapituły Festiwalu Nagrodą za całokształt twórczości i wkład w polską kinematografię zostanie uhonorowana wybitna postać rodzimego kina – Krystyna Janda. Nagroda zostanie wręczona podczas wydarzenia specjalnego – spektaklu „My Way” w reżyserii Laureatki. \nTo jednak niejedyne wydarzenie towarzyszące Festiwalu.  Program wzbogacą koncerty\, wystawy plakatu\, fotografii oraz sztuki ulicznej\, warsztaty z zakresu edukacji filmowej\, ale przede wszystkim projekcje specjalne filmów krótkometrażowych i wideoklipów oraz spotkania z twórcami. Pełny program 38. Tarnowskiej Nagrody Filmowej jest dostępny na stronie www.tarnowskanagrodafilmowa.pl. Zapraszamy na wielkie święto polskiego kina w Tarnowie. \n38. Tarnowska Nagroda Filmowa Festiwal Polskich Filmów Pełnometrażowych \nProgram ramowy \nFilmy konkursowe (12): \n„Biała odwaga”\, reż. Marcin Koszałka\n„Chłopi”\, reż. DK & Hugh Welchman\n„Sobowtór”\, reż. Jan Holoubek\n„Horror story”\, reż. Adrian Apanel\n„Imago”\, reż. Olga Chajdas\n„Kobieta z…”\, reż. Małgorzata Szumowska\, Michał Englert\n„Kos”\, reż. Paweł Maślona\n„Skąd dokąd”\, reż. Maciej Hamela\n„Tyle co nic”\, reż. Grzegorz Dębowski\n„Tylko dzień i noc”\, reż. Grzegorz Brzozowski\n„Ukryta sieć”\, reż. Piotr Adamski\n„Zielona granica”\, reż. Agnieszka Holland \nProjekcje specjalne – krótkie metraże \n„As it was”\, reż. Anastasiia Solonevych\, Damian Kocur\n„Być kimś”\, reż. Michał Toczek\n„Misie polarne”\, reż. Bartosz Stankiewicz\n„Moje stare”\, reż. Natasza Parzymies\n„Piękna łąka kwietna”\, reż. Emi Buchwald\n„Sprzedawca”\, reż. Patryk Kaflowski\n„Te cholerne peonie”\, reż. Polina Biliaieva\n„Warszawa\, Holandia”\, reż. Chiang Ming-Wei \nProjekcje specjalne \n„Jeszcze krótsze metraże” – pokaz wideoklipów (prowadzenie: Hirek Wrona) \nFilmy Młodego Widza – Konkurs \nKonkurs bajek – projekcje specjalne \n„Jestem w sam raz”\, reż. Marcin Wasilewski\n„Kicia Kocia w Przedszkolu”\, reż. Anita Głowińska\n„Za duży na bajki 2”\, reż. Kristoffer Rus \nEpilog \nPokaz filmów Laureatów 38. TNF \nPodsumowanie Festiwalu. \nProjekcja specjalna oraz spotkanie z Dianą Dąbrowską \nKoncerty: \nTomek Ziętek\nRoyal String Quartet (Gala Wręczenia Nagród) \nSpektakle: \n„My Way” Monolog Krystyny Jandy\n„Stramerowie”\, reż. Tomasz Cyz\n„Dzień dziecka: O świerszczu Maurycym i bandzie komara” (Teatr Za jeden uśmiech) \nWystawy: \n„© Plakiat. Wystawa wybranych plakatów artystycznych vol. 2” (Maks Bereski) – BWA Tarnów (31.05-16.06.2024)\n„Nie mogę na to patrzeć. Inka Rosocha” – Galeria TCK (25.05-806.2024)\n„Filmowa wystawa uliczna” (szczegóły wkrótce) \nWarsztaty \nWarsztaty aktorskie „Tu i teraz” (prowadzenie Dagmara Brodziak i Michał Krzywicki) \nKino plenerowe \n1 seans pod Gemini Park Tarnów\n4 seanse w plenerze przy Domu Kultury Westerplatte \nCENY BILETÓW \nProjekcje w kinie Marzenie: 10 zł (wszystkie projekcje)\nKoncert Tomka Ziętka (Inauguracja TNF): 30 zł\nGala Wręczenia Nagród/Koncert Royal String Quartet: 50 zł\nSpektakl „My Way”: 150 zł\nSpektakl „Stramerowie”: 40 zł \nBezpłatnie: spektakl dla dzieci\, kino plenerowe\, wystawy\, warsztaty\, spotkania z twórcami
URL:https://kultura.tarnow.pl/wydarzenie/38-tarnowskia-nagroda-filmowa-2/2024-06-06/
LOCATION:Kino „Marzenie”\, ul. Staszica 4\, Tarnów\, małopolskie\, 33-100\, Polska
CATEGORIES:festiwale
ATTACH;FMTTYPE=image/jpeg:https://kultura.tarnow.pl/wp-content/uploads/tnf_16x9-poziom_small.jpg
GEO:50.011762;20.9833798
X-APPLE-STRUCTURED-LOCATION;VALUE=URI;X-ADDRESS=Kino „Marzenie” ul. Staszica 4 Tarnów małopolskie 33-100 Polska;X-APPLE-RADIUS=500;X-TITLE=ul. Staszica 4:geo:20.9833798,50.011762
END:VEVENT
BEGIN:VEVENT
DTSTART;TZID=Europe/Warsaw:20240606T113000
DTEND;TZID=Europe/Warsaw:20240606T120000
DTSTAMP:20260423T120131
CREATED:20240421T130222Z
LAST-MODIFIED:20240528T101733Z
UID:10016730-1717673400-1717675200@kultura.tarnow.pl
SUMMARY:OSKAR I PANI RÓŻA - Eric-Emmanuel Schmitt
DESCRIPTION:6 czerwca (czwartek) godz. 9.00 i 11.30 oraz 7 czerwca (piątek) godz. 10.00 Mała Scena \nDziesięcioletniego Oskara czeka bardzo intensywny czas. Nadchodzące dni będą pełne wrażeń i nowych doświadczeń\, o których chłopiec opowie nagrywając videobloga. Na początek pozna smak pierwszej miłości i prawdziwej przyjaźni\, później zrozumie z jaką odpowiedzialnością wiąże się założenie rodziny\, doświadczy goryczy rozstania i radości z pojednania. Choć nie będzie łatwo\, nauczy się wybaczać i nabierze zrozumienia dla dorosłych i ich problemów. W końcu dowie się z iloma trudnościami trzeba mierzyć się w dojrzałym wieku. Te wszystkie doświadczenia pozwolą mu cieszyć się drobiazgami i doceniać to\, co przynosi los. Przekona się\, że sto lat życia może upłynąć zaskakująco szybko\, więc trzeba przeżyć je z całych sił. Przez te wszystkie dni chłopcu towarzyszyć będzie Pani Róża\, która zachwyci go opowieściami o swojej niezwykłej przeszłości. Pełna serdeczności\, fantazji i optymizmu starsza pani dla Oskara stanie się nieustraszoną „Dusicielką z Langwedocji”\, namówi chłopca do rzeczy niemożliwych\, pomoże mu zaprzyjaźnić się z Panem Bogiem i znaleźć w sobie odwagę\, której brakuje niejednemu dorosłemu. \nSpektakl na podstawie bestsellerowej książki Erica – Emmanuela Schmitta jest piękną i pełną nadziei opowieścią o wartości życia\, miłości\, odwadze\, sile wyobraźni i zgodzie na to\, co nieuniknione. \nAutor: Eric-Emmanuel Schmitt\nTłumaczenie: Barbara Grzegorzewska\nAdaptacja i reżyseria: Mateusz Olszewski\nScenografia i kostiumy: Joanna Walisiak-Jankowska\nMuzyka: Zuzanna Falkowska\nChoreografia: Agnieszka Janicka\nAnimacje: Jakub Dudek\nProjekcje: Maciej Rybski\nAsystent reżysera: Filip Kowalczyk\nInspicjentka\, suflerka: Aleksandra Stach \n 
URL:https://kultura.tarnow.pl/wydarzenie/oskar-i-pani-roza-eric-emmanuel-schmitt/2024-06-06/2/
LOCATION:Teatr im. L.Solskiego\, Mickiewicza 4\, Tarnów\, małopolskie\, 33-100\, Polska
CATEGORIES:spektakle
ATTACH;FMTTYPE=image/png:https://kultura.tarnow.pl/wp-content/uploads/TARNOW-OSKAR-POZIOM-1-1.png
GEO:50.0159214;20.987504
X-APPLE-STRUCTURED-LOCATION;VALUE=URI;X-ADDRESS=Teatr im. L.Solskiego Mickiewicza 4 Tarnów małopolskie 33-100 Polska;X-APPLE-RADIUS=500;X-TITLE=Mickiewicza 4:geo:20.987504,50.0159214
END:VEVENT
BEGIN:VEVENT
DTSTART;TZID=Europe/Warsaw:20240606T130000
DTEND;TZID=Europe/Warsaw:20240606T143000
DTSTAMP:20260423T120131
CREATED:20240605T074321Z
LAST-MODIFIED:20240605T074321Z
UID:10017200-1717678800-1717684200@kultura.tarnow.pl
SUMMARY:Wojciech Chmielarz - spotkanie autorskie
DESCRIPTION:6 czerwca – dzień po premierze książki „Zbędni” – Wojciech Chmielarz przyjedzie spotkać się z czytelnikami w Bibliotece Akademii Tarnowskiej. \nWojciech Chmielarz to pisarz wielokrotnie nominowany do Nagrody Wielkiego Kalibru. W 2015 roku został jej laureatem za powieść „Przejęcie”. \nW 2019 roku za książkę „Żmijowisko” otrzymał Złoty Pocisk. A trzy lata później w trakcie Bestsellerów Empiku 2021 nagrodzono go za słuchowisko „Wilkołak”\, zrealizowane na podstawie jego powieści pod tym samym tytułem. \nW 2022 roku otrzymał nagrodę Grand Prix Festiwalu Kryminalna Warszawa za powieść „Dług honorowy”\, a w 2023 – Nagrodę Kryminalną Piły dla Najlepszej Polskiej Miejskiej Powieści Kryminalnej za książkę z cyklu o Jakubie Mortce: „Długa noc”.
URL:https://kultura.tarnow.pl/wydarzenie/wojciech-chmielarz-spotkanie-autorskie/
LOCATION:Akademia Tarnowska\, ul. Mickiewicza 8\, Tarnów\, małopolskie\, 33-100\, Polska
CATEGORIES:wieczory autorskie
ORGANIZER;CN="Akademia Tarnowska":MAILTO:ans@anstar.edu.pl
GEO:50.016759;20.991
X-APPLE-STRUCTURED-LOCATION;VALUE=URI;X-ADDRESS=Akademia Tarnowska ul. Mickiewicza 8 Tarnów małopolskie 33-100 Polska;X-APPLE-RADIUS=500;X-TITLE=ul. Mickiewicza 8:geo:20.991,50.016759
END:VEVENT
BEGIN:VEVENT
DTSTART;TZID=Europe/Warsaw:20240606T150000
DTEND;TZID=Europe/Warsaw:20240606T200000
DTSTAMP:20260423T120131
CREATED:20240422T135153Z
LAST-MODIFIED:20240520T135409Z
UID:10015864-1717686000-1717704000@kultura.tarnow.pl
SUMMARY:"Świat zmysłów" - wystawa interaktywna
DESCRIPTION:Zapraszamy na wyjątkową wystawę interaktywną „Świat zmysłów”\, która otwiera przed zwiedzającymi drzwi do fascynującego świata ludzkich zmysłów. Przez prawie dwa miesiące odwiedzający mają niepowtarzalną okazję do osobistego zgłębiania tajników wzroku\, słuchu\, dotyku i zapachu poprzez bezpośrednią interakcję i doświadczanie. \nWystawa podzielona jest na trzy części\, każda z nich zaprojektowana\, by odkryć przed nami inne aspekty naszych zmysłów: \n\nReceptory: Poznajemy budowę i funkcje narządów zmysłów\, eksplorując ich kluczowe cechy.\nMono czy Stereo?: Zastanawiamy się\, jaką rolę odgrywa posiadanie pary oczu\, uszu\, czy rąk w postrzeganiu świata i jak różniłoby się nasze doświadczanie bez tej podwójności.\nIluzje: Odkrywamy\, jak nasze zmysły mogą nas wprowadzać w błąd\, ale również jak możemy manipulować zmysłami innych.\n\nKażda sekcja wystawy charakteryzuje się unikalną aranżacją kolorystyczną\, tworząc różnorodne tło dla eksperymentów. \nDlaczego warto odwiedzić? \nWystawa „Świat zmysłów” zapewnia unikalne doświadczenie dzięki 34 stanowiskom doświadczalnym\, które zachęcają do aktywnego uczestnictwa. Jest to zarówno źródło niezwykłej zabawy\, jak i głębokiej edukacji\, pozwalającej zrozumieć nie tylko otaczający nas świat\, ale i samych siebie. \nZapisy dla grup zorganizowanych: Dział Edukacji – tel. 14 633 46 11\n \nZwiedzanie indywidualne: poniedziałek – niedziela\, w godzinach 15:00 – 20:00 \nGrupy zorganizowane\, klasy szkolne: poniedziałek – piątek\, 9:00\, 10:00\, 11:00\, 12:00\, 13:00 (zwiedzanie trwa 45 min.) \nPartner wystawy: Uniwersytet Jagielloński w Krakowie \n 
URL:https://kultura.tarnow.pl/wydarzenie/swiat-zmyslow-wystawa-interaktywna/2024-06-06/
LOCATION:Centrum Sztuki Mościce\, Traugutta 1\, Tarnów\, małopolskie\, 33-101\, Polska
CATEGORIES:wystawy
ATTACH;FMTTYPE=image/jpeg:https://kultura.tarnow.pl/wp-content/uploads/img_c8bb757a3bfcb33b7fd02d7cdbd2e38f-1024x1024-1.jpeg
GEO:50.009833;20.92706
X-APPLE-STRUCTURED-LOCATION;VALUE=URI;X-ADDRESS=Centrum Sztuki Mościce Traugutta 1 Tarnów małopolskie 33-101 Polska;X-APPLE-RADIUS=500;X-TITLE=Traugutta 1:geo:20.92706,50.009833
END:VEVENT
BEGIN:VEVENT
DTSTART;TZID=Europe/Warsaw:20240606T170000
DTEND;TZID=Europe/Warsaw:20240606T190000
DTSTAMP:20260423T120131
CREATED:20240528T111544Z
LAST-MODIFIED:20240528T111544Z
UID:10016749-1717693200-1717700400@kultura.tarnow.pl
SUMMARY:Iskra 3 - Ewelina Lekka
DESCRIPTION:Zapraszamy na trzecie spotkanie Iskry! \nTym razem będziemy mieć naszą pierwszą gościnię – Ewelinę Lekką. Ewelina – industrial designerka i founderka – prowadzi własną\, małą\, rzemieślniczą\, rodzinną markę\, która zajmuje się renowacją mebli. Jej praca spotkała się z wielką akceptacją w całej Europie. Obecnie łączy swoją pasję do mebli i miłość do psów\, rozwijając nowy biznes – markę Reclino. \nNa spotkaniu Ewelina opowie o kulisach tworzenia tej marki i wyzwaniach\, z jakimi się zmagała. Podzieli się swoją historią\, jak połączyła dwie pasje w jeden biznes\, a także pokaże\, jak wygląda proces budowania marki od podstaw. \nGłównym tematem spotkania będzie Design Thinking. Ewelina nauczyła się tego podejścia na studiach i teraz codziennie wykorzystuje je w swojej pracy. Opowie o tym\, jak stosować Design Thinking w codziennym życiu\, jak pomaga on rozwiązywać problemy i jak kreatywność wspiera myślenie biznesowe. \n6 czerwca o godzinie 17:00 \nMCA\, Wałowa 25\, Tarnów \nWstęp wolny! \nCzym jest Iskra? \nIskra to inicjatywa stworzona w Tarnowie stworzona przez Justynę Procak\, mająca na celu wspieranie i rozwijanie młodych kreatywnych umysłów poprzez cykliczne spotkania i warsztaty. To przestrzeń\, gdzie dzielimy się doświadczeniami\, inspirujemy i uczymy nowych umiejętności. \nDołącz do nas\, zainspiruj się i rozwijaj swoją kreatywność!
URL:https://kultura.tarnow.pl/wydarzenie/iskra-3-ewelina-lekka/
LOCATION:Multimedialne Centrum Artystyczne\, Wałowa 25\, Tarnów\, małopolskie\, 33-100\, Polska
CATEGORIES:spotkania
ATTACH;FMTTYPE=image/png:https://kultura.tarnow.pl/wp-content/uploads/3-Iskra-Zdjecie-w-tle-event.png
ORGANIZER;CN="Biuro Wystaw Artystycznych":MAILTO:biuro@bwa.tarnow.pl
GEO:50.013866931068;20.987989998201
X-APPLE-STRUCTURED-LOCATION;VALUE=URI;X-ADDRESS=Multimedialne Centrum Artystyczne Wałowa 25 Tarnów małopolskie 33-100 Polska;X-APPLE-RADIUS=500;X-TITLE=Wałowa 25:geo:20.987989998201,50.013866931068
END:VEVENT
BEGIN:VEVENT
DTSTART;TZID=Europe/Warsaw:20240606T190000
DTEND;TZID=Europe/Warsaw:20240606T210000
DTSTAMP:20260423T120131
CREATED:20240420T224819Z
LAST-MODIFIED:20240520T224959Z
UID:10015945-1717700400-1717707600@kultura.tarnow.pl
SUMMARY:Krystyna Janda "My Way"
DESCRIPTION:„My Way” wyjątkowy spektakl w wykonaniu niezrównanej Krystyny Jandy odbędzie się w ramach 38. Tarnowskiej Nagrody Filmowej. Monolog sceniczny będący osobistą opowieścią o życiu i karierze artystki jest wyrazem jej niezwykłej pasji i talentu. Spektakl\, który miał swoją premierę w grudniu 2022 roku\, zyskał już status wydarzenia kultowego\, odzwierciedlając bogatą karierę i wkład Krystyny Jandy w polską kulturę. \nDecyzją kapituły TNF Krystyna Janda zostanie uhonorowana Nagrodą za całokształt twórczości oraz wkład w rozwój polskiej kinematografii. Tę wyjątkową nagrodę organizatorzy festiwalu\, co roku przyznają najbardziej wpływowym postaciom polskiego kina. Wśród laureatów byli już reżyserzy\, znakomici aktorzy\, a także przedstawiciele innych profesji kinematograficznych. Po spektaklu „My Way” odbędzie się ceremonia wręczenia Krystynie Jandzie statuetki „Wieczność” oraz nagrody pieniężnej w wysokości 10 tysięcy złotych. \nSpektakl „My Way” to intymna opowieść\, która została przygotowana przez Krystynę Jandę z okazji jej 70. urodzin i jest wykonywana przez nią samą\, co czyni wydarzenie jeszcze bardziej osobistym i wyjątkowym. Artystka dzieli się w nim wspomnieniami i refleksjami na temat swojego życia\, kariery\, przyjaciół oraz doświadczeń związanych z budową Teatru Polonia i Och-Teatru. To prawdopodobnie najbardziej niezwykłe przedstawienie w jej całym dorobku. \nKrystyna Janda mówi o świecie\, który tak ceniła\, a którego coraz bardziej się obawia (…) Umiera świat\, który znała i kochała\, znikają ludzie\, o których nam opowiadała. (…) Ona jest\, wciąż jest: silna i odpowiedzialna\, wie\, że musi przetrwać wszystko\, bo my\, jej Widzowie\, czekamy na to. Na gwiazdę na wysokich obcasach. Na śmiech Jandy. Czasami na łzy. Śmiejemy się i płaczemy razem. W adidasach\, patrząc na szpilki. To jest właśnie różnica. (fragment recenzji Łukasza Maciejewskiego) \nTekst\, koncepcja\, reżyseria i wykonanie: Krystyna Janda\nReżyseria światła: Rafał Piotrowski\, Waldemar Zatorski\nKostium: Tomasz Ossoliński\nAsystentka ds. scenografii i kostiumu: Małgorzata Domańska\nKonsultacja muzyczna: Janusz Bogacki\nRealizacja dźwięku: Michał Cacko\nProducent wykonawczy: Rafał Rossa\nWykonanie utworu „My Way” na trąbce: Jerzy Małek/Ignacy Wendt\nObsada: Krystyna Janda \nData i godzina: 6.06.2024 r.\, godz. 19.00\nMiejsce: Centrum Sztuki Mościce (Tarnów\, ul. Traugutta 1)\nBilety: 150 zł (dostępne w przedsprzedaży online na www.tck.pl)\nOrganizator: Tarnowskie Centrum Kultury \nOficjalna strona Festiwalu www.tarnowskanagrodafilmowa.pl \nKrystyna Janda  \nLaureatka Nagrody za całokształt twórczości i wkład w rozwój polskiej kinematografii 38. Tarnowskiej Nagrody Filmowej. \nUrodziła się w 1952 roku w Starachowicach. Wybitna aktorka  teatralna  i  filmowa\,  reżyserka\,  autorka  książek  oraz  felietonów. Absolwentka Wydziału Aktorskiego Państwowej Wyższej Szkoły Teatralnej w Warszawie. Jeszcze jako studentka zagrała Maszę w Trzech siostrach wyreżyserowanych przez Aleksandra Bardiniego w Teatrze Telewizji. W 1975 roku dołączyła do zespołu warszawskiego Teatru Ateneum\, a jedenaście lat później – Teatru Powszechnego w Warszawie. W filmie zadebiutowała w Człowieku z marmuru (1976) Andrzeja Wajdy. Artystyczne ścieżki Krystyny Jandy i Andrzeja Wajdy przecinały się zresztą wielokrotnie\, czego efektem niezapomniane role w filmach stanowiących klasykę polskiego kina. Uznawana była za główną aktorkę kina moralnego niepokoju. Kreacja Antoniny Dziwisz w Przesłuchaniu (1982\, premiera w 1989 roku) Ryszarda Bugajskiego przyniosła jej w 1990 roku Złotą Palmę na festiwalu w Cannes za najlepszą rolę kobiecą. Na swoim koncie ma ponad osiemdziesiąt ról filmowych docenianych w Polsce i za granicą. Obok Cannes – m.in. w San Sebastián\, Trieście\, Montrealu\, Belgradzie czy na prestiżowym amerykańskim Sundance Film Festival. W 1995 roku wyreżyserowała film Pestka. Ponadto reżyseruje w teatrze i telewizji. W 2005 roku otworzyła autorski Teatr Polonia prowadzony przez Fundację Krystyny Jandy na rzecz Kultury. W styczniu 2010 roku Fundacja otworzyła nową scenę – Och-Teatr w dawnym kinie Ochota. Została\, jako pierwsza kobieta\, odznaczona Medalem Karola Wielkiego (2006)\, przyznano jej także wiele polskich i francuskich odznaczeń państwowych za wybitne zasługi dla kultury.+ \n 
URL:https://kultura.tarnow.pl/wydarzenie/krystyna-janda-my-way/
LOCATION:Kino „Marzenie”\, ul. Staszica 4\, Tarnów\, małopolskie\, 33-100\, Polska
CATEGORIES:spektakle
ATTACH;FMTTYPE=image/jpeg:https://kultura.tarnow.pl/wp-content/uploads/MyWay1.jpg
GEO:50.011762;20.9833798
X-APPLE-STRUCTURED-LOCATION;VALUE=URI;X-ADDRESS=Kino „Marzenie” ul. Staszica 4 Tarnów małopolskie 33-100 Polska;X-APPLE-RADIUS=500;X-TITLE=ul. Staszica 4:geo:20.9833798,50.011762
END:VEVENT
END:VCALENDAR