BEGIN:VCALENDAR
VERSION:2.0
PRODID:-//kultura.tarnów - ECPv6.4.0.1//NONSGML v1.0//EN
CALSCALE:GREGORIAN
METHOD:PUBLISH
X-ORIGINAL-URL:https://kultura.tarnow.pl
X-WR-CALDESC:Wydarzenia dla
REFRESH-INTERVAL;VALUE=DURATION:PT1H
X-Robots-Tag:noindex
X-PUBLISHED-TTL:PT1H
BEGIN:VTIMEZONE
TZID:Europe/Warsaw
BEGIN:DAYLIGHT
TZOFFSETFROM:+0100
TZOFFSETTO:+0200
TZNAME:CEST
DTSTART:20240331T010000
END:DAYLIGHT
BEGIN:STANDARD
TZOFFSETFROM:+0200
TZOFFSETTO:+0100
TZNAME:CET
DTSTART:20241027T010000
END:STANDARD
END:VTIMEZONE
BEGIN:VEVENT
DTSTART;TZID=Europe/Warsaw:20240602T090000
DTEND;TZID=Europe/Warsaw:20240602T150000
DTSTAMP:20260423T000140
CREATED:20240512T231449Z
LAST-MODIFIED:20240520T231645Z
UID:10015965-1717318800-1717340400@kultura.tarnow.pl
SUMMARY:„Albrecht Dürer – grafiki”
DESCRIPTION:Albrecht Dürer (1471-1528)\, uważany jest na jednego z największych niemieckich malarzy\, grafików i rysowników. W kolekcji grafiki pochodzącej z pałacu książąt Sanguszków w Gumniskach (od 1945 roku w Muzeum Ziemi Tarnowskiej)\, przechowywanych jest kilkanaście rycin jego autorstwa. Są to drzeworyty z serii: „Wielka Pasja” z 1510 roku – 2 sztuki („Chrystus w otchłani”\, „Złożenie do grobu”) i „Mała Pasja” (1509-1511) – 4 sztuki („Chrystus opuszczający Matkę”\, „Ostatnia Wieczerza”\, „Zmartwychwstanie” oraz „Zesłanie Ducha Świętego”). Kolejne cykle reprezentuje w zbiorze 5 rycin z serii „Żywot Marii” \, a także pojedyncze sztychy „Św. Hieronim” i „Św. Rodzina”\, obydwa z 1511 roku. Prace artysty są sygnowane monogramem „AD”. Pierwotnie znajdowały się w pałacu w Sławucie\, należącym do ordynata zasławskiego Romana Damiana Sanguszki (1832-1917). Książe systematycznie\, od lat 60. XIX wieku\, tworzył swoją kolekcję\, głównie drogą zakupów antykwarycznych. Jego zbiór opatrzony okrągłą pieczęcią z napisem: „Biblioteka Romana Sanguszki”\, znacznie ucierpiał w czasie I i II wojny światowej. Znajdują się w nim grafiki ze szkoły niemieckiej\, niderlandzkiej\, włoskiej i angielskiej\, a także francuskiej\, z okresu od XVI do XVIII wieku. Wśród nich są także prace naśladowców Dürera wykonane w technice akwaforty\, współczesnych mu grafików\, m.in. Hieronymusa Hopfera: „Św. Hubert” i „Wielka armata”. Jak również działającego w Antwerpii Johannesa Wierixa „Św. Hieronim w celi” i „Adoracja Dzieciątka w stajence”. \nZe względu na charakter obiektów oraz ich stan zachowania prezentacja prac A. Dürera będzie ograniczona czasowo. Znaczące obostrzenia konserwatorskie\, pozwalają na eksponowanie ich tylko do 9 czerwca br. Wystawę będzie można zobaczyć w trakcie trwania tegorocznej Nocy Muzeów. Serdecznie Państwa zapraszamy! \nponiedziałek nieczynne\nwtorek 9.00 – 15.00\nśroda 9.00 – 15.00\nczwartek 9.00 – 15.00\npiątek 9.00 – 17.00\nsobota 10.00 – 15.00 (od 1 maja do 30 września); nieczynne (od 1 października do 30 kwietnia)\nniedziela 10.00 – 15.00 (od 1 maja do 30 września); 10.00 – 14.00 (od 1 października do 30 kwietnia) \nKuratorka wystawy: Barbara Bułdys \nWystawa czynna: 17 maja – 9 czerwca 2024 r.
URL:https://kultura.tarnow.pl/wydarzenie/albrecht-durer-grafiki/2024-06-02/
LOCATION:Muzeum Historii Tarnowa i Regionu\, Rynek 20-21\, Tarnów\, małopolskie\, 33-100\, Polska
CATEGORIES:wystawy
ATTACH;FMTTYPE=image/png:https://kultura.tarnow.pl/wp-content/uploads/baner-DURER-1-1.png
GEO:50.01295;20.9883
X-APPLE-STRUCTURED-LOCATION;VALUE=URI;X-ADDRESS=Muzeum Historii Tarnowa i Regionu Rynek 20-21 Tarnów małopolskie 33-100 Polska;X-APPLE-RADIUS=500;X-TITLE=Rynek 20-21:geo:20.9883,50.01295
END:VEVENT
BEGIN:VEVENT
DTSTART;TZID=Europe/Warsaw:20240602T100000
DTEND;TZID=Europe/Warsaw:20240602T220000
DTSTAMP:20260423T000140
CREATED:20240220T233822Z
LAST-MODIFIED:20240520T224027Z
UID:10015935-1717322400-1717365600@kultura.tarnow.pl
SUMMARY:38. Tarnowskia Nagroda Filmowa
DESCRIPTION:Tarnów ponownie stanie się stolicą polskiej kinematografii! Zbliża się 38. Tarnowska Nagroda Filmowa – Festiwal Polskich Filmów Pełnometrażowych. \nFestiwal rozpocznie się 31 maja i potrwa do 8 czerwca 2024 r. Projekcje konkursowe\, pokazy specjalne oraz cykl Filmy Młodego Widza będą prezentowane w jednym z najstarszych działających kin w Polsce – Marzeniu. W Konkursie Głównym – filmów pełnometrażowych – reżyserzy ubiegają się o nagrody: Grand Prix „Maszkaron”\, Nagrodę Publiczności „Publika” i Jury Młodzieżowego „Kamerzysta”. Drugim konkursem Festiwalu jest konkurs bajek prezentowany w przeglądzie „Filmy Młodego Widza” – Jury Dziecięce nagrodzi Statuetką „Maszkaronka” producenta najlepszej animacji. \nKto w tym roku ma szansę na statuetkę „Maszkarona”? O najważniejsze laury Festiwalu powalczy 12 polskich produkcji\, wśród których znalazło się miejsce zarówno dla filmów fabularnych\, jak i dokumentów\, w tym kilku debiutów reżyserskich. Będą to: „Biała odwaga”\, „Chłopi”\, „Doppelganger. Sobowtór”\, „Horror story”\, „Imago”\, „Kobieta z…”\, „Kos”\, „Skąd dokąd”\, „Tyle co nic”\, „Tylko dzień i noc”\, „Ukryta sieć” oraz „Zielona granica”. \nPracom Jury profesjonalnego będzie przewodniczył znakomity dokumentalista Paweł Łoziński\, a skład uzupełnią przedstawiciele filmowych profesji – Weronika Bilska (operatorka)\, Julia Kijowska (aktorka)\, Marta Kownacka (reżyserka castingu)\, Tomasz Kolankiewicz (filmoznawca) oraz Mariusz Włodarski (producent). Werdykt poznamy podczas Gali Wręczenia Nagród 8 czerwca w tarnowskim kinie Marzenie. Finał zwieńczy koncert muzyki filmowej w wykonaniu Royal String Quartet. \nObrady Jury Profesjonalnego oraz dwóch pozostałych gremiów jurorskich dopiero w czerwcu\, jednak znamy już pierwszą Laureatkę. Decyzją kapituły Festiwalu Nagrodą za całokształt twórczości i wkład w polską kinematografię zostanie uhonorowana wybitna postać rodzimego kina – Krystyna Janda. Nagroda zostanie wręczona podczas wydarzenia specjalnego – spektaklu „My Way” w reżyserii Laureatki. \nTo jednak niejedyne wydarzenie towarzyszące Festiwalu.  Program wzbogacą koncerty\, wystawy plakatu\, fotografii oraz sztuki ulicznej\, warsztaty z zakresu edukacji filmowej\, ale przede wszystkim projekcje specjalne filmów krótkometrażowych i wideoklipów oraz spotkania z twórcami. Pełny program 38. Tarnowskiej Nagrody Filmowej jest dostępny na stronie www.tarnowskanagrodafilmowa.pl. Zapraszamy na wielkie święto polskiego kina w Tarnowie. \n38. Tarnowska Nagroda Filmowa Festiwal Polskich Filmów Pełnometrażowych \nProgram ramowy \nFilmy konkursowe (12): \n„Biała odwaga”\, reż. Marcin Koszałka\n„Chłopi”\, reż. DK & Hugh Welchman\n„Sobowtór”\, reż. Jan Holoubek\n„Horror story”\, reż. Adrian Apanel\n„Imago”\, reż. Olga Chajdas\n„Kobieta z…”\, reż. Małgorzata Szumowska\, Michał Englert\n„Kos”\, reż. Paweł Maślona\n„Skąd dokąd”\, reż. Maciej Hamela\n„Tyle co nic”\, reż. Grzegorz Dębowski\n„Tylko dzień i noc”\, reż. Grzegorz Brzozowski\n„Ukryta sieć”\, reż. Piotr Adamski\n„Zielona granica”\, reż. Agnieszka Holland \nProjekcje specjalne – krótkie metraże \n„As it was”\, reż. Anastasiia Solonevych\, Damian Kocur\n„Być kimś”\, reż. Michał Toczek\n„Misie polarne”\, reż. Bartosz Stankiewicz\n„Moje stare”\, reż. Natasza Parzymies\n„Piękna łąka kwietna”\, reż. Emi Buchwald\n„Sprzedawca”\, reż. Patryk Kaflowski\n„Te cholerne peonie”\, reż. Polina Biliaieva\n„Warszawa\, Holandia”\, reż. Chiang Ming-Wei \nProjekcje specjalne \n„Jeszcze krótsze metraże” – pokaz wideoklipów (prowadzenie: Hirek Wrona) \nFilmy Młodego Widza – Konkurs \nKonkurs bajek – projekcje specjalne \n„Jestem w sam raz”\, reż. Marcin Wasilewski\n„Kicia Kocia w Przedszkolu”\, reż. Anita Głowińska\n„Za duży na bajki 2”\, reż. Kristoffer Rus \nEpilog \nPokaz filmów Laureatów 38. TNF \nPodsumowanie Festiwalu. \nProjekcja specjalna oraz spotkanie z Dianą Dąbrowską \nKoncerty: \nTomek Ziętek\nRoyal String Quartet (Gala Wręczenia Nagród) \nSpektakle: \n„My Way” Monolog Krystyny Jandy\n„Stramerowie”\, reż. Tomasz Cyz\n„Dzień dziecka: O świerszczu Maurycym i bandzie komara” (Teatr Za jeden uśmiech) \nWystawy: \n„© Plakiat. Wystawa wybranych plakatów artystycznych vol. 2” (Maks Bereski) – BWA Tarnów (31.05-16.06.2024)\n„Nie mogę na to patrzeć. Inka Rosocha” – Galeria TCK (25.05-806.2024)\n„Filmowa wystawa uliczna” (szczegóły wkrótce) \nWarsztaty \nWarsztaty aktorskie „Tu i teraz” (prowadzenie Dagmara Brodziak i Michał Krzywicki) \nKino plenerowe \n1 seans pod Gemini Park Tarnów\n4 seanse w plenerze przy Domu Kultury Westerplatte \nCENY BILETÓW \nProjekcje w kinie Marzenie: 10 zł (wszystkie projekcje)\nKoncert Tomka Ziętka (Inauguracja TNF): 30 zł\nGala Wręczenia Nagród/Koncert Royal String Quartet: 50 zł\nSpektakl „My Way”: 150 zł\nSpektakl „Stramerowie”: 40 zł \nBezpłatnie: spektakl dla dzieci\, kino plenerowe\, wystawy\, warsztaty\, spotkania z twórcami
URL:https://kultura.tarnow.pl/wydarzenie/38-tarnowskia-nagroda-filmowa-2/2024-06-02/
LOCATION:Kino „Marzenie”\, ul. Staszica 4\, Tarnów\, małopolskie\, 33-100\, Polska
CATEGORIES:festiwale
ATTACH;FMTTYPE=image/jpeg:https://kultura.tarnow.pl/wp-content/uploads/tnf_16x9-poziom_small.jpg
GEO:50.011762;20.9833798
X-APPLE-STRUCTURED-LOCATION;VALUE=URI;X-ADDRESS=Kino „Marzenie” ul. Staszica 4 Tarnów małopolskie 33-100 Polska;X-APPLE-RADIUS=500;X-TITLE=ul. Staszica 4:geo:20.9833798,50.011762
END:VEVENT
BEGIN:VEVENT
DTSTART;TZID=Europe/Warsaw:20240602T110000
DTEND;TZID=Europe/Warsaw:20240602T233000
DTSTAMP:20260423T000140
CREATED:20240524T084819Z
LAST-MODIFIED:20240524T091735Z
UID:10015972-1717326000-1717371000@kultura.tarnow.pl
SUMMARY:Malowana Chata - festyn "Zalipiańskie pasje"
DESCRIPTION:W tym roku przypada 61. edycja organizowanego przez Muzeum Ziemi Tarnowskiej Konkursu „Malowana Chata”. Objazd zgłoszonych do Konkursu zagród przez komisję jurorów odbędzie się w dniach 30 maja-1 czerwca\, a uroczyste ogłoszenie wyników 2 czerwca 2024 r. w Domu Malarek w Zalipiu.\nGłównym celem Konkursu od dziesięcioleci organizowanego przez Muzeum Ziemi Tarnowskiej jest podtrzymanie unikatowej w skali Europy ludowej tradycji zdobienia ścian domów i obejść gospodarczych\, a także dokumentacja i archiwizacja tego zjawiska. W Konkursie biorą udział twórcy z kilkunastu wsi Powiśla Dąbrowskiego\, w tym Zalipia określanego mianem „Malowanej Wsi”. Uczestnicy rywalizują m.in. w kategoriach nowych malatur oraz zachowania dawnych\, już istniejących.\n\nProgram Konkursu:\n30.05.-01.06.2024 r. – objazd zagród i ocena zgłoszonych prac przez komisję konkursową.\n2.06.2024 r.\, godz. 15.00 – finał Konkursu:\nogłoszenie wyników i rozdanie nagród;\npromocja publikacji będącej pokłosiem międzynarodowej sesji „Tradycja malowanych domów w Europie Środkowo-Wschodniej” zrealizowanej podczas jubileuszowej\, 60. edycji Konkursu „Malowana Chata”\n\nW dniu ogłoszenia wyników Konkursu „Malowana Chata”\, Stowarzyszenie Zalipiańskich Malarek w Zalipiu oraz Dom Malarek zapraszają na festyn „Zalipiańskie Pasje”\, który odbędzie się przed Domem Malarek w Zalipiu.\n\nPlan Wydarzenia:\n11:00\, 12:15\, 13:30 – ogólnodostępne warsztaty plastyczne „Zalipiańskie malowanki” (grupy max.20 osobowe);\n16:30 – występ Szkolnego Zespołu Folklorystycznego „Mali Zalipianie;\n17:00 – występ Grupy Regionalnej z Uszwi okraszony gadką w wykonaniu Krzysztofa Ryndaka z Siedliszowic;\n18:00 – występ Zespołu Folklorystycznego „Otfinowianie” – pieśni\, piosenki i tańce Powiśla Dąbrowskiego i Regionu Krakowskiego;\n18:30 – program animacyjny dla dzieci „Zabawa na całego z Ani Mani” z Tarnowa;\n19:30 – koncert folkowej grupy instrumentalno-wokalnej „Turnioki”;\n20:30 – 00:00 – biesiada przy muzyce tanecznej z DJ Marko\, dmuchany plac zabaw dla dzieci\, stoiska gastronomiczne.\nDofinansowano ze środków Ministra Kultury i Dziedzictwa Narodowego pochodzących z Funduszu Promocji Kultury – państwowego funduszu celowego
URL:https://kultura.tarnow.pl/wydarzenie/73171/
LOCATION:małopolskie
CATEGORIES:konkursy
END:VEVENT
BEGIN:VEVENT
DTSTART;TZID=Europe/Warsaw:20240602T140000
DTEND;TZID=Europe/Warsaw:20240602T180000
DTSTAMP:20260423T000140
CREATED:20240531T112310Z
LAST-MODIFIED:20240531T112310Z
UID:10017124-1717336800-1717351200@kultura.tarnow.pl
SUMMARY:Kreatywny Tarnów - Mobilny Plac Zabaw
DESCRIPTION:
URL:https://kultura.tarnow.pl/wydarzenie/kreatywny-tarnow-mobilny-plac-zabaw/
LOCATION:Rynek\, Tarnów\, małopolskie\, 33-100\, Polska
CATEGORIES:spotkania
ATTACH;FMTTYPE=image/jpeg:https://kultura.tarnow.pl/wp-content/uploads/plakat_dzien_dziecka-.jpg
GEO:50.0121011;20.9858407
END:VEVENT
BEGIN:VEVENT
DTSTART;TZID=Europe/Warsaw:20240602T150000
DTEND;TZID=Europe/Warsaw:20240602T200000
DTSTAMP:20260423T000140
CREATED:20240422T135153Z
LAST-MODIFIED:20240520T135409Z
UID:10015860-1717340400-1717358400@kultura.tarnow.pl
SUMMARY:"Świat zmysłów" - wystawa interaktywna
DESCRIPTION:Zapraszamy na wyjątkową wystawę interaktywną „Świat zmysłów”\, która otwiera przed zwiedzającymi drzwi do fascynującego świata ludzkich zmysłów. Przez prawie dwa miesiące odwiedzający mają niepowtarzalną okazję do osobistego zgłębiania tajników wzroku\, słuchu\, dotyku i zapachu poprzez bezpośrednią interakcję i doświadczanie. \nWystawa podzielona jest na trzy części\, każda z nich zaprojektowana\, by odkryć przed nami inne aspekty naszych zmysłów: \n\nReceptory: Poznajemy budowę i funkcje narządów zmysłów\, eksplorując ich kluczowe cechy.\nMono czy Stereo?: Zastanawiamy się\, jaką rolę odgrywa posiadanie pary oczu\, uszu\, czy rąk w postrzeganiu świata i jak różniłoby się nasze doświadczanie bez tej podwójności.\nIluzje: Odkrywamy\, jak nasze zmysły mogą nas wprowadzać w błąd\, ale również jak możemy manipulować zmysłami innych.\n\nKażda sekcja wystawy charakteryzuje się unikalną aranżacją kolorystyczną\, tworząc różnorodne tło dla eksperymentów. \nDlaczego warto odwiedzić? \nWystawa „Świat zmysłów” zapewnia unikalne doświadczenie dzięki 34 stanowiskom doświadczalnym\, które zachęcają do aktywnego uczestnictwa. Jest to zarówno źródło niezwykłej zabawy\, jak i głębokiej edukacji\, pozwalającej zrozumieć nie tylko otaczający nas świat\, ale i samych siebie. \nZapisy dla grup zorganizowanych: Dział Edukacji – tel. 14 633 46 11\n \nZwiedzanie indywidualne: poniedziałek – niedziela\, w godzinach 15:00 – 20:00 \nGrupy zorganizowane\, klasy szkolne: poniedziałek – piątek\, 9:00\, 10:00\, 11:00\, 12:00\, 13:00 (zwiedzanie trwa 45 min.) \nPartner wystawy: Uniwersytet Jagielloński w Krakowie \n 
URL:https://kultura.tarnow.pl/wydarzenie/swiat-zmyslow-wystawa-interaktywna/2024-06-02/
LOCATION:Centrum Sztuki Mościce\, Traugutta 1\, Tarnów\, małopolskie\, 33-101\, Polska
CATEGORIES:wystawy
ATTACH;FMTTYPE=image/jpeg:https://kultura.tarnow.pl/wp-content/uploads/img_c8bb757a3bfcb33b7fd02d7cdbd2e38f-1024x1024-1.jpeg
GEO:50.009833;20.92706
X-APPLE-STRUCTURED-LOCATION;VALUE=URI;X-ADDRESS=Centrum Sztuki Mościce Traugutta 1 Tarnów małopolskie 33-101 Polska;X-APPLE-RADIUS=500;X-TITLE=Traugutta 1:geo:20.92706,50.009833
END:VEVENT
BEGIN:VEVENT
DTSTART;TZID=Europe/Warsaw:20240602T180000
DTEND;TZID=Europe/Warsaw:20240602T190000
DTSTAMP:20260423T000141
CREATED:20240513T224431Z
LAST-MODIFIED:20240520T224810Z
UID:10015944-1717351200-1717354800@kultura.tarnow.pl
SUMMARY:Goście Łukasza Maciejewskiego - Andrzej Seweryn
DESCRIPTION:Niewielu jest gości cyklu Łukasza Maciejewskiego\, którzy mogliby pochwalić się równie imponującym dorobkiem\, co Andrzej Seweryn.  Aktor – także reżyser\, dyrektor Teatru Polskiego; gwiazda sceny\, kina\, telewizji\, ceniony w Polsce i na świecie.\nW znakomitym dokumencie\, „Jestem postacią fikcyjną”\, który zobaczymy w Tarnowie premierowo\, Seweryn pokazuje się z innej\, prywatnej strony. Jako artysta w tej samej mierze wymagający\, co zmęczony; dociekliwy co ambitny. Artysta spełniony. W uzupełnieniu tarnowskiego wieczoru filmowego z Andrzejem Sewerynem\, zaprosimy na kanadyjsko-polski film „Przysięga Ireny” z ważną i udaną rolą bohatera spotkania. \n \nPlan wieczoru: \ngodz. 18:00 – seans filmu 'Jestem postacią fikcyjną”\nok. godz. 19:20 – rozmowa Łukasza Maciejewskiego z Andrzejem Sewerynem\nok. 20:30 – seans filmu „Przysięga Ireny” \n„Jestem postacią fikcyjną”\nReżyseria:  Arkadiusz Bartosiak\nProdukcja: 2024\, Polska\nCzas trwania: 75 min.\nGatunek: biograficzny\nData polskiej premiery kinowej: 26 maja 2024 \nO filmie: \nAndrzej Seweryn aktor\, reżyser\, dyrektor\, społecznik. Od ponad 50. lat jest w pogoni za swoją pasją i nadal z młodzieńczą werwą rzuca się w nowe zawodowe wyzwania. Film jest dokumentem obserwacyjnym. Kamera podąża za bohaterem\, jest dyskretnym\, uważnym i niezauważalnym towarzyszem. Na ekranie widzimy wielkiego artystę\, ale widzimy też pełnokrwistego człowieka. Staramy się zrozumieć\, jakie targają nim emocje i z czego bierze się jego niewyczerpana\, wewnętrzna energia. \nZespół Edukatorów Filmowych poleca:  \n„Jestem postacią fikcyjną” to wielowymiarowy\, bardzo ciekawy oraz dopracowany formalnie portret Andrzeja Seweryna – wielkiego aktora i niesamowitego człowieka\, którego widz może zobaczyć w przeróżnych sytuacjach i rolach\, zarówno prywatnych jak i zawodowych. \nTo obserwacyjny\, lakoniczny\, ale gęsty dokument\, w którym towarzysząc bohaterowi\, poznajemy jego sposób postrzegania świata i ważne dla niego wartości. Widzimy\, że jest CZŁOWIEKIEM – wątpiącym\, zmęczonym\, sfrustrowanym\, wybuchowym\, ale także czułym\, wrażliwym\, uważnym i zaangażowanym. \nObserwujemy rozmowy urzędowe dyrektora\, próby aktora\, wystąpienia publiczne i polityczne ważnej postaci życia społecznego. Widzimy go także jako męża\, dziadka\, pedagoga czy pacjenta. Dzięki tym zderzeniom miejsc i ról udaje się odrzeć Andrzeja Seweryna z pewnej otoczki sławy i pokazać człowieka\, który nieustannie mierzy się z nadmiarem obowiązków. Stara się\, pomimo to\, utrzymać więzi rodzinne i zachować dobre zdrowie\, co nie jest łatwe i budzi jego frustrację. \nAndrzej Seweryn należy do pokolenia „mistrzów” teatru\, którzy surową (auto)dyscypliną osiągali wysoki poziom swojego fachu. Dla młodszych pokoleń taka postawa bywa problematyczna – te tarcia są w filmie wyczuwalne. Bohater jest perfekcjonistą – wiele wymaga od siebie i od innych\, co wiąże się z jego częstym niezadowoleniem i irytacją\, a nawet może stać się zarzewiem konfliktu. \nJednocześnie\, zaglądając za teatralne i filmowe kulisy\, twórcom udaje się uchwycić i ciężką pracę\, ale i wspaniałe momenty: błysk w oku po udanym spektaklu\, satysfakcję z dobrze skrojonego kostiumu czy niezwykłą przemianę\, jakiej podlega główny bohater po wkroczeniu w blask reflektorów. \nSztuka jest dla niego misją i powołaniem\, ale wiąże się z wielkimi stratami choćby w zakresie życia prywatnego. Czy da się pogodzić te dwie sfery? Dokument zostawia jednak wiele miejsca na własne interpretacje dla widzów\, czyniąc z Andrzeja Seweryna postać odważną\, nie bojącą się wyzwań\, ale też ludzką i wieloznaczną. \nWartością filmu jest sposób opowiadania o człowieku – zarówno w warstwie narracyjnej jak i formalnej. Sposób prowadzenia kamery sprawia\, że widzimy bohatera w sytuacjach prywatnych\, chwilami niemal intymnych\, a na pewno nie filmowych. Dane jest nam obserwować jego reakcje\, czasem niemal podsłuchiwać i podglądać. Szybko ulegamy złudzeniu obiektywizmu. Historię jego życia wysnuwamy często z pojedynczych zdań\, nie jest opowiedziana wprost\, ale uzasadnia zachowania tu i teraz\, co sprawia\, że film pozwala na myślenie jeszcze długo po jego zakończeniu – jak pozostające w pamięci rozmowy z wnukiem czy rehabilitantką – proste a równocześnie bardzo głębokie. Kamera nie dba o „ładne” ujęcia\, dba o zarejestrowanie ścieżki życia bohatera w jego codzienności – i tej wielkiej\, i tej małej. Na uwagę zasługuje także pięknie ukazana drugoplanowa obecność żony bohatera. Obecna – nieobecna. Zaangażowana\, aktywna\, towarzysząca\, będąca obok\, za plecami\, po drugiej stronie telefonu\, ale zawsze będąca. \nFilm powinno się oglądać z obowiązkowym przybliżeniem sylwetki Andrzeja Seweryna\, gdyż nie każda ucząca się osoba może być świadoma jego dokonań na różnych polach. Zajęcia przed lub po seansie warto wzbogacić o obejrzenie i omówienie fragmentów z jego kreacjami aktorskimi (a jest z czego wybierać…)\, zwracając uwagę na ich różnorodność (np. wskazując i analizując środki artystycznego wyrazu\, służące tworzeniu postaci) oraz konfrontując to z obrazem osoby\, który powstaje w głowie widza na podstawie filmu Jestem postacią fikcyjną. \nFilm stanowi wartościowy materiał szczególnie dla tych młodych widzów\, którzy zastanawiają się nad karierą artystyczną. Pokazuje blaski i cienie pracy przed kamerą i na scenie\, a także prowokuje do refleksji na temat roli artysty we współczesnym świecie. Jakimi ideałami powinien się kierować? Czy powinien angażować się w bieżące spory społeczne i polityczne? Jak wiele może poświęcić dla dobra sztuki? \nPo projekcji można będzie poruszyć także temat pasji\, odpowiedzialności\, zaangażowania\, relacji prywatnych i oficjalnych\, wagi odpoczynku i dbania o siebie i innych; porozmawiać o wyborach życiowych i cenie\, jaką płaci się za profesjonalne podejście do swojej pracy (a dotyczy to nie tylko zawodu aktora). \n„Przysięga Ireny” \nFilm w reżyserii Louise Archambault to inspirowana prawdziwymi wydarzeniami historia nastoletniej Ireny Gut\, która w czasie II wojny światowej z narażeniem życia ukrywała i uratowała od zagłady kilkanaście osób żydowskiego pochodzenia. „Przysięga Ireny” wchodzi na ekrany kin w całym kraju 19 kwietnia\, a 14 marca odbędzie się w Warszawie pokaz prasowy. FINA jest koproducentem filmu \n„Przysięga Ireny” to prawdziwa\, przejmująca opowieść o zachowaniu człowieczeństwa w nieludzkich czasach II wojny światowej. Historia jest oparta na faktach z życia Ireny Gut-Opdyke\, która z narażeniem życia ratowała Żydów ukrywających się po likwidacji getta. \nW głównych rolach zobaczymy gwiazdy światowego kina: Sophie Nélisse i Dougraya Scotta. W obsadzie polsko- kanadyjskiej koprodukcji znaleźli się również: Andrzej Seweryn\, Filip Kosior\, Rafał Mohr\, Eliza Rycembel\, Tomasz Tyndyk\, Irena Melcer\, Eryk Kulm Jr\, Mateusz Mosiewicz\, Rafał Maćkowiak\, Maciej Nawrocki\, Zuza Puławska\, Krzysztof Szczepaniak\, Aleksandar Milićević i Agata Turkot. Reżyserką obrazu jest wielokrotnie nagradzana Louise Archambault\, natomiast za zdjęcia odpowiada Paul Sarossy. Scenariusz napisał Dan Gordon\, który jest również autorem sztuki o Irenie Gut-Opdyke\, która zdobyła serca nowojorskiej widowni offbroadwayowskiej sceny w 2008 roku. Światowa premiera filmu miała miejsce na 48. Międzynarodowym Festiwalu Filmowym w Toronto. \nFilm wchodzi na ekrany kin 19 kwietnia. Obraz wyprodukowal Darius\, K&K Film Select oraz Entract. Filmoteka Narodowa – Instytut Audiowizualny wspólnie z Telewizją Polską są koproducentami filmu. \nAndrzej Seweryn  \nAktor i reżyser teatralny oraz filmowy; pedagog. W 1968 roku ukończył Państwową Wyższą Szkołę Teatralną w Warszawie\, po czym został zaangażowany do stołecznego Teatru Ateneum\, w którym pracował do 1980 roku. Jego pierwsza wybitna rola filmowa to Maks Baum w „Ziemi obiecanej” Andrzeja Wajdy. Zagrał również w takich filmach jak: „Na srebrnym globie” Andrzeja Żuławskiego\, „Granicy” Jana Rybkowskiego oraz w „Człowieku z żelaza”\, „Bez znieczulenia” i „Dyrygencie” Andrzeja Wajdy. Za udział w tym ostatnim otrzymał w 1980 r. nagrodę Srebrnego Niedźwiedzia na Festiwalu Filmowym w Berlinie. \nW 1980 roku wyjechał do Paryża\, by zagrać w „Onych” Witkacego w reżyserii Andrzeja Wajdy. Kiedy Peter Brook zobaczył go w „Mistrzu i Małgorzacie” M. Bułhakowa w paryskim Theatre de la Ville\, zaangażował go do „Mahabharaty”\, teatralnego widowiska\, którego premiera odbyła się w 1985 roku\, sfilmowanego kilka lat później\, granego na całym świecie przez cztery lata. \nW 1993 roku Seweryn\, jako trzeci cudzoziemiec w historii\, otrzymał angaż do Comédie Française\, jednego z najbardziej prestiżowych zespołów teatralnych na świecie. Na narodowej scenie Francji zadebiutował tytułową rolą w „Don Juanie” Molièra. Następnie zagrał tytułową rolę w „Mieszczanienie szlachcicem”\, wcielił się w rolę Gajewa w „Wiśniowym sadzie”\, Prezydenta von Waltera w „Intrydze i miłości” Friedricha von Schillera\, Henryka w „Ślubie” Witolda Gombrowicza\, Shylocka w „Kupcu weneckim” Williama Shakespeare’a oraz de Guiche’a w „Cyrano de Bergerac” Edmonda Rostanda. Na deskach francuskiej sceny narodowej wyreżyserował także między innymi „Małżeństwo z przymusu” Moliera oraz „Wieczór trzech Króli” Shakespeare’a. \nW kinie francuskim najważniejszymi osiągnięciami Seweryna są: Steiner w „Amoku”\, za którą to rolę otrzymał nagrodę na Międzynarodowym Festiwalu Filmowym w Kairze\, Hebrard w nagrodzonych Oscarem „Indochinach” oraz rola przywódcy Wielkiej Rewolucji Francuskiej\, Robespierre’a w „Rewolucji francuskiej” Richarda T. Heffrona i Roberta Enrico. \nBył wykładowcą Wyższej Szkoły Sztuki i Technik Teatralnych w Lyonie\, a potem do 2010 r. Wyższego Konserwatorium Narodowego Sztuk Dramatycznych w Paryżu. \nNa początku lat 90. zagrał kilka wybitnych ról w Teatrze Telewizji\, m.in. tytułowe postaci dramatów Williama Shakespeare’a: „Ryszarda III” w reż. F. Falka i „Koriolana” w reż. M. Borka oraz „Don Juana” Molièra w reż. L. Wosiewicza. Za rolę w „Krawcu” Mrożka w reż. M. Kwiecińskiego otrzymał nagrodę aktorską na VI Ogólnopolskim Konkursie na wystawienie polskiej sztuki współczesnej. Dla Teatru Telewizji Seweryn wyreżyserował „Tartuffe’a\, czyli obłudnika” Molièra i „Antygonę” Sofoklesa. W Teatrze Narodowym wyreżyserował „Ryszarda II” Williama Shakespeare’a (2004)\, w Teatrze Polonia „Dowód” (2008) Davida Auburna\, w którym wcielił się także w rolę Roberta. \nPracował również w polskim kinie\, gdzie zagrał m.in. Jeremiego Wiśniowieckiego w „Ogniem i mieczem” J. Hoffmana\, Sędziego w „Panu Tadeuszu” i Rejenta Milczka w „Zemście” A. Wajdy. Za rolę Stefana Wyszyńskiego w filmie Teresy Kotlarczyk pt. „Prymas. Trzy lata z tysiąca” otrzymał Złotą Kaczkę przyznawaną przez miesięcznik „Film” oraz nagrodę Telewizji Polskiej na XXV Festiwalu Polskich Filmów Fabularnych w Gdyni. W 2006 roku premierę miał film pod tytułem „Kto nigdy nie żył…”\, który był reżyserskim debiutem Andrzeja Seweryna. W 2010 roku wystąpił w głośnym filmie „Różyczka” w reż. J. Kidawy-Błońskiego. Za rolę Adama Warczewskiego vel Janusza Wajnera otrzymał nagrodę na międzynarodowym festiwalu filmowym w Santo Domingo. W 2016 roku\, za rolę Zdzisława Beksińskiego w „Ostatniej rodzinie” Jana P. Matuszyńskiego\, otrzymał nagrody na Festiwalach w Locarno i Gdyni oraz Orła 2017 za Najlepszą Główną Rolę Męską. \nOd 1 stycznia 2011 roku jest Dyrektorem Naczelnym Teatru Polskiego w Warszawie\, gdzie gra i reżyseruje. W 2013 roku\, z okazji 100-lecia istnienia Teatru Polskiego w Warszawie wyreżyserował spektakl „Irydion” Zygmunta Krasińskiego. Jego najbardziej uznane role\, w jakie wcielił się na deskach tego teatru\, to tytułowa rola w spektaklu „Król Lear” Williama Shakespeare’a (reż. J. Lassalle)\, rola Arnolfa w „Szkole Żon” Moliera (reż. J. Lassalle)\, a także role Krappa i Hamma w spektaklach „Ostatnia taśma Krappa” oraz „Końcówka” Samuela Becketta w reż. Antoniego Libery. \nOdznaczony Orderem Sztuk Pięknych i Nauk Humanistycznych\, Legią Honorową Republiki Francuskiej\, Złotym Medalem Gloria Artis – Zasłużony Kulturze Ministra Kultury i Dziedzictwa Narodowego oraz Krzyżem Komandorskim Orderu Odrodzenia Polski. \n 
URL:https://kultura.tarnow.pl/wydarzenie/goscie-lukasza-maciejewskiego-andrzej-seweryn/
LOCATION:Centrum Sztuki Mościce\, Traugutta 1\, Tarnów\, małopolskie\, 33-101\, Polska
CATEGORIES:spotkania
ATTACH;FMTTYPE=image/jpeg:https://kultura.tarnow.pl/wp-content/uploads/andrzej-seweryn-2siatka-1200-1080x1397-662f61c43a517.jpg
GEO:50.009833;20.92706
X-APPLE-STRUCTURED-LOCATION;VALUE=URI;X-ADDRESS=Centrum Sztuki Mościce Traugutta 1 Tarnów małopolskie 33-101 Polska;X-APPLE-RADIUS=500;X-TITLE=Traugutta 1:geo:20.92706,50.009833
END:VEVENT
END:VCALENDAR