BEGIN:VCALENDAR
VERSION:2.0
PRODID:-//kultura.tarnów - ECPv6.4.0.1//NONSGML v1.0//EN
CALSCALE:GREGORIAN
METHOD:PUBLISH
X-WR-CALNAME:kultura.tarnów
X-ORIGINAL-URL:https://kultura.tarnow.pl
X-WR-CALDESC:Wydarzenia dla
REFRESH-INTERVAL;VALUE=DURATION:PT1H
X-Robots-Tag:noindex
X-PUBLISHED-TTL:PT1H
BEGIN:VTIMEZONE
TZID:Europe/Warsaw
BEGIN:DAYLIGHT
TZOFFSETFROM:+0100
TZOFFSETTO:+0200
TZNAME:CEST
DTSTART:20240331T010000
END:DAYLIGHT
BEGIN:STANDARD
TZOFFSETFROM:+0200
TZOFFSETTO:+0100
TZNAME:CET
DTSTART:20241027T010000
END:STANDARD
END:VTIMEZONE
BEGIN:VEVENT
DTSTART;TZID=Europe/Warsaw:20240601T090000
DTEND;TZID=Europe/Warsaw:20240601T150000
DTSTAMP:20260422T155922
CREATED:20240512T231449Z
LAST-MODIFIED:20240520T231645Z
UID:10015964-1717232400-1717254000@kultura.tarnow.pl
SUMMARY:„Albrecht Dürer – grafiki”
DESCRIPTION:Albrecht Dürer (1471-1528)\, uważany jest na jednego z największych niemieckich malarzy\, grafików i rysowników. W kolekcji grafiki pochodzącej z pałacu książąt Sanguszków w Gumniskach (od 1945 roku w Muzeum Ziemi Tarnowskiej)\, przechowywanych jest kilkanaście rycin jego autorstwa. Są to drzeworyty z serii: „Wielka Pasja” z 1510 roku – 2 sztuki („Chrystus w otchłani”\, „Złożenie do grobu”) i „Mała Pasja” (1509-1511) – 4 sztuki („Chrystus opuszczający Matkę”\, „Ostatnia Wieczerza”\, „Zmartwychwstanie” oraz „Zesłanie Ducha Świętego”). Kolejne cykle reprezentuje w zbiorze 5 rycin z serii „Żywot Marii” \, a także pojedyncze sztychy „Św. Hieronim” i „Św. Rodzina”\, obydwa z 1511 roku. Prace artysty są sygnowane monogramem „AD”. Pierwotnie znajdowały się w pałacu w Sławucie\, należącym do ordynata zasławskiego Romana Damiana Sanguszki (1832-1917). Książe systematycznie\, od lat 60. XIX wieku\, tworzył swoją kolekcję\, głównie drogą zakupów antykwarycznych. Jego zbiór opatrzony okrągłą pieczęcią z napisem: „Biblioteka Romana Sanguszki”\, znacznie ucierpiał w czasie I i II wojny światowej. Znajdują się w nim grafiki ze szkoły niemieckiej\, niderlandzkiej\, włoskiej i angielskiej\, a także francuskiej\, z okresu od XVI do XVIII wieku. Wśród nich są także prace naśladowców Dürera wykonane w technice akwaforty\, współczesnych mu grafików\, m.in. Hieronymusa Hopfera: „Św. Hubert” i „Wielka armata”. Jak również działającego w Antwerpii Johannesa Wierixa „Św. Hieronim w celi” i „Adoracja Dzieciątka w stajence”. \nZe względu na charakter obiektów oraz ich stan zachowania prezentacja prac A. Dürera będzie ograniczona czasowo. Znaczące obostrzenia konserwatorskie\, pozwalają na eksponowanie ich tylko do 9 czerwca br. Wystawę będzie można zobaczyć w trakcie trwania tegorocznej Nocy Muzeów. Serdecznie Państwa zapraszamy! \nponiedziałek nieczynne\nwtorek 9.00 – 15.00\nśroda 9.00 – 15.00\nczwartek 9.00 – 15.00\npiątek 9.00 – 17.00\nsobota 10.00 – 15.00 (od 1 maja do 30 września); nieczynne (od 1 października do 30 kwietnia)\nniedziela 10.00 – 15.00 (od 1 maja do 30 września); 10.00 – 14.00 (od 1 października do 30 kwietnia) \nKuratorka wystawy: Barbara Bułdys \nWystawa czynna: 17 maja – 9 czerwca 2024 r.
URL:https://kultura.tarnow.pl/wydarzenie/albrecht-durer-grafiki/2024-06-01/
LOCATION:Muzeum Historii Tarnowa i Regionu\, Rynek 20-21\, Tarnów\, małopolskie\, 33-100\, Polska
CATEGORIES:wystawy
ATTACH;FMTTYPE=image/png:https://kultura.tarnow.pl/wp-content/uploads/baner-DURER-1-1.png
GEO:50.01295;20.9883
X-APPLE-STRUCTURED-LOCATION;VALUE=URI;X-ADDRESS=Muzeum Historii Tarnowa i Regionu Rynek 20-21 Tarnów małopolskie 33-100 Polska;X-APPLE-RADIUS=500;X-TITLE=Rynek 20-21:geo:20.9883,50.01295
END:VEVENT
BEGIN:VEVENT
DTSTART;TZID=Europe/Warsaw:20240601T100000
DTEND;TZID=Europe/Warsaw:20240601T220000
DTSTAMP:20260422T155922
CREATED:20240220T233822Z
LAST-MODIFIED:20240520T224027Z
UID:10015934-1717236000-1717279200@kultura.tarnow.pl
SUMMARY:38. Tarnowskia Nagroda Filmowa
DESCRIPTION:Tarnów ponownie stanie się stolicą polskiej kinematografii! Zbliża się 38. Tarnowska Nagroda Filmowa – Festiwal Polskich Filmów Pełnometrażowych. \nFestiwal rozpocznie się 31 maja i potrwa do 8 czerwca 2024 r. Projekcje konkursowe\, pokazy specjalne oraz cykl Filmy Młodego Widza będą prezentowane w jednym z najstarszych działających kin w Polsce – Marzeniu. W Konkursie Głównym – filmów pełnometrażowych – reżyserzy ubiegają się o nagrody: Grand Prix „Maszkaron”\, Nagrodę Publiczności „Publika” i Jury Młodzieżowego „Kamerzysta”. Drugim konkursem Festiwalu jest konkurs bajek prezentowany w przeglądzie „Filmy Młodego Widza” – Jury Dziecięce nagrodzi Statuetką „Maszkaronka” producenta najlepszej animacji. \nKto w tym roku ma szansę na statuetkę „Maszkarona”? O najważniejsze laury Festiwalu powalczy 12 polskich produkcji\, wśród których znalazło się miejsce zarówno dla filmów fabularnych\, jak i dokumentów\, w tym kilku debiutów reżyserskich. Będą to: „Biała odwaga”\, „Chłopi”\, „Doppelganger. Sobowtór”\, „Horror story”\, „Imago”\, „Kobieta z…”\, „Kos”\, „Skąd dokąd”\, „Tyle co nic”\, „Tylko dzień i noc”\, „Ukryta sieć” oraz „Zielona granica”. \nPracom Jury profesjonalnego będzie przewodniczył znakomity dokumentalista Paweł Łoziński\, a skład uzupełnią przedstawiciele filmowych profesji – Weronika Bilska (operatorka)\, Julia Kijowska (aktorka)\, Marta Kownacka (reżyserka castingu)\, Tomasz Kolankiewicz (filmoznawca) oraz Mariusz Włodarski (producent). Werdykt poznamy podczas Gali Wręczenia Nagród 8 czerwca w tarnowskim kinie Marzenie. Finał zwieńczy koncert muzyki filmowej w wykonaniu Royal String Quartet. \nObrady Jury Profesjonalnego oraz dwóch pozostałych gremiów jurorskich dopiero w czerwcu\, jednak znamy już pierwszą Laureatkę. Decyzją kapituły Festiwalu Nagrodą za całokształt twórczości i wkład w polską kinematografię zostanie uhonorowana wybitna postać rodzimego kina – Krystyna Janda. Nagroda zostanie wręczona podczas wydarzenia specjalnego – spektaklu „My Way” w reżyserii Laureatki. \nTo jednak niejedyne wydarzenie towarzyszące Festiwalu.  Program wzbogacą koncerty\, wystawy plakatu\, fotografii oraz sztuki ulicznej\, warsztaty z zakresu edukacji filmowej\, ale przede wszystkim projekcje specjalne filmów krótkometrażowych i wideoklipów oraz spotkania z twórcami. Pełny program 38. Tarnowskiej Nagrody Filmowej jest dostępny na stronie www.tarnowskanagrodafilmowa.pl. Zapraszamy na wielkie święto polskiego kina w Tarnowie. \n38. Tarnowska Nagroda Filmowa Festiwal Polskich Filmów Pełnometrażowych \nProgram ramowy \nFilmy konkursowe (12): \n„Biała odwaga”\, reż. Marcin Koszałka\n„Chłopi”\, reż. DK & Hugh Welchman\n„Sobowtór”\, reż. Jan Holoubek\n„Horror story”\, reż. Adrian Apanel\n„Imago”\, reż. Olga Chajdas\n„Kobieta z…”\, reż. Małgorzata Szumowska\, Michał Englert\n„Kos”\, reż. Paweł Maślona\n„Skąd dokąd”\, reż. Maciej Hamela\n„Tyle co nic”\, reż. Grzegorz Dębowski\n„Tylko dzień i noc”\, reż. Grzegorz Brzozowski\n„Ukryta sieć”\, reż. Piotr Adamski\n„Zielona granica”\, reż. Agnieszka Holland \nProjekcje specjalne – krótkie metraże \n„As it was”\, reż. Anastasiia Solonevych\, Damian Kocur\n„Być kimś”\, reż. Michał Toczek\n„Misie polarne”\, reż. Bartosz Stankiewicz\n„Moje stare”\, reż. Natasza Parzymies\n„Piękna łąka kwietna”\, reż. Emi Buchwald\n„Sprzedawca”\, reż. Patryk Kaflowski\n„Te cholerne peonie”\, reż. Polina Biliaieva\n„Warszawa\, Holandia”\, reż. Chiang Ming-Wei \nProjekcje specjalne \n„Jeszcze krótsze metraże” – pokaz wideoklipów (prowadzenie: Hirek Wrona) \nFilmy Młodego Widza – Konkurs \nKonkurs bajek – projekcje specjalne \n„Jestem w sam raz”\, reż. Marcin Wasilewski\n„Kicia Kocia w Przedszkolu”\, reż. Anita Głowińska\n„Za duży na bajki 2”\, reż. Kristoffer Rus \nEpilog \nPokaz filmów Laureatów 38. TNF \nPodsumowanie Festiwalu. \nProjekcja specjalna oraz spotkanie z Dianą Dąbrowską \nKoncerty: \nTomek Ziętek\nRoyal String Quartet (Gala Wręczenia Nagród) \nSpektakle: \n„My Way” Monolog Krystyny Jandy\n„Stramerowie”\, reż. Tomasz Cyz\n„Dzień dziecka: O świerszczu Maurycym i bandzie komara” (Teatr Za jeden uśmiech) \nWystawy: \n„© Plakiat. Wystawa wybranych plakatów artystycznych vol. 2” (Maks Bereski) – BWA Tarnów (31.05-16.06.2024)\n„Nie mogę na to patrzeć. Inka Rosocha” – Galeria TCK (25.05-806.2024)\n„Filmowa wystawa uliczna” (szczegóły wkrótce) \nWarsztaty \nWarsztaty aktorskie „Tu i teraz” (prowadzenie Dagmara Brodziak i Michał Krzywicki) \nKino plenerowe \n1 seans pod Gemini Park Tarnów\n4 seanse w plenerze przy Domu Kultury Westerplatte \nCENY BILETÓW \nProjekcje w kinie Marzenie: 10 zł (wszystkie projekcje)\nKoncert Tomka Ziętka (Inauguracja TNF): 30 zł\nGala Wręczenia Nagród/Koncert Royal String Quartet: 50 zł\nSpektakl „My Way”: 150 zł\nSpektakl „Stramerowie”: 40 zł \nBezpłatnie: spektakl dla dzieci\, kino plenerowe\, wystawy\, warsztaty\, spotkania z twórcami
URL:https://kultura.tarnow.pl/wydarzenie/38-tarnowskia-nagroda-filmowa-2/2024-06-01/
LOCATION:Kino „Marzenie”\, ul. Staszica 4\, Tarnów\, małopolskie\, 33-100\, Polska
CATEGORIES:festiwale
ATTACH;FMTTYPE=image/jpeg:https://kultura.tarnow.pl/wp-content/uploads/tnf_16x9-poziom_small.jpg
GEO:50.011762;20.9833798
X-APPLE-STRUCTURED-LOCATION;VALUE=URI;X-ADDRESS=Kino „Marzenie” ul. Staszica 4 Tarnów małopolskie 33-100 Polska;X-APPLE-RADIUS=500;X-TITLE=ul. Staszica 4:geo:20.9833798,50.011762
END:VEVENT
BEGIN:VEVENT
DTSTART;TZID=Europe/Warsaw:20240601T110000
DTEND;TZID=Europe/Warsaw:20240601T120000
DTSTAMP:20260422T155923
CREATED:20240529T120741Z
LAST-MODIFIED:20240529T120741Z
UID:10017120-1717239600-1717243200@kultura.tarnow.pl
SUMMARY:„Rozmarzone poranki” w kinie Marzenie
DESCRIPTION:Zapraszamy dzieci i ich opiekunów na sobotnie „Rozmarzone poranki” w kinie Marzenie. \nW czerwcu odbędą się aż dwa spotkania\, które będą połączone z 38. Tarnowską Nagrodą Filmową – 1 oraz 8 czerwca. Przed seansem filmowym dla najmłodszych dzieci (3-6l) zapraszamy na zabawy i atrakcje\, które potrwają około 30 minut. Zaczynamy o godzinie 11:00. Na spotkaniu 1 czerwca odwiedzi nas duża maskotka- Kicia Kocia\, która uwielbia spotkania z dziećmi! „Kicia Kocia w przedszkolu” to tytuł filmu \, który zostanie wyświetlony tego dnia. \nW kolejną sobotę – 8 czerwca\, odbędzie się projekcja filmu „Basia- jestem w sam raz”. Na zabawy przed seansem zapraszamy wszystkie dzieci\, nawet te\, a może w szczególności te\, które mają pasiasty humor- tak jak Basia. \nKino wyzwala tyle emocji! Do zobaczenia.\nCena biletu: 10 zł\nWięcej informacji: 14 688 88 85\nul. Staszica 4\n14 688 88 85
URL:https://kultura.tarnow.pl/wydarzenie/rozmarzone-poranki-w-kinie-marzenie/2024-06-01/
LOCATION:Kino „Marzenie”\, ul. Staszica 4\, Tarnów\, małopolskie\, 33-100\, Polska
CATEGORIES:filmy
GEO:50.011762;20.9833798
X-APPLE-STRUCTURED-LOCATION;VALUE=URI;X-ADDRESS=Kino „Marzenie” ul. Staszica 4 Tarnów małopolskie 33-100 Polska;X-APPLE-RADIUS=500;X-TITLE=ul. Staszica 4:geo:20.9833798,50.011762
END:VEVENT
BEGIN:VEVENT
DTSTART;TZID=Europe/Warsaw:20240601T110000
DTEND;TZID=Europe/Warsaw:20240601T160000
DTSTAMP:20260422T155923
CREATED:20240531T104649Z
LAST-MODIFIED:20240531T104649Z
UID:10017122-1717239600-1717257600@kultura.tarnow.pl
SUMMARY:Miejski Dzień Dziecka
DESCRIPTION:
URL:https://kultura.tarnow.pl/wydarzenie/miejski-dzien-dziecka-2/
LOCATION:Centrum Wypoczynku i Rekreacji Kantoria\, ul. Piłsudskiego\, Tarnów\, małopolskie\, 33-100\, Polska
CATEGORIES:spotkania
ATTACH;FMTTYPE=image/jpeg:https://kultura.tarnow.pl/wp-content/uploads/plakat_dzien_dziecka-.jpg
GEO:50.024368;20.98967
X-APPLE-STRUCTURED-LOCATION;VALUE=URI;X-ADDRESS=Centrum Wypoczynku i Rekreacji Kantoria ul. Piłsudskiego Tarnów małopolskie 33-100 Polska;X-APPLE-RADIUS=500;X-TITLE=ul. Piłsudskiego:geo:20.98967,50.024368
END:VEVENT
BEGIN:VEVENT
DTSTART;TZID=Europe/Warsaw:20240601T150000
DTEND;TZID=Europe/Warsaw:20240601T200000
DTSTAMP:20260422T155923
CREATED:20240422T135153Z
LAST-MODIFIED:20240520T135409Z
UID:10015859-1717254000-1717272000@kultura.tarnow.pl
SUMMARY:"Świat zmysłów" - wystawa interaktywna
DESCRIPTION:Zapraszamy na wyjątkową wystawę interaktywną „Świat zmysłów”\, która otwiera przed zwiedzającymi drzwi do fascynującego świata ludzkich zmysłów. Przez prawie dwa miesiące odwiedzający mają niepowtarzalną okazję do osobistego zgłębiania tajników wzroku\, słuchu\, dotyku i zapachu poprzez bezpośrednią interakcję i doświadczanie. \nWystawa podzielona jest na trzy części\, każda z nich zaprojektowana\, by odkryć przed nami inne aspekty naszych zmysłów: \n\nReceptory: Poznajemy budowę i funkcje narządów zmysłów\, eksplorując ich kluczowe cechy.\nMono czy Stereo?: Zastanawiamy się\, jaką rolę odgrywa posiadanie pary oczu\, uszu\, czy rąk w postrzeganiu świata i jak różniłoby się nasze doświadczanie bez tej podwójności.\nIluzje: Odkrywamy\, jak nasze zmysły mogą nas wprowadzać w błąd\, ale również jak możemy manipulować zmysłami innych.\n\nKażda sekcja wystawy charakteryzuje się unikalną aranżacją kolorystyczną\, tworząc różnorodne tło dla eksperymentów. \nDlaczego warto odwiedzić? \nWystawa „Świat zmysłów” zapewnia unikalne doświadczenie dzięki 34 stanowiskom doświadczalnym\, które zachęcają do aktywnego uczestnictwa. Jest to zarówno źródło niezwykłej zabawy\, jak i głębokiej edukacji\, pozwalającej zrozumieć nie tylko otaczający nas świat\, ale i samych siebie. \nZapisy dla grup zorganizowanych: Dział Edukacji – tel. 14 633 46 11\n \nZwiedzanie indywidualne: poniedziałek – niedziela\, w godzinach 15:00 – 20:00 \nGrupy zorganizowane\, klasy szkolne: poniedziałek – piątek\, 9:00\, 10:00\, 11:00\, 12:00\, 13:00 (zwiedzanie trwa 45 min.) \nPartner wystawy: Uniwersytet Jagielloński w Krakowie \n 
URL:https://kultura.tarnow.pl/wydarzenie/swiat-zmyslow-wystawa-interaktywna/2024-06-01/
LOCATION:Centrum Sztuki Mościce\, Traugutta 1\, Tarnów\, małopolskie\, 33-101\, Polska
CATEGORIES:wystawy
ATTACH;FMTTYPE=image/jpeg:https://kultura.tarnow.pl/wp-content/uploads/img_c8bb757a3bfcb33b7fd02d7cdbd2e38f-1024x1024-1.jpeg
GEO:50.009833;20.92706
X-APPLE-STRUCTURED-LOCATION;VALUE=URI;X-ADDRESS=Centrum Sztuki Mościce Traugutta 1 Tarnów małopolskie 33-101 Polska;X-APPLE-RADIUS=500;X-TITLE=Traugutta 1:geo:20.92706,50.009833
END:VEVENT
BEGIN:VEVENT
DTSTART;TZID=Europe/Warsaw:20240601T170000
DTEND;TZID=Europe/Warsaw:20240601T180000
DTSTAMP:20260422T155923
CREATED:20240527T102100Z
LAST-MODIFIED:20240527T102100Z
UID:10015985-1717261200-1717264800@kultura.tarnow.pl
SUMMARY:"Plakiat. Wystawa wybranych plakatów artystycznych vol. 2" Maks Bereski
DESCRIPTION:Tarnowskie Centrum Kultury oraz Biuro Wystaw Artystycznych serdecznie zapraszają na wystawę plakatów autorstwa Maksa Bereskiego. \nWernisaż wystawy „Plakiat. Wystawa wybranych plakatów artystycznych vol. 2” w sobotnie popołudnie 1 czerwca o godzinie 17:00\, w BWA Tarnów\, Pałacyk Strzelecki\, Słowackiego 1\nz udziałem autora Maksa Bereskiego. Spotkanie z nim poprowadzi Ryszard Jaźwiński. \nMaks Bereski\, znany jako ©Plakiat\, jest autorem oficjalnego plakatu 37. i 38. edycji Tarnowskiej Nagrody Filmowej. Na swojej wystawie zaprezentuje wybrane autorskie plakaty inspirowane filmami polskimi i zagranicznymi. Ekspozycja ukazuje różnorodność technik plastycznych oraz perspektywę autora na metaforykę i symbolikę. Zwiedzający będą mieli okazję dostrzec szeroki zakres tematyczny i gatunkowy\, eksperymenty z konwencją\, stylizacje oraz nawiązania\, które tworzą fascynującą grę wizualną i intelektualną z odbiorcą. Wystawa obejmuje 38 plakatów. \nWystawa prezentowana w BWA Tarnów\, od 1 do 16 czerwca 2024 r.\, więcej informacji na stronach:\nhttps://tck.pl/wydarzenia/191\,plakiat-wystawa-wybranych-plakatow-artystycznych-vol-2\nhttps://www.bwa.tarnow.pl/1\,1384\,wystawy\,plakiat.html    oraz\nhttps://tarnowskanagrodafilmowa.pl/program/101\,plakiat-wystawa-wybranych-plakatow-artystycznych-vol-2\nWydarzenie jest częścią festiwalu 38. Tarnowska Nagroda Filmowa\, do udziału w którym również serdecznie zapraszamy\,\na szczegóły w programie na stronie festiwalu www.tarnowskanagrodafilmowa.pl\nEkspozycja czynna od wtorku do piątku\, w godz. 11:00-18:00 oraz w niedziele w godz. 12:00-17:00.
URL:https://kultura.tarnow.pl/wydarzenie/plakiat-wystawa-wybranych-plakatow-artystycznych-vol-2-maks-bereski/
LOCATION:Biuro Wystaw Artystycznych\, ul. Słowackiego 1\, Tarnów\, małopolskie\, 33-100\, Polska
CATEGORIES:wernisaże
ATTACH;FMTTYPE=image/jpeg:https://kultura.tarnow.pl/wp-content/uploads/fec842b89e71f5f2c540ef43968687a1.jpeg
GEO:50.0178761;20.9827521
X-APPLE-STRUCTURED-LOCATION;VALUE=URI;X-ADDRESS=Biuro Wystaw Artystycznych ul. Słowackiego 1 Tarnów małopolskie 33-100 Polska;X-APPLE-RADIUS=500;X-TITLE=ul. Słowackiego 1:geo:20.9827521,50.0178761
END:VEVENT
END:VCALENDAR