BEGIN:VCALENDAR
VERSION:2.0
PRODID:-//kultura.tarnów - ECPv6.4.0.1//NONSGML v1.0//EN
CALSCALE:GREGORIAN
METHOD:PUBLISH
X-WR-CALNAME:kultura.tarnów
X-ORIGINAL-URL:https://kultura.tarnow.pl
X-WR-CALDESC:Wydarzenia dla
REFRESH-INTERVAL;VALUE=DURATION:PT1H
X-Robots-Tag:noindex
X-PUBLISHED-TTL:PT1H
BEGIN:VTIMEZONE
TZID:Europe/Warsaw
BEGIN:DAYLIGHT
TZOFFSETFROM:+0100
TZOFFSETTO:+0200
TZNAME:CEST
DTSTART:20240331T010000
END:DAYLIGHT
BEGIN:STANDARD
TZOFFSETFROM:+0200
TZOFFSETTO:+0100
TZNAME:CET
DTSTART:20241027T010000
END:STANDARD
END:VTIMEZONE
BEGIN:VEVENT
DTSTART;TZID=Europe/Warsaw:20240526T090000
DTEND;TZID=Europe/Warsaw:20240526T150000
DTSTAMP:20260422T182520
CREATED:20240512T231449Z
LAST-MODIFIED:20240520T231645Z
UID:10015959-1716714000-1716735600@kultura.tarnow.pl
SUMMARY:„Albrecht Dürer – grafiki”
DESCRIPTION:Albrecht Dürer (1471-1528)\, uważany jest na jednego z największych niemieckich malarzy\, grafików i rysowników. W kolekcji grafiki pochodzącej z pałacu książąt Sanguszków w Gumniskach (od 1945 roku w Muzeum Ziemi Tarnowskiej)\, przechowywanych jest kilkanaście rycin jego autorstwa. Są to drzeworyty z serii: „Wielka Pasja” z 1510 roku – 2 sztuki („Chrystus w otchłani”\, „Złożenie do grobu”) i „Mała Pasja” (1509-1511) – 4 sztuki („Chrystus opuszczający Matkę”\, „Ostatnia Wieczerza”\, „Zmartwychwstanie” oraz „Zesłanie Ducha Świętego”). Kolejne cykle reprezentuje w zbiorze 5 rycin z serii „Żywot Marii” \, a także pojedyncze sztychy „Św. Hieronim” i „Św. Rodzina”\, obydwa z 1511 roku. Prace artysty są sygnowane monogramem „AD”. Pierwotnie znajdowały się w pałacu w Sławucie\, należącym do ordynata zasławskiego Romana Damiana Sanguszki (1832-1917). Książe systematycznie\, od lat 60. XIX wieku\, tworzył swoją kolekcję\, głównie drogą zakupów antykwarycznych. Jego zbiór opatrzony okrągłą pieczęcią z napisem: „Biblioteka Romana Sanguszki”\, znacznie ucierpiał w czasie I i II wojny światowej. Znajdują się w nim grafiki ze szkoły niemieckiej\, niderlandzkiej\, włoskiej i angielskiej\, a także francuskiej\, z okresu od XVI do XVIII wieku. Wśród nich są także prace naśladowców Dürera wykonane w technice akwaforty\, współczesnych mu grafików\, m.in. Hieronymusa Hopfera: „Św. Hubert” i „Wielka armata”. Jak również działającego w Antwerpii Johannesa Wierixa „Św. Hieronim w celi” i „Adoracja Dzieciątka w stajence”. \nZe względu na charakter obiektów oraz ich stan zachowania prezentacja prac A. Dürera będzie ograniczona czasowo. Znaczące obostrzenia konserwatorskie\, pozwalają na eksponowanie ich tylko do 9 czerwca br. Wystawę będzie można zobaczyć w trakcie trwania tegorocznej Nocy Muzeów. Serdecznie Państwa zapraszamy! \nponiedziałek nieczynne\nwtorek 9.00 – 15.00\nśroda 9.00 – 15.00\nczwartek 9.00 – 15.00\npiątek 9.00 – 17.00\nsobota 10.00 – 15.00 (od 1 maja do 30 września); nieczynne (od 1 października do 30 kwietnia)\nniedziela 10.00 – 15.00 (od 1 maja do 30 września); 10.00 – 14.00 (od 1 października do 30 kwietnia) \nKuratorka wystawy: Barbara Bułdys \nWystawa czynna: 17 maja – 9 czerwca 2024 r.
URL:https://kultura.tarnow.pl/wydarzenie/albrecht-durer-grafiki/2024-05-26/
LOCATION:Muzeum Historii Tarnowa i Regionu\, Rynek 20-21\, Tarnów\, małopolskie\, 33-100\, Polska
CATEGORIES:wystawy
ATTACH;FMTTYPE=image/png:https://kultura.tarnow.pl/wp-content/uploads/baner-DURER-1-1.png
GEO:50.01295;20.9883
X-APPLE-STRUCTURED-LOCATION;VALUE=URI;X-ADDRESS=Muzeum Historii Tarnowa i Regionu Rynek 20-21 Tarnów małopolskie 33-100 Polska;X-APPLE-RADIUS=500;X-TITLE=Rynek 20-21:geo:20.9883,50.01295
END:VEVENT
BEGIN:VEVENT
DTSTART;TZID=Europe/Warsaw:20240526T120000
DTEND;TZID=Europe/Warsaw:20240526T180000
DTSTAMP:20260422T182520
CREATED:20240524T092119Z
LAST-MODIFIED:20240524T092214Z
UID:10015973-1716724800-1716746400@kultura.tarnow.pl
SUMMARY:Piknik Ogrodniczy
DESCRIPTION:W niedzielę 26 maja na terenach przyległych do Pałacu Sanguszków odbędzie się kolejna edycja Pikniku Ogrodniczego. Organizatorzy przewidzieli wiele atrakcji\, zarówno dla młodszych\, jak i starszych. W ramach wydarzenia na dzieci czekać będą konkursy\, zawody sportowe\, dmuchane zjeżdżalnie oraz bańki mydlane\, z kolei osoby interesujące się przyrodą z pewnością poświecą swoją uwagę Akademii Młodego Ogrodnika oraz warsztatom dekoracyjnym Przyroda w Słoiku. \nProgram przewiduje ponadto: pokaz carvingu (rzeźbienia w warzywach i owocach)\, pokaz dekorowania ciast oraz warsztaty bukieciarskie dla dzieci. Wśród atrakcji będą również przejażdżki konne dla najmłodszych\, pszczeli ogródek\, a także gra terenowa. \nW ramach 26. Małopolskich Dni Dziedzictwa Kulturowego w sobotę 25 maja i w niedzielę 26 maja w godzinach 10.00-17.00\, historycy sztuki i przewodnicy oprowadzą chętnych po tętniącym przeszłością pałacu Sanguszków. Będzie można również poszukać perełek dendrologicznych w pobliskim parku pod opieką przyrodnika i architektki krajobrazu. Podczas imprezy nie zabraknie oczywiście poczęstunku w postaci ciast\, bigosu\, kiełbasek z grilla. \nPoczątek imprezy o godzinie 12.00. Organizatorami są Zespół Szkół Ekonomiczno-Ogrodniczych w Tarnowie oraz Regionalny Punkt Informacyjny NA działający w ZSE-O. Wydarzenie finansują Urząd Miasta Tarnowa na wniosek Rady Osiedla Nr 6 „Gumniska Zabłocie” oraz Rada Rodziców przy ZSE-O.
URL:https://kultura.tarnow.pl/wydarzenie/piknik-ogrodniczy-2/
LOCATION:Park Sanguszków\, ul. Sanguszków\, Tarnów\, małopolskie\, 33-110\, Polska
CATEGORIES:spotkania
ATTACH;FMTTYPE=image/png:https://kultura.tarnow.pl/wp-content/uploads/PIKNIK-2024.png
GEO:50.0050375;21.0050476
X-APPLE-STRUCTURED-LOCATION;VALUE=URI;X-ADDRESS=Park Sanguszków ul. Sanguszków Tarnów małopolskie 33-110 Polska;X-APPLE-RADIUS=500;X-TITLE=ul. Sanguszków:geo:21.0050476,50.0050375
END:VEVENT
BEGIN:VEVENT
DTSTART;TZID=Europe/Warsaw:20240526T123000
DTEND;TZID=Europe/Warsaw:20240526T173000
DTSTAMP:20260422T182520
CREATED:20240524T095727Z
LAST-MODIFIED:20240524T095727Z
UID:10015979-1716726600-1716744600@kultura.tarnow.pl
SUMMARY:Święto 16. Pułku Piechoty - piknik historyczny
DESCRIPTION:Piknik historyczny\, przypominający historię 16. Pułku Piechoty. W ramach obchodów\, o godz. 12.30 odbędzie się Msza Św. w kościele oo. Misjonarzy oraz uroczystości pod pomnikiem upamiętniającym Pułk (godz. 13.45). Od 15.00 zapraszamy na piknik.
URL:https://kultura.tarnow.pl/wydarzenie/swieto-16-pulku-piechoty-piknik-historyczny/
LOCATION:Centrum Kształcenia i Wychowania OHP w Tarnowie\, ul. Mościckiego 27\, Tarnów\, małopolskie\, 33-100\, Polska
CATEGORIES:uroczystości patriotyczne
ATTACH;FMTTYPE=image/jpeg:https://kultura.tarnow.pl/wp-content/uploads/443697662_983375206846744_3155033516264396220_n.jpg
GEO:50.011806;20.974296
X-APPLE-STRUCTURED-LOCATION;VALUE=URI;X-ADDRESS=Centrum Kształcenia i Wychowania OHP w Tarnowie ul. Mościckiego 27 Tarnów małopolskie 33-100 Polska;X-APPLE-RADIUS=500;X-TITLE=ul. Mościckiego 27:geo:20.974296,50.011806
END:VEVENT
BEGIN:VEVENT
DTSTART;TZID=Europe/Warsaw:20240526T150000
DTEND;TZID=Europe/Warsaw:20240526T200000
DTSTAMP:20260422T182520
CREATED:20240422T135153Z
LAST-MODIFIED:20240520T135409Z
UID:10015853-1716735600-1716753600@kultura.tarnow.pl
SUMMARY:"Świat zmysłów" - wystawa interaktywna
DESCRIPTION:Zapraszamy na wyjątkową wystawę interaktywną „Świat zmysłów”\, która otwiera przed zwiedzającymi drzwi do fascynującego świata ludzkich zmysłów. Przez prawie dwa miesiące odwiedzający mają niepowtarzalną okazję do osobistego zgłębiania tajników wzroku\, słuchu\, dotyku i zapachu poprzez bezpośrednią interakcję i doświadczanie. \nWystawa podzielona jest na trzy części\, każda z nich zaprojektowana\, by odkryć przed nami inne aspekty naszych zmysłów: \n\nReceptory: Poznajemy budowę i funkcje narządów zmysłów\, eksplorując ich kluczowe cechy.\nMono czy Stereo?: Zastanawiamy się\, jaką rolę odgrywa posiadanie pary oczu\, uszu\, czy rąk w postrzeganiu świata i jak różniłoby się nasze doświadczanie bez tej podwójności.\nIluzje: Odkrywamy\, jak nasze zmysły mogą nas wprowadzać w błąd\, ale również jak możemy manipulować zmysłami innych.\n\nKażda sekcja wystawy charakteryzuje się unikalną aranżacją kolorystyczną\, tworząc różnorodne tło dla eksperymentów. \nDlaczego warto odwiedzić? \nWystawa „Świat zmysłów” zapewnia unikalne doświadczenie dzięki 34 stanowiskom doświadczalnym\, które zachęcają do aktywnego uczestnictwa. Jest to zarówno źródło niezwykłej zabawy\, jak i głębokiej edukacji\, pozwalającej zrozumieć nie tylko otaczający nas świat\, ale i samych siebie. \nZapisy dla grup zorganizowanych: Dział Edukacji – tel. 14 633 46 11\n \nZwiedzanie indywidualne: poniedziałek – niedziela\, w godzinach 15:00 – 20:00 \nGrupy zorganizowane\, klasy szkolne: poniedziałek – piątek\, 9:00\, 10:00\, 11:00\, 12:00\, 13:00 (zwiedzanie trwa 45 min.) \nPartner wystawy: Uniwersytet Jagielloński w Krakowie \n 
URL:https://kultura.tarnow.pl/wydarzenie/swiat-zmyslow-wystawa-interaktywna/2024-05-26/
LOCATION:Centrum Sztuki Mościce\, Traugutta 1\, Tarnów\, małopolskie\, 33-101\, Polska
CATEGORIES:wystawy
ATTACH;FMTTYPE=image/jpeg:https://kultura.tarnow.pl/wp-content/uploads/img_c8bb757a3bfcb33b7fd02d7cdbd2e38f-1024x1024-1.jpeg
GEO:50.009833;20.92706
X-APPLE-STRUCTURED-LOCATION;VALUE=URI;X-ADDRESS=Centrum Sztuki Mościce Traugutta 1 Tarnów małopolskie 33-101 Polska;X-APPLE-RADIUS=500;X-TITLE=Traugutta 1:geo:20.92706,50.009833
END:VEVENT
BEGIN:VEVENT
DTSTART;TZID=Europe/Warsaw:20240526T160000
DTEND;TZID=Europe/Warsaw:20240526T170000
DTSTAMP:20260422T182521
CREATED:20240524T094116Z
LAST-MODIFIED:20240524T094116Z
UID:10015976-1716739200-1716742800@kultura.tarnow.pl
SUMMARY:"Muzyczne pamiątki z dalekich podróży"
DESCRIPTION:Koncert miniatur z różnych stron świata\n\nJeśli kochasz podróże i poznawanie kultur innych krajów zapraszamy do udziału w fascynującej muzycznej podróży na pięciolinii! Koncert altówkowo-fortepianowy składa się z najciekawszych utworów\, melodii i miniatur przywiezionych z różnych zakątków świata; od prostej i nostalgicznej melodii ludowej XVI w. pochodzącej z Irlandii poprzez garść muzyki europejskiej\, argentyńskie tanga A.Piazzolli\, pełną namiętności muzykę J.Brahmsa\, wirtuozowskie fantazje C.Reinecke aż po energiczny i nieco „dziki” taniec gruziński. Bogata paleta emocji\, nastrojów i barw brzmieniowych zaspokoi oczekiwania każdego melomana. Wiele z prezentowanych utworów zostało przywiezionych z „macierzystych” regionów świata – nie są ogólnodostępne\, trudno będzie je usłyszeć wkrótce po raz drugi! Może właśnie dlatego są tak wyjątkowe i jedyne w swoim rodzaju\, treści i unikalnym brzmieniu.\n\nNierzadko mają też swoje ciekawe historie\, o których usłyszycie w słowie wiążącym\, wprowadzającym w świat melodii\, które zaraz potem zabrzmią. Wspólnie odwiedzimy takie kraje jak m.in.: Irlandia\, Francja\, Argentyna\, Gruzja\, Armenia. W programie koncertu znajdą się nieznane utwory i melodie ale także znane frazy J.Brahmsa\,C.Reinecke\, A.Piazzolli i innych.\n\nWykonawcy:\nJoanna Łukasik – fortepian\nJest absolwentką Akademii Muzycznej w Krakowie w klasie fortepianu prof. Marka Koziaka. Swoją grę doskonaliła pod kierunkiem m.in. I Rolanowskiej\, J.Łukowicza\, M.Cieniawy\, R.Baksta. Od czasu studiów koncertuje jako solistka i kameralistka biorąc udział w wielu prestiżowych festiwalach w Polsce i Europie. W swym dorobku posiada także nagrania dla Polskiego Radia i Telewizji Polskiej a także unikatowe nagrania CD z muzyką mało znanych kompozytorów polskich m.in. Ignacego Krzyżanowskiego\, Jana Kleczyńskiego\,W. Każyńskiego oraz Józefa Ignacego Kraszewskiego (!) Od wielu lat współpracuje także z wieloma znakomitymi polskimi i zagranicznymi artystami zapraszając ich do swoich oryginalnych projektów koncertowych. Jednym z najświeższych dokonań był cykl koncertów z rzadko wykonywanymi utworami W. Żeleńskiego i Z. Noskowskiego. Jest także założycielką Polskiej Fundacji Kultury i Rozwoju\, organizującej wiele cennych i oryginalnych projektów artystycznych w Polsce i Europie.\n\nPaweł Łukasik- altówka\nJest absolwentem Akademii Muzycznej w Krakowie w klasie altówki prof. Małgorzaty Muzyki-Gołogórskiej. Od czasu studiów koncertuje w wielu znakomitych ośrodkach kulturalnych w Polsce i Europie. W swym dorobku posiada także nagrania radiowe a także CD z twórczością mało znanych kompozytorów polskich włączając unikatowe kompozycje Kajetana oraz Józefa Ignacego Kraszewskich. Stale współpracuje z wieloma znakomitymi muzykami wykonując także muzykę kameralną w różnych zespołach. Jednym z ostatnich projektów był cykl koncertów z rzadko wykonywanymi utworami m.in W. Żeleńskiego i Z. Noskowskiego. Oprócz działalności koncertowej zajmuje się także lutnictwem – gra na wykonanym przez siebie instrumencie.\n\nOrganizator:Polska Fundacja Kultury i Rozwoju\nPartnerzy:Urząd Miasta TarnowaKultura TarnówRada Osiedla Starówka\nWSTĘP WOLNY!Zabierz swoją rodzinę \,zaproś ukochaną Mamę i w Dniu Matki spędźmy ten piękny dzień przy wartościowych muzycznych wspomnieniach.
URL:https://kultura.tarnow.pl/wydarzenie/muzyczne-pamiatki-z-dalekich-podrozy/
LOCATION:Sala Lustrzana\, Wałowa 10\, Tarnów\, małopolskie\, 33-100\, Polska
CATEGORIES:koncerty
ATTACH;FMTTYPE=image/jpeg:https://kultura.tarnow.pl/wp-content/uploads/443710924_751793360474784_2061557384589323032_n.jpg
GEO:50.0133339;20.9861448
X-APPLE-STRUCTURED-LOCATION;VALUE=URI;X-ADDRESS=Sala Lustrzana Wałowa 10 Tarnów małopolskie 33-100 Polska;X-APPLE-RADIUS=500;X-TITLE=Wałowa 10:geo:20.9861448,50.0133339
END:VEVENT
BEGIN:VEVENT
DTSTART;TZID=Europe/Warsaw:20240526T180000
DTEND;TZID=Europe/Warsaw:20240526T200000
DTSTAMP:20260422T182521
CREATED:20240508T222947Z
LAST-MODIFIED:20240520T223129Z
UID:10015930-1716746400-1716753600@kultura.tarnow.pl
SUMMARY:"Damą być!"koncert Chóru i Orkiestry Rondine
DESCRIPTION:Ewa Bem\, Hanna Banaszak\, Maryla Rodowicz\, Alicja Majewska\, Anna Jantar\, Urszula…to tylko kilka fantastycznych polskich wokalistek\, w których repertuarze zaprezentuje się Chór i Orkiestra RONDINE\, pod batutą Katarzyny Wrony\, w aranżacjach Bartka Szułakiewicza. \nZapraszamy do wspólnego\, pełnego muzycznych wzruszeń\, celebrowania wyjątkowego święta – Dnia Matki. \n„Odkryjemy miłość nieznaną”\, „Moje serce to jest muzyk”\, „Damą być”\, „Dmuchawce\, latawce\, wiatr”\, „Moje jedyne marzenie” – kto z nas nie potrafi zanucić tych melodii? Usłyszymy przepiękne piosenki\, które z całą pewnością przywołają wiele wspomnień i dostarczą całej palety emocji i wzruszeń. \n  \n \n 
URL:https://kultura.tarnow.pl/wydarzenie/dama-byckoncert-choru-i-orkiestry-rondine/
LOCATION:Centrum Sztuki Mościce\, Traugutta 1\, Tarnów\, małopolskie\, 33-101\, Polska
CATEGORIES:koncerty
ATTACH;FMTTYPE=image/jpeg:https://kultura.tarnow.pl/wp-content/uploads/Rondine-Koncert-Dama-byc-druk-724x1024-1.jpg
GEO:50.009833;20.92706
X-APPLE-STRUCTURED-LOCATION;VALUE=URI;X-ADDRESS=Centrum Sztuki Mościce Traugutta 1 Tarnów małopolskie 33-101 Polska;X-APPLE-RADIUS=500;X-TITLE=Traugutta 1:geo:20.92706,50.009833
END:VEVENT
BEGIN:VEVENT
DTSTART;TZID=Europe/Warsaw:20240526T190000
DTEND;TZID=Europe/Warsaw:20240526T203000
DTSTAMP:20260422T182521
CREATED:20220103T231637Z
LAST-MODIFIED:20240520T221856Z
UID:10015927-1716750000-1716755400@kultura.tarnow.pl
SUMMARY:"Płuca" - Duncan Macmillan
DESCRIPTION:„Płuca” to mądra\, aktualna\, niezwykle zabawna i bardzo wzruszająca opowieść o pokoleniu\, którym kieruje niepewność\, wątpliwości\, stres i strach przed rozpadem znanego świata\, o odpowiedzialności i dojrzewaniu do rodzicielstwa w czasach globalnego niepokoju\, terroryzmu i napiętych stosunków politycznych. Młodzi\, dobrze wykształceni bohaterowie Macmillana zdają sobie sprawę\, że w dobie zagrożeń środowiska i zmian klimatycznych decyzja o sprowadzeniu na świat nowego człowieka to duży krok dla ich związku\, ale jeszcze większy krok dla narażonej na zagładę planety. Muszą zweryfikować własne przekonania\, zmierzyć się z konsekwencjami swoich decyzji\, pokonać lęki\, podjąć ryzyko i przede wszystkim zawalczyć o miłość. Bo „Płuca” to także uniwersalna opowieść o miłości – niedoskonałej\, trudnej\, ale prawdziwej. Takiej\, od której brakuje tchu.
URL:https://kultura.tarnow.pl/wydarzenie/pluca-duncan-macmillan/2024-05-26/
LOCATION:Teatr im. L.Solskiego\, Mickiewicza 4\, Tarnów\, małopolskie\, 33-100\, Polska
CATEGORIES:spektakle
ATTACH;FMTTYPE=image/jpeg:https://kultura.tarnow.pl/wp-content/uploads/Teatr-Tarnow-spektakl-Pluca-Anna-Wieczur-Bluszcz-1.jpg
GEO:50.0159214;20.987504
X-APPLE-STRUCTURED-LOCATION;VALUE=URI;X-ADDRESS=Teatr im. L.Solskiego Mickiewicza 4 Tarnów małopolskie 33-100 Polska;X-APPLE-RADIUS=500;X-TITLE=Mickiewicza 4:geo:20.987504,50.0159214
END:VEVENT
END:VCALENDAR