BEGIN:VCALENDAR
VERSION:2.0
PRODID:-//kultura.tarnów - ECPv6.4.0.1//NONSGML v1.0//EN
CALSCALE:GREGORIAN
METHOD:PUBLISH
X-WR-CALNAME:kultura.tarnów
X-ORIGINAL-URL:https://kultura.tarnow.pl
X-WR-CALDESC:Wydarzenia dla
REFRESH-INTERVAL;VALUE=DURATION:PT1H
X-Robots-Tag:noindex
X-PUBLISHED-TTL:PT1H
BEGIN:VTIMEZONE
TZID:Europe/Warsaw
BEGIN:DAYLIGHT
TZOFFSETFROM:+0100
TZOFFSETTO:+0200
TZNAME:CEST
DTSTART:20240331T010000
END:DAYLIGHT
BEGIN:STANDARD
TZOFFSETFROM:+0200
TZOFFSETTO:+0100
TZNAME:CET
DTSTART:20241027T010000
END:STANDARD
END:VTIMEZONE
BEGIN:VEVENT
DTSTART;TZID=Europe/Warsaw:20240524T090000
DTEND;TZID=Europe/Warsaw:20240524T150000
DTSTAMP:20260423T012038
CREATED:20240512T231449Z
LAST-MODIFIED:20240520T231645Z
UID:10015957-1716541200-1716562800@kultura.tarnow.pl
SUMMARY:„Albrecht Dürer – grafiki”
DESCRIPTION:Albrecht Dürer (1471-1528)\, uważany jest na jednego z największych niemieckich malarzy\, grafików i rysowników. W kolekcji grafiki pochodzącej z pałacu książąt Sanguszków w Gumniskach (od 1945 roku w Muzeum Ziemi Tarnowskiej)\, przechowywanych jest kilkanaście rycin jego autorstwa. Są to drzeworyty z serii: „Wielka Pasja” z 1510 roku – 2 sztuki („Chrystus w otchłani”\, „Złożenie do grobu”) i „Mała Pasja” (1509-1511) – 4 sztuki („Chrystus opuszczający Matkę”\, „Ostatnia Wieczerza”\, „Zmartwychwstanie” oraz „Zesłanie Ducha Świętego”). Kolejne cykle reprezentuje w zbiorze 5 rycin z serii „Żywot Marii” \, a także pojedyncze sztychy „Św. Hieronim” i „Św. Rodzina”\, obydwa z 1511 roku. Prace artysty są sygnowane monogramem „AD”. Pierwotnie znajdowały się w pałacu w Sławucie\, należącym do ordynata zasławskiego Romana Damiana Sanguszki (1832-1917). Książe systematycznie\, od lat 60. XIX wieku\, tworzył swoją kolekcję\, głównie drogą zakupów antykwarycznych. Jego zbiór opatrzony okrągłą pieczęcią z napisem: „Biblioteka Romana Sanguszki”\, znacznie ucierpiał w czasie I i II wojny światowej. Znajdują się w nim grafiki ze szkoły niemieckiej\, niderlandzkiej\, włoskiej i angielskiej\, a także francuskiej\, z okresu od XVI do XVIII wieku. Wśród nich są także prace naśladowców Dürera wykonane w technice akwaforty\, współczesnych mu grafików\, m.in. Hieronymusa Hopfera: „Św. Hubert” i „Wielka armata”. Jak również działającego w Antwerpii Johannesa Wierixa „Św. Hieronim w celi” i „Adoracja Dzieciątka w stajence”. \nZe względu na charakter obiektów oraz ich stan zachowania prezentacja prac A. Dürera będzie ograniczona czasowo. Znaczące obostrzenia konserwatorskie\, pozwalają na eksponowanie ich tylko do 9 czerwca br. Wystawę będzie można zobaczyć w trakcie trwania tegorocznej Nocy Muzeów. Serdecznie Państwa zapraszamy! \nponiedziałek nieczynne\nwtorek 9.00 – 15.00\nśroda 9.00 – 15.00\nczwartek 9.00 – 15.00\npiątek 9.00 – 17.00\nsobota 10.00 – 15.00 (od 1 maja do 30 września); nieczynne (od 1 października do 30 kwietnia)\nniedziela 10.00 – 15.00 (od 1 maja do 30 września); 10.00 – 14.00 (od 1 października do 30 kwietnia) \nKuratorka wystawy: Barbara Bułdys \nWystawa czynna: 17 maja – 9 czerwca 2024 r.
URL:https://kultura.tarnow.pl/wydarzenie/albrecht-durer-grafiki/2024-05-24/
LOCATION:Muzeum Historii Tarnowa i Regionu\, Rynek 20-21\, Tarnów\, małopolskie\, 33-100\, Polska
CATEGORIES:wystawy
ATTACH;FMTTYPE=image/png:https://kultura.tarnow.pl/wp-content/uploads/baner-DURER-1-1.png
GEO:50.01295;20.9883
X-APPLE-STRUCTURED-LOCATION;VALUE=URI;X-ADDRESS=Muzeum Historii Tarnowa i Regionu Rynek 20-21 Tarnów małopolskie 33-100 Polska;X-APPLE-RADIUS=500;X-TITLE=Rynek 20-21:geo:20.9883,50.01295
END:VEVENT
BEGIN:VEVENT
DTSTART;TZID=Europe/Warsaw:20240524T110000
DTEND;TZID=Europe/Warsaw:20240524T150000
DTSTAMP:20260423T012038
CREATED:20240506T221404Z
LAST-MODIFIED:20240520T221628Z
UID:10015923-1716548400-1716562800@kultura.tarnow.pl
SUMMARY:Mamy tutaj kosmos!
DESCRIPTION:Zajęcia dla grup przedszkolnych i szkolnych w Planetarium Pasażu Odkryć. \n24 maja (piątek) \nProjekcje dla grup przedszkolnych i szkolnych w godzinach: 11:00\, 12:30\, 14:00. Rezerwacja miejsc dla grup: 14 696 51 00 lub  d.cholewiak@tck.pl Wstęp – 15 zł od osoby. Bilety można kupić w kasie w Domu Kultury przed każdą projekcją. Seans trwa 50 minut. Podczas jednego seansu do planetarium może wejść 20 osób. \nPodczas prelekcji prowadzonej przez Justynę Put – astronomkę\, nauczycielkę i pasjonatkę kosmosu\, pracującą na co dzień w Pasażu Odkryć i Szkolnym Obserwatorium Astronomicznym w Gawłowie\, dowiemy się m.in.: co świeci na nocnym niebie; jakie gwiazdozbiory widoczne są wiosną; sprawdzimy jak wyznaczać kierunki świata za pomocą Słońca i Gwiazdy Polarnej\, udamy się w podróż do Międzynarodowej Stacji Kosmicznej. \n25 maja (sobota) \nProjekcje z opowieścią dla osób indywidualnych i rodzin z dziećmi od lat 6. Godziny 4 seansów: 9:00\, 10:30\, 12:00\, seans dla młodzieży o godz. 13:30. Bilety można kupić w kasie w Domu Kultury przed każdą projekcją. Rezerwacja miejsc: 14 696 51 00 lub d.cholewiak@tck.pl \nBilety wstępu: ulgowy – 15 zł\, normalny – 20 zł\, rodzinny – 50 zł (2 + 2). Liczba miejsc na projekcji jest ograniczona – 15 osób. Seans trwa 50 minut. \n 
URL:https://kultura.tarnow.pl/wydarzenie/mamy-tutaj-kosmos/2024-05-24/
LOCATION:Dom Kultury Westerplatte 8a\, Westerplatte 8a\, Tarnów\, Polska - małopolskie\, 33-100\, Polska
CATEGORIES:warsztaty
ATTACH;FMTTYPE=image/jpeg:https://kultura.tarnow.pl/wp-content/uploads/Mamy-tutaj-kosmos_s.jpg
ORGANIZER;CN="Dom Kultury Westerplatte 8a":MAILTO:westerplatte@tck.pl
GEO:50.0273033;21.0087361
X-APPLE-STRUCTURED-LOCATION;VALUE=URI;X-ADDRESS=Dom Kultury Westerplatte 8a Westerplatte 8a Tarnów Polska - małopolskie 33-100 Polska;X-APPLE-RADIUS=500;X-TITLE=Westerplatte 8a:geo:21.0087361,50.0273033
END:VEVENT
BEGIN:VEVENT
DTSTART;TZID=Europe/Warsaw:20240524T150000
DTEND;TZID=Europe/Warsaw:20240524T200000
DTSTAMP:20260423T012038
CREATED:20240422T135153Z
LAST-MODIFIED:20240520T135409Z
UID:10015851-1716562800-1716580800@kultura.tarnow.pl
SUMMARY:"Świat zmysłów" - wystawa interaktywna
DESCRIPTION:Zapraszamy na wyjątkową wystawę interaktywną „Świat zmysłów”\, która otwiera przed zwiedzającymi drzwi do fascynującego świata ludzkich zmysłów. Przez prawie dwa miesiące odwiedzający mają niepowtarzalną okazję do osobistego zgłębiania tajników wzroku\, słuchu\, dotyku i zapachu poprzez bezpośrednią interakcję i doświadczanie. \nWystawa podzielona jest na trzy części\, każda z nich zaprojektowana\, by odkryć przed nami inne aspekty naszych zmysłów: \n\nReceptory: Poznajemy budowę i funkcje narządów zmysłów\, eksplorując ich kluczowe cechy.\nMono czy Stereo?: Zastanawiamy się\, jaką rolę odgrywa posiadanie pary oczu\, uszu\, czy rąk w postrzeganiu świata i jak różniłoby się nasze doświadczanie bez tej podwójności.\nIluzje: Odkrywamy\, jak nasze zmysły mogą nas wprowadzać w błąd\, ale również jak możemy manipulować zmysłami innych.\n\nKażda sekcja wystawy charakteryzuje się unikalną aranżacją kolorystyczną\, tworząc różnorodne tło dla eksperymentów. \nDlaczego warto odwiedzić? \nWystawa „Świat zmysłów” zapewnia unikalne doświadczenie dzięki 34 stanowiskom doświadczalnym\, które zachęcają do aktywnego uczestnictwa. Jest to zarówno źródło niezwykłej zabawy\, jak i głębokiej edukacji\, pozwalającej zrozumieć nie tylko otaczający nas świat\, ale i samych siebie. \nZapisy dla grup zorganizowanych: Dział Edukacji – tel. 14 633 46 11\n \nZwiedzanie indywidualne: poniedziałek – niedziela\, w godzinach 15:00 – 20:00 \nGrupy zorganizowane\, klasy szkolne: poniedziałek – piątek\, 9:00\, 10:00\, 11:00\, 12:00\, 13:00 (zwiedzanie trwa 45 min.) \nPartner wystawy: Uniwersytet Jagielloński w Krakowie \n 
URL:https://kultura.tarnow.pl/wydarzenie/swiat-zmyslow-wystawa-interaktywna/2024-05-24/
LOCATION:Centrum Sztuki Mościce\, Traugutta 1\, Tarnów\, małopolskie\, 33-101\, Polska
CATEGORIES:wystawy
ATTACH;FMTTYPE=image/jpeg:https://kultura.tarnow.pl/wp-content/uploads/img_c8bb757a3bfcb33b7fd02d7cdbd2e38f-1024x1024-1.jpeg
GEO:50.009833;20.92706
X-APPLE-STRUCTURED-LOCATION;VALUE=URI;X-ADDRESS=Centrum Sztuki Mościce Traugutta 1 Tarnów małopolskie 33-101 Polska;X-APPLE-RADIUS=500;X-TITLE=Traugutta 1:geo:20.92706,50.009833
END:VEVENT
BEGIN:VEVENT
DTSTART;TZID=Europe/Warsaw:20240524T180000
DTEND;TZID=Europe/Warsaw:20240524T190000
DTSTAMP:20260423T012038
CREATED:20240524T093309Z
LAST-MODIFIED:20240524T095815Z
UID:10015975-1716573600-1716577200@kultura.tarnow.pl
SUMMARY:"Nie mogę na to patrzeć" Inka Rosocha
DESCRIPTION:Inka Rosocha – fotograficzka. Od lat osiemdziesiątych tworzy kampanie reklamowe\, fotografie dla magazynów i do książek\, a także do produkcji telewizyjnych i filmowych. Przez ostatnie lata wspierała swoimi pracami twórczość wybitnego grafika Wiesława Rosochy (zm. 2020 r.). Autorka znana z głębokiego zaangażowania społecznego i artystycznej wrażliwości. Stworzyła projekt\, który ma na celu zwrócenie uwagi na współczesne podziały społeczne i kryzysy. Artystka przez swoje fotografie tworzy „wspólnotę współodczuwania”\, łącząc ludzi o różnych perspektywach i uczuciach. Jej prace to lustrzane odzwierciedlenie uczuć wywołanych przez globalne problemy i osobiste doświadczenia. Na fotografiach zobaczymy ludzi kina\, znane aktorki i aktorów\, reżyserów. Eksponaty mają moc edukacyjną\, terapeutyczną i prospołeczną\, zachęcają do refleksji i obywatelskiej odwagi. \n„(…)patrząc na portrety wielu znanych i nieznanych ludzi ujawniających swoje emocje i postawy  – nie sposób pozostać obojętnym. I o to w tym projekcie chodzi. Bo zmienianie świata trzeba zacząć od uświadomienie sobie i wyrażenia naszych prawdziwych uczuć i potrzeb.”\nWojciech Eichelberger (Psychoterapeuta) \nZapraszamy na uroczyste otwarcie wystawy\, które odbędzie się 24 maja o godz. 18.00 w Galerii TCK z udziałem znanej artystki Inki Rosochy oraz wybitnego psychoterapeuty Wojciecha Eichelbergera.  \nMiejsce: Galeria TCK (Tarnów\, Rynek 5)\nEkspozycja: 25.05-8.06.2024 r. (pon.-pt. 10:00-18:00\, sb. 10:00-17:00)\nOrganizator: Tarnowskie Centrum Kultury
URL:https://kultura.tarnow.pl/wydarzenie/nie-moge-na-to-patrzec-inka-rosocha/
LOCATION:Tarnowskie Centrum Kultury\, Rynek 5\, Tarnów\, małopolskie\, 33-100\, Polska
CATEGORIES:wernisaże
ATTACH;FMTTYPE=image/jpeg:https://kultura.tarnow.pl/wp-content/uploads/e94c277d876d4d00b11501b97ff31251.jpeg
GEO:50.012155;20.9878542
X-APPLE-STRUCTURED-LOCATION;VALUE=URI;X-ADDRESS=Tarnowskie Centrum Kultury Rynek 5 Tarnów małopolskie 33-100 Polska;X-APPLE-RADIUS=500;X-TITLE=Rynek 5:geo:20.9878542,50.012155
END:VEVENT
BEGIN:VEVENT
DTSTART;TZID=Europe/Warsaw:20240524T190000
DTEND;TZID=Europe/Warsaw:20240524T203000
DTSTAMP:20260423T012038
CREATED:20220103T231637Z
LAST-MODIFIED:20240520T221856Z
UID:10015925-1716577200-1716582600@kultura.tarnow.pl
SUMMARY:"Płuca" - Duncan Macmillan
DESCRIPTION:„Płuca” to mądra\, aktualna\, niezwykle zabawna i bardzo wzruszająca opowieść o pokoleniu\, którym kieruje niepewność\, wątpliwości\, stres i strach przed rozpadem znanego świata\, o odpowiedzialności i dojrzewaniu do rodzicielstwa w czasach globalnego niepokoju\, terroryzmu i napiętych stosunków politycznych. Młodzi\, dobrze wykształceni bohaterowie Macmillana zdają sobie sprawę\, że w dobie zagrożeń środowiska i zmian klimatycznych decyzja o sprowadzeniu na świat nowego człowieka to duży krok dla ich związku\, ale jeszcze większy krok dla narażonej na zagładę planety. Muszą zweryfikować własne przekonania\, zmierzyć się z konsekwencjami swoich decyzji\, pokonać lęki\, podjąć ryzyko i przede wszystkim zawalczyć o miłość. Bo „Płuca” to także uniwersalna opowieść o miłości – niedoskonałej\, trudnej\, ale prawdziwej. Takiej\, od której brakuje tchu.
URL:https://kultura.tarnow.pl/wydarzenie/pluca-duncan-macmillan/2024-05-24/
LOCATION:Teatr im. L.Solskiego\, Mickiewicza 4\, Tarnów\, małopolskie\, 33-100\, Polska
CATEGORIES:spektakle
ATTACH;FMTTYPE=image/jpeg:https://kultura.tarnow.pl/wp-content/uploads/Teatr-Tarnow-spektakl-Pluca-Anna-Wieczur-Bluszcz-1.jpg
GEO:50.0159214;20.987504
X-APPLE-STRUCTURED-LOCATION;VALUE=URI;X-ADDRESS=Teatr im. L.Solskiego Mickiewicza 4 Tarnów małopolskie 33-100 Polska;X-APPLE-RADIUS=500;X-TITLE=Mickiewicza 4:geo:20.987504,50.0159214
END:VEVENT
BEGIN:VEVENT
DTSTART;TZID=Europe/Warsaw:20240524T203000
DTEND;TZID=Europe/Warsaw:20240524T223000
DTSTAMP:20260423T012038
CREATED:20240524T100144Z
LAST-MODIFIED:20240524T100144Z
UID:10015980-1716582600-1716589800@kultura.tarnow.pl
SUMMARY:Kino plenerowe "Tarapaty" 38TNF
DESCRIPTION:Kino plenerowe powraca do programu Tarnowskiej Nagrody Filmowej! Pierwszy seans pod chmurką zaplanowaliśmy razem ze Sponsorem Festiwalu:  Gemini Park Tarnów w piątek 24 maja (piątek)\, godzina 20:30. Wstęp bezpłatny.\nTo właśnie tam\, w plenerze przy galerii handlowej zobaczymy „TARAPATY” (reż. Marta Karwowska) – film przygodowy dla całej rodziny.⠀Bierzcie kocyki i dobry nastrój i spotkajmy się z dobrym kinem w plenerze.⠀O filmie:Przyjaźń to wcale nie jest taka prosta sprawa i Julka dobrze o tym wie. Ma 12 lat\, chodzi do szkoły z internatem i jeszcze nigdy nie miała prawdziwej przyjaciółki. Zaczynają się wakacje\, a razem z nimi kłopoty. Julka zamiast do rodziców w Kanadzie trafia do ciotki w Warszawie. W tej samej kamienicy mieszka Olek. Kiedy dzieciakom wpada w ręce plan prowadzący do skarbu\, zaczyna się przygoda. Na drodze do rozwiązania zagadki staje złodziejska szajka\, niania – nałogowa palaczka i podejrzany pożeracz cukierków. Nikt nie jest tym\, za kogo się podaje\, a wyścig z czasem trwa. Żeby wyjść cało z tej historii\, Julka musi pokonać nieufność i odważyć się na przyjaźń.\n\nTo nie jedyny seans w plenerze. Kolejne 4 projekcje zaplanowaliśmy przy Domu Kultury Westerplatte: 31 maja (piątek)\, 1 czerwca (sobota)\, 7 czerwca (piątek) oraz 8 czerwca (sobota).⠀Sprawdźcie\, co zagramy:  www.bit.ly/38TNF_KinoPlenerowe
URL:https://kultura.tarnow.pl/wydarzenie/kino-plenerowe-tarapaty-38tnf/
LOCATION:Gemini Park Tarnów\, ul. Nowodąbrowska 127\, Tarnów\, małopolskie\, 33-100\, Polska
CATEGORIES:filmy
ATTACH;FMTTYPE=image/jpeg:https://kultura.tarnow.pl/wp-content/uploads/441195514_976789364232183_1355513282847597349_n.jpg
GEO:50.0302506;21.0023811
X-APPLE-STRUCTURED-LOCATION;VALUE=URI;X-ADDRESS=Gemini Park Tarnów ul. Nowodąbrowska 127 Tarnów małopolskie 33-100 Polska;X-APPLE-RADIUS=500;X-TITLE=ul. Nowodąbrowska 127:geo:21.0023811,50.0302506
END:VEVENT
END:VCALENDAR