BEGIN:VCALENDAR
VERSION:2.0
PRODID:-//kultura.tarnów - ECPv6.4.0.1//NONSGML v1.0//EN
CALSCALE:GREGORIAN
METHOD:PUBLISH
X-ORIGINAL-URL:https://kultura.tarnow.pl
X-WR-CALDESC:Wydarzenia dla
REFRESH-INTERVAL;VALUE=DURATION:PT1H
X-Robots-Tag:noindex
X-PUBLISHED-TTL:PT1H
BEGIN:VTIMEZONE
TZID:Europe/Warsaw
BEGIN:DAYLIGHT
TZOFFSETFROM:+0100
TZOFFSETTO:+0200
TZNAME:CEST
DTSTART:20240331T010000
END:DAYLIGHT
BEGIN:STANDARD
TZOFFSETFROM:+0200
TZOFFSETTO:+0100
TZNAME:CET
DTSTART:20241027T010000
END:STANDARD
END:VTIMEZONE
BEGIN:VEVENT
DTSTART;TZID=Europe/Warsaw:20240517T150000
DTEND;TZID=Europe/Warsaw:20240517T200000
DTSTAMP:20260423T002648
CREATED:20240422T135153Z
LAST-MODIFIED:20240520T135409Z
UID:10015844-1715958000-1715976000@kultura.tarnow.pl
SUMMARY:"Świat zmysłów" - wystawa interaktywna
DESCRIPTION:Zapraszamy na wyjątkową wystawę interaktywną „Świat zmysłów”\, która otwiera przed zwiedzającymi drzwi do fascynującego świata ludzkich zmysłów. Przez prawie dwa miesiące odwiedzający mają niepowtarzalną okazję do osobistego zgłębiania tajników wzroku\, słuchu\, dotyku i zapachu poprzez bezpośrednią interakcję i doświadczanie. \nWystawa podzielona jest na trzy części\, każda z nich zaprojektowana\, by odkryć przed nami inne aspekty naszych zmysłów: \n\nReceptory: Poznajemy budowę i funkcje narządów zmysłów\, eksplorując ich kluczowe cechy.\nMono czy Stereo?: Zastanawiamy się\, jaką rolę odgrywa posiadanie pary oczu\, uszu\, czy rąk w postrzeganiu świata i jak różniłoby się nasze doświadczanie bez tej podwójności.\nIluzje: Odkrywamy\, jak nasze zmysły mogą nas wprowadzać w błąd\, ale również jak możemy manipulować zmysłami innych.\n\nKażda sekcja wystawy charakteryzuje się unikalną aranżacją kolorystyczną\, tworząc różnorodne tło dla eksperymentów. \nDlaczego warto odwiedzić? \nWystawa „Świat zmysłów” zapewnia unikalne doświadczenie dzięki 34 stanowiskom doświadczalnym\, które zachęcają do aktywnego uczestnictwa. Jest to zarówno źródło niezwykłej zabawy\, jak i głębokiej edukacji\, pozwalającej zrozumieć nie tylko otaczający nas świat\, ale i samych siebie. \nZapisy dla grup zorganizowanych: Dział Edukacji – tel. 14 633 46 11\n \nZwiedzanie indywidualne: poniedziałek – niedziela\, w godzinach 15:00 – 20:00 \nGrupy zorganizowane\, klasy szkolne: poniedziałek – piątek\, 9:00\, 10:00\, 11:00\, 12:00\, 13:00 (zwiedzanie trwa 45 min.) \nPartner wystawy: Uniwersytet Jagielloński w Krakowie \n 
URL:https://kultura.tarnow.pl/wydarzenie/swiat-zmyslow-wystawa-interaktywna/2024-05-17/
LOCATION:Centrum Sztuki Mościce\, Traugutta 1\, Tarnów\, małopolskie\, 33-101\, Polska
CATEGORIES:wystawy
ATTACH;FMTTYPE=image/jpeg:https://kultura.tarnow.pl/wp-content/uploads/img_c8bb757a3bfcb33b7fd02d7cdbd2e38f-1024x1024-1.jpeg
GEO:50.009833;20.92706
X-APPLE-STRUCTURED-LOCATION;VALUE=URI;X-ADDRESS=Centrum Sztuki Mościce Traugutta 1 Tarnów małopolskie 33-101 Polska;X-APPLE-RADIUS=500;X-TITLE=Traugutta 1:geo:20.92706,50.009833
END:VEVENT
BEGIN:VEVENT
DTSTART;TZID=Europe/Warsaw:20240517T170000
DTEND;TZID=Europe/Warsaw:20240517T180000
DTSTAMP:20260423T002648
CREATED:20240513T145403Z
LAST-MODIFIED:20240520T145732Z
UID:10015911-1715965200-1715968800@kultura.tarnow.pl
SUMMARY:„Albrecht Dürer – grafiki” otwarcie wystawy
DESCRIPTION:17.05.2024 roku o godzinie 17.00 w Muzeum Historii Tarnowa i Regionu\, Rynek 20-21\, nastąpi otwarcie wystawy: „Albrecht Dürer – grafiki” w ramach cyklu „Skarby Muzeum Ziemi Tarnowskiej”. \nAlbrecht Dürer (1471-1528)\, uważany jest na jednego z największych niemieckich malarzy\, grafików i rysowników. W kolekcji grafiki pochodzącej z pałacu książąt Sanguszków w Gumniskach (od 1945 roku w Muzeum Ziemi Tarnowskiej)\, przechowywanych jest kilkanaście rycin jego autorstwa. Są to drzeworyty z serii: „Wielka Pasja” z 1510 roku – 2 sztuki („Chrystus w otchłani”\, „Złożenie do grobu”) i „Mała Pasja” (1509-1511) – 4 sztuki („Chrystus opuszczający Matkę”\, „Ostatnia Wieczerza”\, „Zmartwychwstanie” oraz „Zesłanie Ducha Świętego”). Kolejne cykle reprezentuje w zbiorze 5 rycin z serii „Żywot Marii” \, a także pojedyncze sztychy „Św. Hieronim” i „Św. Rodzina”\, obydwa z 1511 roku. Prace artysty są sygnowane monogramem „AD”. Pierwotnie znajdowały się w pałacu w Sławucie\, należącym do ordynata zasławskiego Romana Damiana Sanguszki (1832-1917). Książe systematycznie\, od lat 60. XIX wieku\, tworzył swoją kolekcję\, głównie drogą zakupów antykwarycznych. Jego zbiór opatrzony okrągłą pieczęcią z napisem: „Biblioteka Romana Sanguszki”\, znacznie ucierpiał w czasie I i II wojny światowej. Znajdują się w nim grafiki ze szkoły niemieckiej\, niderlandzkiej\, włoskiej i angielskiej\, a także francuskiej\, z okresu od XVI do XVIII wieku. Wśród nich są także prace naśladowców Dürera wykonane w technice akwaforty\, współczesnych mu grafików\, m.in. Hieronymusa Hopfera: „Św. Hubert” i „Wielka armata”. Jak również działającego w Antwerpii Johannesa Wierixa „Św. Hieronim w celi” i „Adoracja Dzieciątka w stajence”. \nZe względu na charakter obiektów oraz ich stan zachowania prezentacja prac A. Dürera będzie ograniczona czasowo. Znaczące obostrzenia konserwatorskie\, pozwalają na eksponowanie ich tylko do 9 czerwca br. Wystawę będzie można zobaczyć w trakcie trwania tegorocznej Nocy Muzeów. Serdecznie Państwa zapraszamy! \nponiedziałek nieczynne\nwtorek 9.00 – 15.00\nśroda 9.00 – 15.00\nczwartek 9.00 – 15.00\npiątek 9.00 – 17.00\nsobota 10.00 – 15.00 (od 1 maja do 30 września); nieczynne (od 1 października do 30 kwietnia)\nniedziela 10.00 – 15.00 (od 1 maja do 30 września); 10.00 – 14.00 (od 1 października do 30 kwietnia) \nKuratorka wystawy: Barbara Bułdys \nWystawa czynna: 17 maja – 9 czerwca 2024 r. \n 
URL:https://kultura.tarnow.pl/wydarzenie/albrecht-durer-grafiki-otwarcie-wystawy/
LOCATION:Muzeum Historii Tarnowa i Regionu\, Rynek 20-21\, Tarnów\, małopolskie\, 33-100\, Polska
CATEGORIES:wernisaże
ATTACH;FMTTYPE=image/png:https://kultura.tarnow.pl/wp-content/uploads/baner-DURER.png
GEO:50.01295;20.9883
X-APPLE-STRUCTURED-LOCATION;VALUE=URI;X-ADDRESS=Muzeum Historii Tarnowa i Regionu Rynek 20-21 Tarnów małopolskie 33-100 Polska;X-APPLE-RADIUS=500;X-TITLE=Rynek 20-21:geo:20.9883,50.01295
END:VEVENT
BEGIN:VEVENT
DTSTART;TZID=Europe/Warsaw:20240517T170000
DTEND;TZID=Europe/Warsaw:20240517T183000
DTSTAMP:20260423T002648
CREATED:20240517T145746Z
LAST-MODIFIED:20240520T145925Z
UID:10015912-1715965200-1715970600@kultura.tarnow.pl
SUMMARY:Koncert "W hołdzie Lutosławskiemu"
DESCRIPTION:
URL:https://kultura.tarnow.pl/wydarzenie/koncert-w-holdzie-lutoslawskiemu/
LOCATION:Sala Koncertowa Zespołu Szkół Muzycznych\, Lippóczy’ego 4\, Tarnów\, małopolskie\, 33-100\, Polska
CATEGORIES:koncerty
ATTACH;FMTTYPE=image/jpeg:https://kultura.tarnow.pl/wp-content/uploads/Koncert-w-holdzie-1-Copy-724x1024-1.jpg
ORGANIZER;CN="Zesp%C3%B3%C5%82 Szk%C3%B3%C5%82 Muzycznych":MAILTO:szkola@zsmuz.tarnow.pl
GEO:50.0205582;20.9801972
X-APPLE-STRUCTURED-LOCATION;VALUE=URI;X-ADDRESS=Sala Koncertowa Zespołu Szkół Muzycznych Lippóczy’ego 4 Tarnów małopolskie 33-100 Polska;X-APPLE-RADIUS=500;X-TITLE=Lippóczy’ego 4:geo:20.9801972,50.0205582
END:VEVENT
BEGIN:VEVENT
DTSTART;TZID=Europe/Warsaw:20240517T170000
DTEND;TZID=Europe/Warsaw:20240517T233000
DTSTAMP:20260423T002648
CREATED:20240508T140018Z
LAST-MODIFIED:20240520T140613Z
UID:10015897-1715965200-1715988600@kultura.tarnow.pl
SUMMARY:Międzynarodowa Noc Muzeów 2024
DESCRIPTION:Zapraszają: Biuro Wystaw Artystycznych w Tarnowie\, Muzeum Ziemi Tarnowskiej\, Muzeum Diecezjalne w Tarnowie\, Parafia Katedralna w Tarnowie\, Komitet Opieki nad Zabytkami Kultury Żydowskiej w Tarnowie\, Tarnowskie Centrum Kultury\, Tarnowskie Towarzystwo Fotograficzne\, Tarnowskie Centrum Dialogu\, Centrum Sztuki Mościce\, Galeria Bema20\, Galeria Hortar\, Galeria ARTEKA\, Galeria-Figiel-Atelier\, Wydział Sztuki Akademii Tarnowskiej\, Liceum Sztuk Plastycznych w Tarnowie\, Tarnowskie Centrum Informacji; FILAR\, SZUMLAŃSKI\, ZACHARA\, KUSEK Adwokacka Spółka Partnerska. \n \n  \n11-19 maja 2024 \nKtóre miejsce odwiedziliście w czasie Nocy Muzeów w Tarnowie? Pokażcie i oznaczcie hasztagiem: #nocmuzeówtarnów \n\n9 dni\, 21 miejsc\, 43 wystawy\, 49 wydarzeń \nWystawy\, wernisaże\, spotkania z artystami\, koncert\, spacer\, kino plenerowe\, retro gry\, opowieści o duchach i dybukach oraz wiele niespodzianek! \nSOBOTA 11 maja \n19.00 \nKATEDRA\, pl. Katedralny 5 \nKoncert muzyki renesansu i romantyzmu / Józef Władysław Krogulski – Chłopięcy Chór Katedralny Pueri Cantores Tarnovienses / z okazji 500-lecia Domu Mikołajowskiego \nNIEDZIELA 12 maja \n 13.00 \nBIURO WYSTAW ARTYSTYCZNYCH / Multimedialne Centrum Artystyczne\, ul. Wałowa 25 \nWarsztaty kulinarne w stylu zero waste z ENO Tarnowskie (liczba miejsc ograniczona\, obowiązują zapisy: walowa25@bwa.tarnow.pl) \nPONIEDZIAŁEK 13 maja \n18.30 \nTARNOWSKIE CENTRUM KULTURY\, Rynek 5 \nWernisaże dzień po dniu: Krzysztof Madej\, Agnieszka Moskal \nWTOREK 14 maja \n18.30 \nTARNOWSKIE CENTRUM KULTURY\, Rynek 5 \nWernisaże dzień po dniu: Gosia Sikora\, Marek Tumiłowicz \nŚRODA 15 maja \n18.30 \nTARNOWSKIE CENTRUM KULTURY\, Rynek 5 \nWernisaże dzień po dniu: Bożena Kaczmarczyk\, Jarosław Wrona  \nCZWARTEK 16 maja \n17.00 \nGALERIA HORTAR\, ul. Legionów 32 \nProf. Marta Makarczuk „W pejzażu” – wernisaż (cykl „Rodziński i Przyjaciele”) \n18.30 \nTARNOWSKIE CENTRUM KULTURY\, Rynek 5 \nWernisaże dzień po dniu: Jan Pękala\, Gabriela Półkoszek \nPIĄTEK 17 maja \n16.00 \nMUZEUM ZIEMI TARNOWSKIEJ / SIEDZIBA\, Rynek 3 \nOprowadzanie kuratorskie po wystawie „Nośniki pamięci” – prace z kolekcji Małopolskiej Fundacji Muzeum Sztuki Współczesnej \n17.00 \nMUZEUM ZIEMI TARNOWSKIEJ / Muzeum Historii Tarnowa i Regionu\, Rynek 20-21 \nWernisaż wystawy „Albrecht Dürer – grafiki” (cykl „Skarby Muzeum Ziemi Tarnowskiej”) \n17.00-20.00 \nTARNOWSKIE CENTRUM DIALOGU / Willa Goldmanówka\, ul. Gumniska 30 \n18.00 i 19.00 – oprowadzanie po wystawie Jana Głuszaka Dagaramy \n17.00-22.00 \nLICEUM SZTUK PLASTYCZNYCH\, ul. Westwalewicza 6 \nNOC W PLASTYKU \n17.00-22.00 – kiermasz \n17.00 – warsztaty multimedialne dla dzieci i młodzieży (12+) \n18.00 — warsztaty dla dzieci „Zwierzęta w sztuce” \n18.00 i 19.00 — oprowadzanie po szkole (wystawy\, pracownie) \n19.30 — wernisaż wystawy prac Teresy Szafrańskiej \n20.00 — wernisaż wystawy prac Mai Natkaniec \n20.15 — wernisaż wystawy Oliwii Smoleń \n21.00 i 21.30 — Kino plenerowe: animacje z pracowni projektowania multimedialnego i projektowania graficznego – animacje dyplomowe \n18.00 \nWYDZIAŁ SZTUKI / Akademia Tarnowska\, ul. Mickiewicza 8\, dziedziniec budynku A (wejście od ul. Mickiewicza lub ul. Goldhammera) \nWernisaż wystawy plenerowej „Pomniki”; artyści/artystki: Agnieszka Bartak-Lisikiewicz\, Magdalena Burdzyńska\, Dorota Hadrian\, Antonina Janus-Szybist\, Kamil Kukla\, Kinga Nowak\, Łukasz Podolak\, Maja Starakiewicz\, Bożydar Tobiasz \nPo wernisażu live set Kamila Kukli \n18.30 \nTARNOWSKIE CENTRUM KULTURY\, Rynek 5 \nWernisaże dzień po dniu: Rafał Koścień\, Ewa Serafińska \nSOBOTA 18 maja \n9.00-22.00\nMUZEUM ZIEMI TARNOWSKIEJ / MUZEUM ETNOGRAFICZNE\, ul. Krakowska 10\n9.00-18.00\nVI Dzień Hetmański w Tarnowie (w programie m.in. turniej łuczniczy o „Buławę Hetmańską”\, korowód hetmański\, obozowisko średniowieczne\, udział grup rekonstrukcji historycznej\, pokazy i warsztaty rzemiosł dawnych)\n17.00-22.00\nWystawa stała\, wystawa czasowa „Kult maryjny w wierzeniach ludowych” \n15.00-22.00\nBIURO WYSTAW ARTYSTYCZNYCH / Pałacyk Strzelecki\, ul. Słowackiego 1\nKinga Nowak „Equinox”\n20.30 – „Lekcja rysunku na lodzie” – prezentacja filmu\, spotkanie z artystką Dorotą Kozieradzką i łyżwiarkami UKS Mors Dębica \n16.00-21.00 \nTARNOWSKIE CENTRUM KULTURY\, Rynek 5 \n16.00-18.00 – „Portret z przedmiotem” \n18.30 – wernisaż wystawy zbiorowej grupy otwARTej pracowni fotograficznej \n  \n17.00-22.00\nGALERIA HORTAR\, ul. Legionów 32\nWystawy: prof. Marta Makarczuk „W pejzażu” (cykl „Rodziński i Przyjaciele”)\, „Stanisław Rodziński – dobry duch”\, „Dekalog w obrazach” \n17.00-22.00\nCENTRUM SZTUKI MOŚCICE\, ul. Traugutta 1\nJacek Sroka „Komiks z mojego życia” – wystawa malarstwa \n„Świat zmysłów” – wystawa interaktywna \n„Książka dotykowa” – wystawa edukacyjna \nMichalina Madura-Motyka „Woman” (fotografia\, tryptyk) – Red Gallery \n„Poema naiwne” – Czesław Miłosz – wystawa plenerowa \n17.00-22.00\nFILAR\, SZUMLAŃSKI\, ZACHARA\, KUSEK Adwokacka Spółka Partnerska\, ul. Krakowska 11 (naprzeciwko Muzeum Etnograficznego)\, II piętro\nPrezentacja cyfrowej rekonstrukcji zamku na Górze św. Marcina – Michał Szumlański\, wystawa KURDYBANÓW\, wystawa malarstwa m.in. Maciej Zieliński \n17.00-22.00\nMUZEUM ZIEMI TARNOWSKIEJ / REGIONALNE CENTRUM EDUKACJI O PAMIĘCI\, ul. Mościckiego 29\nWystawa stała \nUdział Stowarzyszenia Rekonstrukcji Historycznej SRH im. 16 Pułku Piechoty\n18.00 – zajęcia edukacyjne „O Polsce\, Małopolsce i Tarnowie legenda opowie”\n20.00 – gra edukacyjna „Polska to my” \n17.00-22.00\nMUZEUM ZIEMI TARNOWSKIEJ / MUZEUM ZAMEK W DĘBNIE\, Dębno 189\nWystawa stała\, wystawa czasowa „Droga do świętości” oraz spotkanie z autorką – Moniką Koczwarą\, miniscenki poświęcone pracy zamkowej aptekarki/zielarki i kucharki\, powieści o najcenniejszych muzealiach\, muzyka fortepianowa na żywo \n18.00-23.00\nMUZEUM ZIEMI TARNOWSKIEJ / MUZEUM HISTORII TARNOWA I REGIONU\, Rynek 20-21\nWystawa stała\, wystawa czasowa „Albrecht Dürer – grafiki” (cykl „Skarby Muzeum Ziemi Tarnowskiej”)\, wystawa planszowa „Rząd na emigracji. Kancelaria poza krajem” (nt. materiałów związanych z działalnością rządu Ukraińskiej Republiki Ludowej w Tarnowie z lat 1917-1922 ze zbiorów Archiwum Narodowego w Krakowie)\, „Znajdź różnicę” – łamigłówka historyczna dla najmłodszych (liczba uczestników ograniczona)\, spotkanie z żołnierzem armii austro-węgierskiej – rekonstrukcja \n19.00 i 21.00 – miniwykład nt. historycznych polichromii w budynku w Muzeum Historii Tarnowa i Regionu (30 min) \n18.00-23.00\nMUZEUM ZIEMI TARNOWSKIEJ / MUZEUM RATUSZ – GALERIA SZTUKI DAWNEJ\, Rynek 1\nWystawa stała\, prezentacja replik obiektów historycznych\, zdjęcia portretowe w monidle\, wejście na wieżę (wstęp płatny) \n18.30-20.30 – dla najmłodszych – możliwość wykonania maszkarona \n18.00-23.00\nMUZEUM DIECEZJALNE\, pl. Katedralny 6 \n„Giganci sztuki i wiary” – Jacek Malczewski i Ks. Józef Bąba (Rok Jacka Malczewskiego) – wystawa czasowa \nGaleria sztuki gotyckiej – Akademiola \nSalon mieszczański – kolekcja Olgi Majewskiej – Dom Mansjonariuszy \nKolekcja numizmatów z św. Janem Pawłem II – dar kolekcjonerski Bronisława Usarza – Dom Mansjonariuszy \nAtrakcje w Domu Mikołajowskim z okazji 500-lecia istnienia – Dom Mikołajowski (1524-2024) \n18.00-1.00\nBEMA20\, ul. Bema 20\n18.00 – wernisaż wystawy „Retro wspomnienia i retro granie” i nocne granie z Tomkiem Boksą (retroage.net) m.in. na Atari\, Pegasus\, Nintendo\, PlayStation / Mario\, Pong\, River Raid\, Duck Hunt \n18.00-22.00\nGALERIA ARTEKA\, ul. Wałowa 16 \nAnna Śliwińska „Venus w mieście”\n19.00 – finisaż wystawy i performans „Trzy gracje” \n18.00-23.00 \nGALERIA-FIGIEL-ATELIER\, ul. Golhammera 2\, I piętro \nPiotr J. Figiel „O kobiecie – okiem mężczyzny” \n19.00-22.00\nBIURO WYSTAW ARTYSTYCZNYCH / Multimedialne Centrum Artystyczne\, ul. Wałowa 25\n„Detale architektoniczne Tarnowa” \n19.30 – finisaż wystawy fotografii; artyści/artystki: Monika Łabno\, Agnieszka Moskal\, Gabriela Półkoszek\, Ewa Serafińska\, Paweł Wadas\, Jarosław Wrona\, Dawid Żerda \n22.00-24.00\nCMENTARZ ŻYDOWSKI\, ul. Szpitalna\n22.00 – oprowadzanie z przewodnikiem \nZbiórka przy bramie cmentarza (organizator spaceru: Komitet Opieki nad Zabytkami Kultury Żydowskiej) \n19.00-21.30\nKATEDRA\, pl. Katedralny 5\nSpecjalnie otwarta Krypta Biskupów Tarnowskich\n19.30 – oprowadzanie po Katedrze \nNIEDZIELA 19 maja \n9.00-17.00 \nBIURO WYSTAW ARTYSTYCZNYCH / Dworzec PKP\, Pl. Dworcowy 4 \n„A Wy co macie na ścianie?” – wystawa prac z kolekcji Kingi i Marcina Mruków oraz prac z kolekcji Małopolskiej Fundacji Muzeum Sztuki Współczesnej \n12.00 – wernisaż \nWsparcie informacyjne dla zwiedzających\nTarnowskie Centrum Informacji\, Rynek 7\nPoniedziałek-piątek 8.00-18.00\nSobota-niedziela 9.00-17.00 \nSzczegóły wydarzeń: na stronach internetowych i w social mediach organizatorów\nOprawa graficzna: Bartłomiej Bałut \nTarnowską Noc Muzeów inicjuje i koordynuje Biuro Wystaw Artystycznych w Tarnowie.
URL:https://kultura.tarnow.pl/wydarzenie/miedzynarodowa-noc-muzeow-2024/2024-05-17/
LOCATION:małopolskie
CATEGORIES:festiwale
ATTACH;FMTTYPE=image/png:https://kultura.tarnow.pl/wp-content/uploads/fb_coverPhoto_page.png
ORGANIZER;CN="Biuro Wystaw Artystycznych":MAILTO:biuro@bwa.tarnow.pl
END:VEVENT
BEGIN:VEVENT
DTSTART;TZID=Europe/Warsaw:20240517T180000
DTEND;TZID=Europe/Warsaw:20240517T190000
DTSTAMP:20260423T002648
CREATED:20240507T145938Z
LAST-MODIFIED:20240520T150130Z
UID:10015913-1715968800-1715972400@kultura.tarnow.pl
SUMMARY:„Pomniki” –  wystawa plenerowa
DESCRIPTION:artystki/artyści: Agnieszka Bartak-Lisikiewicz\, Magdalena Burdzyńska\, Dorota Hadrian\, Antonina Janus-Szybist\, Kamil Kukla\, Kinga Nowak\, Łukasz Podolak\, Maja Starakiewicz\, Bożydar Tobiasz \nkuratorki: Agnieszka Bartak-Lisikiewicz\, Antonina Janus-Szybist\, Maja Starakiewicz \npatronat: BWA Tarnów\, Wydział Sztuki AT. Projekt realizowany w ramach grantów badawczych  na Wydziale Sztuki Akademii Tarnowskiej. \n„Pomniki” to seria obiektów w przestrzeni dziedzińca zabytkowego budynku Akademii Tarnowskiej. Poszczególne realizacje odnoszą się do wybranych\, podstawowych pojęć z obszaru sztuk wizualnych (linia\, plama\, rytm\, kontrast\, ruch\, kolor\, bryła\, punkt\, faktura) i są próbą redefinicji pojęcia oraz formy pomnika z jego tradycyjnie przypisanymi funkcjami: upamiętnienia\, docenienia\, uwznioślenia\, nadania rangi oraz stereotypowymi cechami: figury\, piedestału\, obelisku. \nUsytuowane w kilkukrotnie zmieniającej swoją funkcję przestrzeni – od koszar i szpitala wojskowego po siedzibę uczelni – „Pomniki” są pytaniem o wygląd przestrzeni publicznej oraz proces budowania zbiorowej tożsamości i pamięci – co i dlaczego w niej zachowujemy? Czy konwencjonalne i zbanalizowane formy pomnika spełniają jeszcze swoje funkcje? Gdzie przebiega granica pomiędzy dekoracją/bibelotem w przestrzeni publicznej a miejscem poruszenia/docenienia? Czy kategoria „pomnika” pozwala na posługiwanie się żartem? Czy możemy budować tożsamość miejsca poprzez obiekty o funkcji estetycznej? \nWspółczesne reinterpretacje klasycznych\, modernistycznych pojęć stanowią jednocześnie analizę tego\, na ile zachowują one swoją aktualność w obliczu ewolucji języka sztuki i dyskursów obecnych w sztuce najnowszej. Na ile są przydatne w obszarze edukacji sztuki? Jak dzisiejsi artyści definiują ich znaczenie? W jakich obszarach i w jakim wymiarze nastąpiły przesunięcia w rozumieniu ogólnie uznanych wartości i jak twórczo można je reinterpretować? \nProjekt odnosi się także do aktualnie toczących się dyskusji o roli sztuki i edukacji sztuki – banalny „upadek plastyki w szkołach podstawowych”\, „pomnikoza”\, słabe finansowanie instytucji kultury kontrastują z wizją sztuki jako czułego barometru społeczeństwa\, mogącego diagnozować i przepracowywać punkty zapalne\, traumy i zagrożenia\, prototypować i testować nowe ścieżki rozwoju. Wyniesienie na piedestał linii\, punktu\, koloru i rytmu jest także symbolicznym zaznaczeniem tej roli\, umiarkowanie poważnym hołdem dla wizualności jako takiej. \nAgnieszka Bartak-Lisikiewicz\, Antonina Janus-Szybist\, Maja Starakiewicz \nmiejsce: Akademia Tarnowska\, ul. Mickiewicza 8\, dziedziniec budynku A \nwernisaż: 17 maja godz.18.00 – wydarzenie w ramach Tarnowskiej Nocy Muzeów.  Po wernisażu live set Kamila Kukli. \nwystawa: 18 maja – 17 października 2024 \n  \n \n 
URL:https://kultura.tarnow.pl/wydarzenie/pomniki-wystawa-plenerowa/
LOCATION:Akademia Tarnowska\, ul. Mickiewicza 8\, Tarnów\, małopolskie\, 33-100\, Polska
CATEGORIES:wernisaże
ATTACH;FMTTYPE=image/jpeg:https://kultura.tarnow.pl/wp-content/uploads/POMNIKI-EVENT.jpg
ORGANIZER;CN="Akademia Tarnowska":MAILTO:ans@anstar.edu.pl
GEO:50.016759;20.991
X-APPLE-STRUCTURED-LOCATION;VALUE=URI;X-ADDRESS=Akademia Tarnowska ul. Mickiewicza 8 Tarnów małopolskie 33-100 Polska;X-APPLE-RADIUS=500;X-TITLE=ul. Mickiewicza 8:geo:20.991,50.016759
END:VEVENT
BEGIN:VEVENT
DTSTART;TZID=Europe/Warsaw:20240517T183000
DTEND;TZID=Europe/Warsaw:20240517T193000
DTSTAMP:20260423T002648
CREATED:20240424T112659Z
LAST-MODIFIED:20240520T113901Z
UID:10015801-1715970600-1715974200@kultura.tarnow.pl
SUMMARY:Anna Śliwińska "Venus w mieście\, palimpsest bon mot"
DESCRIPTION:
URL:https://kultura.tarnow.pl/wydarzenie/anna-sliwinska-venus-w-miescie-palimpsest-bon-mot/2024-05-17/
LOCATION:Galeria ARTEKA\, Wałowa 16\, Tarnów\, 33-100
CATEGORIES:wernisaże,wystawy
ATTACH;FMTTYPE=image/jpeg:https://kultura.tarnow.pl/wp-content/uploads/435896506_349940784743014_1395422508547572056_n.jpg
END:VEVENT
BEGIN:VEVENT
DTSTART;TZID=Europe/Warsaw:20240517T190000
DTEND;TZID=Europe/Warsaw:20240517T210000
DTSTAMP:20260423T002648
CREATED:20170520T150140Z
LAST-MODIFIED:20240520T150448Z
UID:10015914-1715972400-1715979600@kultura.tarnow.pl
SUMMARY:"Ikebana" Marcin Skóra
DESCRIPTION:Czy można żyć\, gdy straciło się wszystkich bliskich\, w tym ukochaną córkę?\nCzy można żyć\, gdy nie wiadomo kto zabił twoje dziecko?\nCzy można żyć\, gdy wszyscy oni wmawiają ci\, że to ty zrobiłaś?\nDwóch reżyserów\, jedna aktorka.\nCzy jedna?\nNa scenie Matylda Anna Baczyńska w duszach Ewy Złej Nowickiej.\nZobaczmy\, czy można.\nSztuka dedykowana tarnowskiemu reżyserowi Marcinowi Wronie.\nSpektakl dla widzów od 18 roku życia.
URL:https://kultura.tarnow.pl/wydarzenie/ikebana-marcin-skora/2024-05-17/
LOCATION:Teatr im. L.Solskiego\, Mickiewicza 4\, Tarnów\, małopolskie\, 33-100\, Polska
CATEGORIES:spektakle
ATTACH;FMTTYPE=image/jpeg:https://kultura.tarnow.pl/wp-content/uploads/IKEBANA-A4-717x1024-1.jpg
GEO:50.0159214;20.987504
X-APPLE-STRUCTURED-LOCATION;VALUE=URI;X-ADDRESS=Teatr im. L.Solskiego Mickiewicza 4 Tarnów małopolskie 33-100 Polska;X-APPLE-RADIUS=500;X-TITLE=Mickiewicza 4:geo:20.987504,50.0159214
END:VEVENT
END:VCALENDAR