BEGIN:VCALENDAR
VERSION:2.0
PRODID:-//kultura.tarnów - ECPv6.4.0.1//NONSGML v1.0//EN
CALSCALE:GREGORIAN
METHOD:PUBLISH
X-WR-CALNAME:kultura.tarnów
X-ORIGINAL-URL:https://kultura.tarnow.pl
X-WR-CALDESC:Wydarzenia dla
REFRESH-INTERVAL;VALUE=DURATION:PT1H
X-Robots-Tag:noindex
X-PUBLISHED-TTL:PT1H
BEGIN:VTIMEZONE
TZID:Europe/Warsaw
BEGIN:DAYLIGHT
TZOFFSETFROM:+0100
TZOFFSETTO:+0200
TZNAME:CEST
DTSTART:20240331T010000
END:DAYLIGHT
BEGIN:STANDARD
TZOFFSETFROM:+0200
TZOFFSETTO:+0100
TZNAME:CET
DTSTART:20241027T010000
END:STANDARD
END:VTIMEZONE
BEGIN:VEVENT
DTSTART;TZID=Europe/Warsaw:20240509T080000
DTEND;TZID=Europe/Warsaw:20240509T150000
DTSTAMP:20260424T154450
CREATED:20240418T135713Z
LAST-MODIFIED:20240517T140645Z
UID:10015760-1715241600-1715266800@kultura.tarnow.pl
SUMMARY:"Grafika" wystawa prac pracowników Wydziału Grafiki ASP
DESCRIPTION:
URL:https://kultura.tarnow.pl/wydarzenie/grafika-wystawa-prac-pracownikow-wydzialu-grafiki-asp/2024-05-09/
LOCATION:Galeria Liceum Sztuk Plastycznych\, Westwalewicza 6\, Tarnów\, małopolskie\, 33-100\, Polska
CATEGORIES:warsztaty
GEO:50.0118085;20.9938879
X-APPLE-STRUCTURED-LOCATION;VALUE=URI;X-ADDRESS=Galeria Liceum Sztuk Plastycznych Westwalewicza 6 Tarnów małopolskie 33-100 Polska;X-APPLE-RADIUS=500;X-TITLE=Westwalewicza 6:geo:20.9938879,50.0118085
END:VEVENT
BEGIN:VEVENT
DTSTART;TZID=Europe/Warsaw:20240509T080000
DTEND;TZID=Europe/Warsaw:20240509T150000
DTSTAMP:20260424T154450
CREATED:20240423T113141Z
LAST-MODIFIED:20240520T113516Z
UID:10015785-1715241600-1715266800@kultura.tarnow.pl
SUMMARY:Dyplomy 2024 w LSP
DESCRIPTION:DYPLOMY 2024\nWystawa prac dyplomowych uczniów Liceum Sztuk Plastycznych w Tarnowie\nSpecjalizacje\, aneksy. \n26 kwietnia – 9 maja 2024\nwernisaż: 26 kwietnia\, godz. 17.00\nLSP Tarnów\nul. Westwalewicza 6
URL:https://kultura.tarnow.pl/wydarzenie/dyplomy-2024-w-lsp/2024-05-09/
LOCATION:Galeria Liceum Sztuk Plastycznych\, Westwalewicza 6\, Tarnów\, małopolskie\, 33-100\, Polska
CATEGORIES:wystawy
ATTACH;FMTTYPE=image/png:https://kultura.tarnow.pl/wp-content/uploads/PLAKAT_dyplomy_24_BWA_LSP.-1-727x1024-1.png
GEO:50.0118085;20.9938879
X-APPLE-STRUCTURED-LOCATION;VALUE=URI;X-ADDRESS=Galeria Liceum Sztuk Plastycznych Westwalewicza 6 Tarnów małopolskie 33-100 Polska;X-APPLE-RADIUS=500;X-TITLE=Westwalewicza 6:geo:20.9938879,50.0118085
END:VEVENT
BEGIN:VEVENT
DTSTART;TZID=Europe/Warsaw:20240509T080000
DTEND;TZID=Europe/Warsaw:20240509T170000
DTSTAMP:20260424T154450
CREATED:20240507T131455Z
LAST-MODIFIED:20240520T131639Z
UID:10015819-1715241600-1715274000@kultura.tarnow.pl
SUMMARY:Jak widzisz wiersz?
DESCRIPTION:Nabór otwarty na ilustracje do pierwszego tomiku poetyckiego Dom.Ku \nPrzygotowujemy pierwszy tomik z poezją! Wiersze\, które się tam znajdą były prezentowane podczas tegorocznego Dżemu poetyckiego. Żeby wzbogacić przekaz poezji\, uruchamiamy nabór na ilustracje do wierszy! Przeczytaj teksty i pokaż – jak widzisz wiersz? \nIlustracje w można przygotować w dowolnej technice\, cyfrowo lub manualnie. Nabór jest przeznaczony dla młodzieży szkół średnich\, wyższych a także dorosłych. Wiersze do zilustrowania i regulamin naboru udostępniamy na FB i na stronie TCK. \nWybrane ilustracje zostaną opublikowane wraz z nazwiskami autorów. Tomik udostępnimy do pobrania za darmo. Wszelkich informacji udziela Dorota Omylska tel. 888 655 101. Na ilustracje czekamy do końca maja 2024. Przesyłajcie je na adres: westerplatte@tck.pl \n  \n 
URL:https://kultura.tarnow.pl/wydarzenie/jak-widzisz-wiersz/2024-05-09/
LOCATION:Dom Kultury Westerplatte 8a\, Westerplatte 8a\, Tarnów\, Polska - małopolskie\, 33-100\, Polska
CATEGORIES:warsztaty
ORGANIZER;CN="Dom Kultury Westerplatte 8a":MAILTO:westerplatte@tck.pl
GEO:50.0273033;21.0087361
X-APPLE-STRUCTURED-LOCATION;VALUE=URI;X-ADDRESS=Dom Kultury Westerplatte 8a Westerplatte 8a Tarnów Polska - małopolskie 33-100 Polska;X-APPLE-RADIUS=500;X-TITLE=Westerplatte 8a:geo:21.0087361,50.0273033
END:VEVENT
BEGIN:VEVENT
DTSTART;TZID=Europe/Warsaw:20240509T090000
DTEND;TZID=Europe/Warsaw:20240509T130000
DTSTAMP:20260424T154450
CREATED:20211201T143257Z
LAST-MODIFIED:20240520T133712Z
UID:10015833-1715245200-1715259600@kultura.tarnow.pl
SUMMARY:"Mity greckie. Wyprawa po ambrozję" - Tomasz Man
DESCRIPTION:8\, 9 maja (środa\, czwartek) godz. 9.00 i 11.00 oraz 10 maja (piątek) godz. 9.00 Duża Scena \nHelenka wyrusza w podróż do świata bohaterów mitów greckich\, by zdobyć pokarm bogów – ambrozję\, która może wyleczyć jej chorą mamę. W czasie wyprawy u boku Posejdona mała bohaterka wiele się nauczy i spotka całą plejadę olimpijskich bogów i bogiń. Szybko przekona się\, że mityczni bohaterowie wcale nie są idealni\, ale bardzo ludzcy: mają swoje kaprysy\, słabostki\, lubią się bawić\, bywają zazdrośni\, zdarza im się dokuczać sobie nawzajem. Kolejne etapy niezwykłej podróży Helenki komentuje chór złożony z greckich kolumn. Twórcy spektaklu z dużą dozą humoru bawią się mitologicznymi motywami. „Mity greckie” mają charakter rockowego musicalu z piosenkami i muzyką na żywo. Spektakl będzie niezapomnianą przygodą dla dzieci i nie tylko. \nAutor: Tomasz Man\nReżyseria i muzyka: Tomasz Man\nScenografia i kostiumy: Anetta Piekarska-Man\nChoreografia i ruch sceniczny: Artur Dobrzański\nPrzygotowanie wokalne: Kamil Dominiak\nAsystent reżysera: Tomasz Wiśniewski\nInspicjentka\, suflerka: Krystyna Fudyma \n 
URL:https://kultura.tarnow.pl/wydarzenie/mity-greckie-wyprawa-po-ambrozje-tomasz-man/2024-05-09/
LOCATION:Teatr im. L.Solskiego\, Mickiewicza 4\, Tarnów\, małopolskie\, 33-100\, Polska
CATEGORIES:spektakle
ATTACH;FMTTYPE=image/jpeg:https://kultura.tarnow.pl/wp-content/uploads/Mity-www-ns-1.jpg
GEO:50.0159214;20.987504
X-APPLE-STRUCTURED-LOCATION;VALUE=URI;X-ADDRESS=Teatr im. L.Solskiego Mickiewicza 4 Tarnów małopolskie 33-100 Polska;X-APPLE-RADIUS=500;X-TITLE=Mickiewicza 4:geo:20.987504,50.0159214
END:VEVENT
BEGIN:VEVENT
DTSTART;TZID=Europe/Warsaw:20240509T110000
DTEND;TZID=Europe/Warsaw:20240509T170000
DTSTAMP:20260424T154450
CREATED:20230424T102333Z
LAST-MODIFIED:20230424T102333Z
UID:10014268-1715252400-1715274000@kultura.tarnow.pl
SUMMARY:Surrealizm – Salvador Dali i inni
DESCRIPTION:Artyści: Krystyna Baniowska\, Piotr Barszczowski\, Piotr Bubak\, Stanisław Chmiel\, Ewa Fleszar\, Roman Fleszar\, Weronika Fleszar\, Mateusz Kijak\, Kazimierz Klimkiewicz\, Stanisław Kucharzyk\, Elżbieta Pazera\, Witold Pazera\, Michał Poręba\, Elżbieta Remian\, Piotr Rączka\, Jerzy Ruszel\, Anna Śliwińska\, Kazimierz Twardowski\, Grzegorz Wójcik\, Aleksandra Zuba-Benn \nSłowo SUR – to NA\, np.: sur la table – na stole. SURREALIZM – NADREALIZM\, zorganizowany ruch intelektualny pierwszej ćwierci XX wieku powstały we Francji. Surrealiści przyjęli ten termin w hołdzie dla G. Apollinaire`a\, który pierwszy użył tego sformułowania w 1918 roku w podtytule swojej sztuki\, nadając ruchowi nowy sens. Wyrastał on z doświadczeń\, przeżyć i przemyśleń związanych z I wojną światową\, a wywodził się z dadaizmu. Jednym z dążeń surrealizmu było pełne wyzwolenie osobowości człowieka\, pojęte jako ujawnienie jego ukrytych sił\, pragnień i marzeń\, zepchniętych w podświadomość przez rozum i rozsądek\, ogólnie przyjęte zasady obyczajowe i moralne. \nMANIFEST SURREALIZMU w 1924 roku napisał – ogłosił Andre BRETON\, początkowo odnosił się do literatury\, szybko jednak zainteresowali się nim twórcy innych dziedzin sztuki – wspaniałym przykładem są tu artyści malarze\, graficy. MANIFEST otworzył prawo do mówienia o nadrzędności przestrzeni na pograniczu snu i jawy. Artyści szukali metod i sposobu na wyrażenie idei tego nowego ruchu\, środki jakimi się posługiwali przedstawiały elementy rzeczywistości ujęte w nadrealny\, fantastyczny sposób. Obrazy były zapisem ze snów\, urojeń\, stanów delirycznych\, czy wszelkich czynności wykonywanych bez kontroli rozumu. Elementy rzeczywistości miały wymykać się logice\, rewolucjonizować życie codzienne…..obiekty i przedmioty\, nawet człowiek\, powinny znaleźć się w innych bytach\, przejść transformację\, np: ”człowiek jest ucieleśnionym deszczem”\, inny zaś z młotem\, lub ma jabłko zamiast głowy\, otwierający drzwi których nie ma……. a jak czytać istoty ciekłe z waty\, z wężowych skór\, upierzone drzewa\, zwierzęta niesione wiatrem\, modelowane z piasku. Surrealizm to miejsce spotkań najróżniejszych obiektów pochodzących z odmiennych kontekstów\, gdzie wszystko nabiera nowych nieoczekiwanych znaczeń……. np.: ”człowiek klatka schodowa\, człowiek litera\, ogryziona kość\, kropka\, strzęp\, kula\, człowiek trumna\, piszczałka\, sznurówka\, bagaż\, mgła i człowiek osad”\, a książka która gryzie ręce albo kłuje w oczy – tu przedmiot został wyzwolony i stał się wampirem\, książka dostaje przeciwstawną do swojej nową naturę. Bretonowskie ”puszczenie w obieg” przedmiotów dla wielu artystów stało się inspiracją do dania im nowego życia. Aktywność rzeczy dotychczas martwych\, obiektów nieuzależnionych od kontroli rozumu to niewyczerpane źródło tematów\, np.: ”wiatr upadł twarzą na ziemię”\, krzak śpiewa psalm”\, powietrze\, woda\, ziemia\, ogień\, barany\, smoki\, stwory złożone z mieczy\, igieł\, sztyletów. Do dziś wielu artystów korzysta i odwołuje się do postulowanego przez Bretona ”modelu wewnętrznego” czyli poszukiwania w sferze podświadomości\, jak to się dzieje\, mamy to każdego dnia: reklama\, teledyski\, wideoklipy. Nie ulega wątpliwości\, że surrealizm\, nie tylko twórcom\, ale i odbiorcom otworzył nowe obszary wyobraźni. \nKrystyna Baniowska Stąsiek Meyer (Wstęp do katalogu wystawy) \n 
URL:https://kultura.tarnow.pl/wydarzenie/surrealizm-salvador-dali-i-inni/2024-05-09/
LOCATION:Galeria ARTEKA\, Wałowa 16\, Tarnów\, 33-100
CATEGORIES:wystawy
ORGANIZER;CN="Stowarzyszenie Tarnowskich Artyst%C3%B3w Plastyk%C3%B3w":MAILTO:stowarzyszenie.arteka@gmail.com
END:VEVENT
BEGIN:VEVENT
DTSTART;TZID=Europe/Warsaw:20240509T170000
DTEND;TZID=Europe/Warsaw:20240509T183000
DTSTAMP:20260424T154450
CREATED:20240507T134346Z
LAST-MODIFIED:20240520T135141Z
UID:10015836-1715274000-1715279400@kultura.tarnow.pl
SUMMARY:ANNA ZIOBRO – spotkanie autorskie
DESCRIPTION:Miejska Biblioteka Publiczna w Tarnowie zaprasza na spotkanie autorskie\, które odbędzie się 9 maja br. (czwartek) o godzinie 17:00 w Filii nr 8 MBP przy ul. Traugutta 1 (w budynku Centrum Sztuki Mościce). Będziemy gościć autorkę powieści obyczajowej z Rzeszowa – Annę Ziobro. Spotkanie poprowadzi Agnieszka Popardowska. Będzie również możliwość zakupu publikacji autorki. \n  \nAnna Ziobro\nRzeszowianka\, pracuje jako tłumacz i korektor tekstów. Fascynuje ją słowo pisane w każdej postaci\, dlatego nie wyobraża sobie życia bez laptopa i książek. Jej przygoda z pisaniem rozpoczęła się od wierszy\, których w domowym archiwum posiada blisko setkę. Najlepiej odpoczywa w górach. Tam też poszukuje inspiracji. Lubi obserwować świat i rozmawiać z ludźmi\, choć ma duszę samotnika. W dorobku ma powieści beletrystyczne zaliczane do literatury obyczajowej m.in.: „Brakujący obrazek”\, „Tysiąc kawałków” i „Ostatnia tajemnica”. \n 
URL:https://kultura.tarnow.pl/wydarzenie/anna-ziobro-spotkanie-autorskie/
LOCATION:Filia nr 8 Miejskiej Biblioteki Publicznej im. J. Słowackiego\, ul. Traugutta 1\, Tarnów\, małopolskie\, 33-100\, Polska
CATEGORIES:spotkania
ATTACH;FMTTYPE=image/jpeg:https://kultura.tarnow.pl/wp-content/uploads/Ziobro_plakat-724x1024-1.jpg
GEO:50.009833;20.92706
X-APPLE-STRUCTURED-LOCATION;VALUE=URI;X-ADDRESS=Filia nr 8 Miejskiej Biblioteki Publicznej im. J. Słowackiego ul. Traugutta 1 Tarnów małopolskie 33-100 Polska;X-APPLE-RADIUS=500;X-TITLE=ul. Traugutta 1:geo:20.92706,50.009833
END:VEVENT
BEGIN:VEVENT
DTSTART;TZID=Europe/Warsaw:20240509T183000
DTEND;TZID=Europe/Warsaw:20240509T193000
DTSTAMP:20260424T154450
CREATED:20240424T112659Z
LAST-MODIFIED:20240520T113901Z
UID:10015795-1715279400-1715283000@kultura.tarnow.pl
SUMMARY:Anna Śliwińska "Venus w mieście\, palimpsest bon mot"
DESCRIPTION:
URL:https://kultura.tarnow.pl/wydarzenie/anna-sliwinska-venus-w-miescie-palimpsest-bon-mot/2024-05-09/
LOCATION:Galeria ARTEKA\, Wałowa 16\, Tarnów\, 33-100
CATEGORIES:wernisaże,wystawy
ATTACH;FMTTYPE=image/jpeg:https://kultura.tarnow.pl/wp-content/uploads/435896506_349940784743014_1395422508547572056_n.jpg
END:VEVENT
END:VCALENDAR